BEGIN:VCALENDAR
VERSION:2.0
PRODID:-//ccnatacao - ECPv6.15.17//NONSGML v1.0//EN
CALSCALE:GREGORIAN
METHOD:PUBLISH
X-ORIGINAL-URL:https://ccnatacao.com.br
X-WR-CALDESC:Eventos para ccnatacao
REFRESH-INTERVAL;VALUE=DURATION:PT1H
X-Robots-Tag:noindex
X-PUBLISHED-TTL:PT1H
BEGIN:VTIMEZONE
TZID:America/Sao_Paulo
BEGIN:STANDARD
TZOFFSETFROM:-0300
TZOFFSETTO:-0300
TZNAME:-03
DTSTART:20220101T000000
END:STANDARD
END:VTIMEZONE
BEGIN:VEVENT
DTSTART;TZID=America/Sao_Paulo:20230325T080000
DTEND;TZID=America/Sao_Paulo:20230325T170000
DTSTAMP:20260422T200116
CREATED:20230325T014809Z
LAST-MODIFIED:20230404T221002Z
UID:393-1679731200-1679763600@ccnatacao.com.br
SUMMARY:Circuito Correr e Nadar - Etapa de Zimbros - SC
DESCRIPTION:Confira os resultados:\n\n\n\nÁguas Abertas em SC\n\n\nZimbros 26/Mar 3k 1.5k 600m 200m kids – 2ª Edição\n\n\n:: Natação Masculino 3.6K\n\n\nCol.\nCategoria\nTempo\nPto\nAtleta\nEquipe\n\n\n1\n20 – 24 anos\n00:46:10\n30\nCristian Machado\nClube Curitibano\n\n\n2\n50 – 54 anos\n00:54:42\n26\nAlexandre Cataldo Lopes\nChicão Tri Team / Blumenau Águas Abertas\n\n\n3\n40 – 44 anos\n00:57:10\n24\nBernardo De Castro Wanderley\nClube Curitibano\n\n\n4\n45 – 49 anos\n00:57:15\n22\nNorton Frehse Nicolazzi Junior\nItamirim Novos Cielos Nadar\n\n\n5\n35 – 39 anos\n01:01:24\n20\nFilipe Fernandes Baptista\nClube Curitibano\n\n\n6\n45 – 49 anos\n01:02:31\n18\nJoão Carlos Sorgi\nClube Curitibano\n\n\n7\n40 – 44 anos\n01:04:08\n16\nBruno Calegari Canalli\nClube Curitibano\n\n\n8\n16 – 19 anos\n01:06:12\n14\nPedro Manoel Moreira da Silva\nPeixinho Azul\n\n\n9\n55 – 59 anos\n01:06:54\n12\nLeopoldino S. De Abreu Bisneto\nClube Curitibano\n\n\n10\n40 – 44 anos\n01:07:19\n10\nMarcos Rubik\nCírculo Militar Do Paraná\n\n\n11\n50 – 54 anos\n01:07:28\n8\nLuis Claudio Maciel Tinoco\nTreino travessias\n\n\n12\n65 – 69 anos\n01:10:11\n6\nCarlos Andre Guimaraes Pangracio\nClube Curitibano\n\n\n13\n30 – 34 anos\n01:13:36\n4\nAntonio Jose Sucha\nSucha\n\n\n14\n35 – 39 anos\n01:13:38\n2\nGabriel João Diego Moes Messias\nAcademia Bonja / Acredicoop\n\n\n15\n50 – 54 anos\n01:15:13\n1\nMarcos Vinicius Cavichiolo Bussmann\nClube Curitibano\n\n\n16\n55 – 59 anos\n01:15:19\n1\nPaulo D Assumpcao Zaniol\nClube Curitibano\n\n\n17\n35 – 39 anos\n01:19:48\n1\nRichard Romanosque\nCapivara\n\n\n18\n45 – 49 anos\n01:21:09\n1\nDaniel Seara Schlichting\nPower Assessoria Esportiva\n\n\n19\n11 – 12 anos\n01:21:37\n1\nGabryel Denk\nMorgenau\n\n\n20\n45 – 49 anos\n01:21:59\n1\nWilson Isfer Filho\nClube Curitibano\n\n\n21\n50 – 54 anos\n01:25:42\n1\nPedro Paulo Frello\nSanta Swimmers\n\n\n22\n30 – 34 anos\n01:25:52\n1\nPaulo Henrique Carvalho\nHidrasul\n\n\n23\n40 – 44 anos\n01:33:23\n1\nFabricio Gomes\nWlopes Team\n\n\n24\n45 – 49 anos\n01:49:25\n1\nRicardo de Oliveira Vendite\nVendite\n\n\n:: Natação Masculino 1.8K\n\n\nCol.\nCategoria\nTempo\nPto\nAtleta\nEquipe\n\n\n1\n40 – 44 anos\n00:28:12\n30\nLauro Diavan Fruet\nClube Curitibano\n\n\n2\n45 – 49 anos\n00:28:48\n26\nMoacyr Guedes Junior\nLira Tênis Clube de Florianópolis\n\n\n3\n35 – 39 anos\n00:30:34\n24\nRodrigo Firmo Ribeiro\nSwimmer Pro Brasil\n\n\n4\n40 – 44 anos\n00:31:52\n22\nGuilherme Hamati\nClube Curitibano\n\n\n5\n40 – 44 anos\n00:32:02\n20\nRicardo Pacheco\nClube Curitibano\n\n\n6\n55 – 59 anos\n00:32:51\n18\nSergio Chiesa\nClube Curitibano / Bpm Assessoria\n\n\n7\n13 – 15 anos\n00:32:53\n16\nVictor Willy Creatini Stobaus\nAcademia Bonja / Acredicoop\n\n\n8\n50 – 54 anos\n00:33:07\n14\nCesar A. C. Feres\nClube Curitibano\n\n\n9\n40 – 44 anos\n00:33:39\n12\nMarkus Alperstedt\nLira Tenis Clube\n\n\n10\n45 – 49 anos\n00:34:14\n10\nOdirlei Garcia Do Nascimento\nCírculo Militar Do Paraná\n\n\n11\n50 – 54 anos\n00:34:57\n8\nFabio Creatini Stobaus\nStobaus\n\n\n12\n11 – 12 anos\n00:35:25\n6\nHenrique de Macedo Martynychen\nClube Curitibano\n\n\n13\n13 – 15 anos\n00:35:29\n4\nErico Furlani\nAcademia Blue Water\n\n\n14\n40 – 44 anos\n00:35:50\n2\nLeandro Furlani\nAcademia Blue Water\n\n\n15\n55 – 59 anos\n00:35:55\n1\nNelson Perfeito Junior\nWlopes Team\n\n\n16\n60 – 64 anos\n00:36:30\n1\nMário Jorge da Costa Monteiro\nClube Curitibano\n\n\n17\n11 – 12 anos\n00:37:19\n1\nPedro Henrique Garlet\nAcademia Bonja / Acredicoop\n\n\n18\n50 – 54 anos\n00:39:24\n1\nFarlei Mannes\nMannes\n\n\n19\n35 – 39 anos\n00:39:32\n1\nFelipe Aranega\nClube Curitibano\n\n\n20\n35 – 39 anos\n00:39:36\n1\nDaniel Almeida Fagundes\nAdhering – Marilda\n\n\n21\n35 – 39 anos\n00:40:22\n1\nRafael Lemos da Silveira\nBalman Performance / Izabella Sabino\n\n\n22\n55 – 59 anos\n00:40:48\n1\nPaulo Sergio Marthaus\nAcademia Gustavo Borges\n\n\n23\n50 – 54 anos\n00:41:22\n1\nEdgard França Neto\nCorrer e Nadar\n\n\n24\n65 – 69 anos\n00:42:00\n1\nLuiz Henrique da Cunha Telles\nGb Curitiba\n\n\n25\n40 – 44 anos\n00:42:59\n1\nAlexandre Leipnitz\nAcqua Mundi Academia\n\n\n26\n35 – 39 anos\n00:43:02\n1\nAllan Vinicius Pires\nWlopes Team\n\n\n27\n45 – 49 anos\n00:43:08\n1\nEduardo Meinel Boehme\nBlumenau Águas Abertas / Team Noguez\n\n\n28\n45 – 49 anos\n00:43:22\n1\nJesse Geraldo Arriola Junior\nTriax\n\n\n29\n55 – 59 anos\n00:44:12\n1\nJosé Carlos Mainhardt\nMain\n\n\n30\n25 – 29 anos\n00:44:20\n1\nJoão Vitor Ubaldo\nAcademia Blue Water\n\n\n31\n30 – 34 anos\n00:44:48\n1\nJorge Luis de Ramos Filho\nEscolinha da Tia Iza\n\n\n32\n75+\n00:45:04\n1\nHélio Ideriha\nLira Tênis Clube de Florianópolis\n\n\n33\n65 – 69 anos\n00:45:45\n1\nRoberto Carlos Theodoro Becher\nBraçada a Braçada – Natação Guaratuba\n\n\n34\n16 – 19 anos\n00:49:17\n1\nCaio Furlani\nAcademia Blue Water\n\n\n35\n45 – 49 anos\n00:50:39\n1\nDavid Cheriegate\nSion Equipe Travessias\n\n\n36\n30 – 34 anos\n01:06:19\n1\nEdson Ubaldo\nAcademia Blue Water\n\n\n:: Natação Masculino 600m\n\n\nCol.\nCategoria\nTempo\nPto\nAtleta\nEquipe\n\n\n1\n09 – 10 anos\n00:11:12\n30\nGabriel Isaías dos Santos Fleck\nItamirim Novos Cielos Nadar\n\n\n2\n11 – 12 anos\n00:12:43\n26\nErnesto Marques Konfidera\nApan – Chapecó\n\n\n3\n09 – 10 anos\n00:13:04\n24\nIgor Gouvea\nProjeto Nadar Itajai\n\n\n4\n20 – 24 anos\n00:13:10\n22\nEduardo Martins\nAcademia Blue Water\n\n\n5\n40 – 44 anos\n00:13:21\n20\nMarcos Delon Carneiro\nAcademia H2O\n\n\n6\n13 – 15 anos\n00:13:49\n18\nJose Roberto Susin\nRobótica Laboratórios\n\n\n7\n09 – 10 anos\n00:14:47\n16\nNorton Frehse Nicolazzi Neto\nItamirim Novos Cielos Nadar\n\n\n8\n50 – 54 anos\n00:15:00\n14\nDivonzir Correa da Maia\nClube Curitibano\n\n\n9\n65 – 69 anos\n00:15:36\n12\nRyoji Ota\nChacara Colonia Cacatu\n\n\n10\n40 – 44 anos\n00:16:24\n10\nBruno Carvalho da Gama\nIndividual\n\n\n11\n40 – 44 anos\n00:20:12\n8\nGuilherme Luis Felipi\nPlanet Running\n\n\n:: Natação Masculino Kids 200m\n\n\nCol.\nCategoria\nTempo\nPto\nAtleta\nEquipe\n\n\n1\n13 – 15 anos\n00:03:06\n30\nBraian Luiz Reinke\nFelipi\n\n\n2\n09 – 10 anos\n00:03:49\n26\nLorenzo de Borba Angeli\nAcademia Blue Water\n\n\n3\n07 – 08 anos\n00:04:15\n24\nVitor Araújo Rubik\nRubuk\n\n\n4\n07 – 08 anos\n00:04:30\n22\nPaulo Vinicius da Silva\nAcademia Blue Water\n\n\n:: Natação Feminino 3.6K\n\n\nCol.\nCategoria\nTempo\nPto\nAtleta\nEquipe\n\n\n1\n35 – 39 anos\n01:04:37\n30\nAna Thereza de Pauli Jorge\nClube Curitibano\n\n\n2\n35 – 39 anos\n01:10:15\n26\nMarcella Diedrichs Pimpao\nClube Curitibano\n\n\n3\n55 – 59 anos\n01:10:46\n24\nElisabete Narciso\nClube Curitibano\n\n\n4\n40 – 44 anos\n01:14:58\n22\nStella de Bortoli\nAlexandre Kirilos Águas Abertas\n\n\n5\n45 – 49 anos\n01:15:10\n20\nCarolina Basgal\nClube Curitibano\n\n\n6\n55 – 59 anos\n01:18:58\n18\nKatia Beatriz Schuhmacher Fischer\nSão Bento Clube de Natação\n\n\n7\n13 – 15 anos\n01:20:11\n16\nNathalia Cristine Pedrozo da Silva\nBenefit Araucária / Alexandre Kirilos Águas Abertas\n\n\n8\n50 – 54 anos\n01:25:41\n14\nSandra Gaya Oliveira de Amorim\nCph Open Water / Thales\n\n\n9\n45 – 49 anos\n01:29:59\n12\nClaudia Scavazza\nClube Curitibano\n\n\n10\n40 – 44 anos\n01:30:49\n10\nDanilla Icassatti Corazza\nPamonhas Vamoindinho\n\n\n11\n50 – 54 anos\n01:34:27\n8\nIsabel Cristina Roza\nRoza\n\n\n12\n65 – 69 anos\n01:34:47\n6\nVera Beatriz Rebello\nCph Open Water / Thales\n\n\n13\n45 – 49 anos\n01:35:27\n4\nClotilde Valente\nSanta Swimmers\n\n\n14\n45 – 49 anos\n01:35:32\n2\nSamanta Lopes Berge\nSotália\n\n\n15\n65 – 69 anos\n01:46:11\n1\nVânia da Luz Alves Cordeiro\nNado Livre\n\n\n16\n45 – 49 anos\n02:00:50\n1\nCristiane Machado Trannin\nAcademia Bonja / Acredicoop\n\n\n17\n30 – 34 anos\n02:11:50\n1\nMayara Daiane de Palma\nSanta Swimmers\n\n\n:: Natação Feminino 1.8K\n\n\nCol.\nCategoria\nTempo\nPto\nAtleta\nEquipe\n\n\n1\n45 – 49 anos\n00:34:42\n30\nJuliana Seixas Piloto\nClube Curitibano\n\n\n2\n55 – 59 anos\n00:35:17\n26\nMaria Cristina G S Sigwalt\nClube Curitibano\n\n\n3\n20 – 24 anos\n00:36:07\n24\nMaria Eduarda Theis Florencio\nAcademia Blue Water\n\n\n4\n30 – 34 anos\n00:36:10\n22\nCarolina de Medeiros Silvestre\nSwimmer Pro Brasil\n\n\n5\n45 – 49 anos\n00:36:47\n20\nMaria Luciana dos Reis Ramos\nBalman Performance / Izabella Sabino\n\n\n6\n40 – 44 anos\n00:39:07\n18\nElisangela Zakrzewski\nZakrzewski\n\n\n7\n30 – 34 anos\n00:39:28\n16\nMarília de Oliveira Sant Ana Baluta\nBalman Performance / Izabella Sabino\n\n\n8\n55 – 59 anos\n00:39:34\n14\nIsabella Fanaya De Souza Mayrhofer\nClube Curitibano\n\n\n9\n45 – 49 anos\n00:40:45\n12\nCecília Yomi Okuyama\nFme Bc\n\n\n10\n50 – 54 anos\n00:41:25\n10\nSuzana Iwersen\nClube Curitibano\n\n\n11\n55 – 59 anos\n00:41:32\n8\nVanessa Braga Costa\nClube Curitibano\n\n\n12\n45 – 49 anos\n00:42:49\n6\nAndria Dickow Sato\nSwimex\n\n\n13\n40 – 44 anos\n00:43:53\n4\nMariel Muraro\nSwimex\n\n\n14\n35 – 39 anos\n00:44:50\n2\nReila Tainá Mendes\nSwimex\n\n\n15\n55 – 59 anos\n00:45:02\n1\nGianella Riephoff\nRiephoff\n\n\n16\n40 – 44 anos\n00:49:34\n1\nMichelle Gironda Cabrera\nSwimex\n\n\n17\n40 – 44 anos\n00:51:32\n1\nAna Claudia Santano\nBalman Performance / Izabella Sabino\n\n\n18\n50 – 54 anos\n00:51:36\n1\nMayli Colla\nBalman Performance / Izabella Sabino\n\n\n19\n40 – 44 anos\n00:54:48\n1\nRenata Garani Fernandes Bertling\nCapivara\n\n\n20\n45 – 49 anos\n00:55:05\n1\nLuciane Knelsen\nKnelsen\n\n\n21\n75+\n01:08:40\n1\nMaricelma Knopfholz\nClube Curitibano\n\n\n:: Natação Feminino 600m\n\n\nCol.\nCategoria\nTempo\nPto\nAtleta\nEquipe\n\n\n1\n13 – 15 anos\n00:11:21\n30\nMaria Cardim Martins\nAcademia Gustavo Borges\n\n\n2\n35 – 39 anos\n00:13:25\n26\nNatália Fracaro Lombardi Asinelli\nBalman Performance / Izabella Sabino\n\n\n3\n40 – 44 anos\n00:13:27\n24\nTatiana Portela Silva\nBalman Performance / Izabella Sabino\n\n\n4\n11 – 12 anos\n00:13:32\n22\nLetícia Pacheco\nClube Curitibano\n\n\n5\n40 – 44 anos\n00:13:46\n20\nRachel Rebello Parizzi\nCph Open Water / Thales\n\n\n6\n50 – 54 anos\n00:14:02\n18\nMara Lucia Huçulak\nBalman Performance / Izabella Sabino\n\n\n7\n25 – 29 anos\n00:14:25\n16\nAngela Karina Vivi Costa\nSanta Swimmers\n\n\n8\n13 – 15 anos\n00:15:09\n14\nJulia Correa Vendite\nVendite\n\n\n9\n40 – 44 anos\n00:15:11\n12\nAndreia Aparecida Barbiero\nAcademia Be Happy\n\n\n10\n40 – 44 anos\n00:16:55\n10\nAdriana Maria Rodrigues\nRodrigues\n\n\n11\n45 – 49 anos\n00:18:06\n8\nJanine Posal Marques Konfidera\nKonfidera\n\n\n12\n25 – 29 anos\n00:19:06\n6\nLara Roberta Botão\nBotão\n\n\n13\n30 – 34 anos\n00:20:19\n4\nNianque Vivian Doria\nAcademia H2O\n\n\n14\n45 – 49 anos\n00:20:38\n2\nMarisa Aparecida Dias\nAcademia H2O\n\n\n15\n45 – 49 anos\n00:21:12\n1\nMarcia J Ferst\nSanta Swimmers Team\n\n\n16\n25 – 29 anos\n00:21:56\n1\nFrancieli Aparecida Dressler\nSanta Swimmers\n\n\n17\n75+\n00:24:23\n1\nIrene Sommer Bittencourt\nClube Curitibano\n\n\n:: Natação Feminino Kids 200m\n\n\nCol.\nCategoria\nTempo\nPto\nAtleta\nEquipe\n\n\n1\n11 – 12 anos\n00:02:58\n30\nZara Furlani\nAcademia Blue Water\n\n\n2\n09 – 10 anos\n00:03:25\n26\nGabriela Borges Duarte\nAcademia H2O\n\n\n3\n11 – 12 anos\n00:03:30\n24\nYasmin de Oliveira Luiz\nYasmin\n\n\n4\n11 – 12 anos\n00:03:35\n22\nIsadora Xavier\nIsa\n\n\n5\n09 – 10 anos\n00:06:47\n20\nIsadora Rossi dos Santos\nAcademia Blue Water\n\n\nPCD\n\n\nÁguas Abertas em SC\n\n\nZimbros 26/Mar 3k 1.5k 600m 200m kids – 2ª Edição\n\n\n:: Natação Masculino 1.8K\n\n\nCol.\nCategoria\nTempo\nPto\nAtleta\nEquipe\n\n\n1\n40 – 44 anos\n01:18:26\n30\nJose Valcir de Sousa (Pcd)\nJoinville Natação Gt / Cepe\n\n\n\nProgramação\n\nSEXTA-FEIRA E SÁBADO\n– Entrega antecipada do kit/chip\n– Das 18hs as 20hs\n– Rua Gralha Azul 548 Bombas\, esquina com avenida fragata \nDOMINGO:\n07:00: Concentração e entrega de chip/kit no local de prova\n– 3.6k 1.8K 600m encerra as 7:55\n– 200m encerra as 10:00\n07:45: Chamada para a largada 600m\, iremos a pé até o local de largada\n07:55: Chamada para a largada 1.8K\n08:00: Largada 1.8K masculino\n08:01: Largada 1.8K feminino\n08:05: Largada 600m\n08:30: Largada 3.6K masculino\n08:31: Largada 3.6K feminino\n09:30: Premiação – iício com 1.8k\, 600m 3.6k e 200m nessa ordem (tentaremos o máximo antecipar a entrega de todas as provas)\n10:15: Chamada para a largada 200m\n10:30: Largada 200m – largada flex\, pode adiantar em 1.5hs pois depende da prova de 3K (pais\, coordenadores e técnicos podem entrar na água\, mas não podem conduzir\, puxar e arrastar as crianças dentro da água\, sendo este motivo para desclassificação). Não é permitido nadar com boia inflável de braço. Colete é permitido. \nPREMIAÇÃO:\nTroféu para os 5 primeiros no geral masculino e feminino 3.6K 1.8K 600m Kids 200m\nTroféu para os 3 primeiros por categoria masculino e feminino 3.6K 1.8K 600m Kids 200m\nTroféu para os 5 primeiros por categoria PCD masculino e feminino 3.6K 1.8K 600m\nMedalha para todos os inscritos
URL:https://ccnatacao.com.br/evento/circuito-correr-e-nadar-etapa-de-zimbros-sc/
CATEGORIES:Master,Todas
ATTACH;FMTTYPE=image/jpeg:https://ccnatacao.com.br/wp-content/uploads/2023/03/zimbros.jpg
END:VEVENT
END:VCALENDAR