BEGIN:VCALENDAR
VERSION:2.0
PRODID:-//ccnatacao - ECPv6.15.17//NONSGML v1.0//EN
CALSCALE:GREGORIAN
METHOD:PUBLISH
X-WR-CALNAME:ccnatacao
X-ORIGINAL-URL:https://ccnatacao.com.br
X-WR-CALDESC:Eventos para ccnatacao
REFRESH-INTERVAL;VALUE=DURATION:PT1H
X-Robots-Tag:noindex
X-PUBLISHED-TTL:PT1H
BEGIN:VTIMEZONE
TZID:America/Sao_Paulo
BEGIN:STANDARD
TZOFFSETFROM:-0300
TZOFFSETTO:-0300
TZNAME:-03
DTSTART:20220101T000000
END:STANDARD
END:VTIMEZONE
BEGIN:VEVENT
DTSTART;TZID=America/Sao_Paulo:20231212T080000
DTEND;TZID=America/Sao_Paulo:20231216T190000
DTSTAMP:20260421T145320
CREATED:20230710T132050Z
LAST-MODIFIED:20231205T181518Z
UID:1572-1702368000-1702753200@ccnatacao.com.br
SUMMARY:Campeonato Brasileiro Júnior e Sênior
DESCRIPTION:Os Campeonatos Brasileiros Interclubes Júnior – Troféu Julio de Lamare – e Sênior – Troféu Daltely Guimarães – serão realizados nas piscinas do Clube de Regatas Flamengo\, Rio de Janeiro nos dias 12 a 16 de Dezembro de 2023. \n\n\n\nProgramação\n\n\n\n11 de Dezembro – Segunda-feira\n\n\n\n\n08h20 Encontro no Aeroporto Internacional Afonso Pena\n\n\n\n\nVoo Azul AD 2958 10h25 \n\n\n\nPrevisão de chegada ao Rio de Janeiro as 11h50 \n\n\n\n17 de Dezembro – Domingo\n\n\n\n\n11h20 Saída com destino ao Aeroporto Santos Dumont\n\n\n\n\nVoo Azul AD 4679 14h00 \n\n\n\nPrevisão de chegada em Curitiba as 15h35 \n\n\n\nHospedagem e Alimentação\n\n\n\nPetit Rio Hotel – Rua Arthur Bernardes\, 39 – Catete\, Rio de Janeiro – (21) 2225-7767 \n\n\n\nObservações \n\n\n\n\nOs atletas deverão comparecer com 02h00 de antecedência\, ou seja\, às 08h25\, no balcão da azul do aeroporto Internacional Afonso Pena\, devidamente uniformizados;\n\n\n\nTodos deverão levar carteirinha do plano de saúde e carteira de identidade (original)\, sem a qual não poderão viajar e participar do Evento;\n\n\n\nAs despesas com alimentação durante o trajeto da viagem (ida e volta) serão de responsabilidade do atleta;\n\n\n\n\nComissão Técnica\n\n\n\nSabrina Valente – Administrativo (41 98410-5075) \n\n\n\nKen Hamada Sorgi – Técnico (41 98854-4101) \n\n\n\nMarcos Roberto Balliana – Técnico (41 99215-9357) \n\n\n\nMariana Prosdócimo – Técnica (41 99914-1922) \n\n\n\nAndrey Paixão – Biomecânico (41 99984-43830) \n\n\n\nMerli Cristina Felisbino – Fisioterapeuta (41 99937-6310) \n\n\n\nJeferson Fernandes Alves – Preparador Físico (41 99506-1594) \n\n\n\nAtletas\n\n\n\nArthur Almeida Pinheiro \n\n\n\n\n100 e 200 Metros Borboleta\n\n\n\n50\, 100 e 200 Metros Livre\n\n\n\n\nBreno Garcia Santana \n\n\n\n\n100 e 200 Metros Peito\n\n\n\n200 Metros Medley \n\n\n\n\nCauê Glück \n\n\n\n\n50\,100\, 200\,400\, 800 e 1500 Metros Livre\n\n\n\n\nJoão Victor Monteiro Santos Cury \n\n\n\n\n100 e 200 Metros Borboleta\n\n\n\n100 e 200 Metros Livre\n\n\n\n\nLeonardo Brandt de Macedo \n\n\n\n\n200\, 400\, 800 e 1500 Metros Livre\n\n\n\n\nLeonardo Laurindo de Souza Netto \n\n\n\n\n100 e 200 Metros Peito\n\n\n\n200 e 400 Metros Medley\n\n\n\n\nLorenzo Belich Rigolino \n\n\n\n\n100 Metros Borboleta\n\n\n\n50 e 100 Metros Livre\n\n\n\n\nLucca Cruz Tonin \n\n\n\n\n100 e 200 Metros Costas\n\n\n\n100 Metros Borboleta\n\n\n\n50 Metros Livre\n\n\n\n\nMurilo Braga Amatuzzi \n\n\n\n\n100 e 200 Metros Peito\n\n\n\n200 e 400 Metros Medley\n\n\n\n400 Metros Livre\n\n\n\n\nThais Mariany Bortolazzi \n\n\n\n\n200\, 400\, 800 e 1500 Metros Livre\n\n\n\n\nVinicius Oliveira da Cruz \n\n\n\n\n50\,100 e 200 Metros Livre\n\n\n\n100 Metros Borboleta\n\n\n\n\nAntonio Ivanski Sabedotti \n\n\n\n\n100 Metros Peito\n\n\n\n100 Metros Borboleta\n\n\n\n200 Metros Medley\n\n\n\n50 Metros Livre\n\n\n\n100 Metros Costas\n\n\n\n\nBruno Crestani Trevisan \n\n\n\n\n100 Metros Costas\n\n\n\n100 Metros Borboleta\n\n\n\n50 e 100 Metros Livre\n\n\n\n\nGiulia Salesi Chicon \n\n\n\n\n200\,400\, 800 e 1500 Metros Livre\n\n\n\n200 Metros Medley\n\n\n\n\nMarcos Gabriel Daurizio \n\n\n\n\n200 e 400 Metros Medley\n\n\n\n400 Metros Livre\n\n\n\n200 METROS PEITO\n\n\n\n200 Metros Costas\n\n\n\n\nMariana Fonseca Zefa de Faria \n\n\n\n\n200\,400 e 800 Metros Livre\n\n\n\n100 e 200 Metros Costas\n\n\n\n200 Metros Medley\n\n\n\n\nOussama Sahnoune \n\n\n\n\n50 e 100 Metros Livre\n\n\n\n\nVinicius Montyeiro Viebrantz \n\n\n\n\n50\, 100 e 200 Metros Livre\n\n\n\n\n\n\n\n\n100 % DE INVESTIMENTO DO CLUBE CURITIBANO
URL:https://ccnatacao.com.br/evento/brasileiro-junior-senior-2023/
LOCATION:Clube de Regatas Flamengo\, Av. Borges de Medeiros\, 997 - Gávea\, Rio de Janeiro\, RJ\, 22430-041\, Brasil
CATEGORIES:Junior,Senior
ATTACH;FMTTYPE=image/jpeg:https://ccnatacao.com.br/wp-content/uploads/2023/07/Flamengo.jpg
END:VEVENT
END:VCALENDAR