BEGIN:VCALENDAR
VERSION:2.0
PRODID:-//ccnatacao - ECPv6.15.17//NONSGML v1.0//EN
CALSCALE:GREGORIAN
METHOD:PUBLISH
X-ORIGINAL-URL:https://ccnatacao.com.br
X-WR-CALDESC:Eventos para ccnatacao
REFRESH-INTERVAL;VALUE=DURATION:PT1H
X-Robots-Tag:noindex
X-PUBLISHED-TTL:PT1H
BEGIN:VTIMEZONE
TZID:America/Sao_Paulo
BEGIN:STANDARD
TZOFFSETFROM:-0300
TZOFFSETTO:-0300
TZNAME:-03
DTSTART:20220101T000000
END:STANDARD
END:VTIMEZONE
BEGIN:VEVENT
DTSTART;TZID=America/Sao_Paulo:20230704T080000
DTEND;TZID=America/Sao_Paulo:20230708T180000
DTSTAMP:20260421T232358
CREATED:20230406T114435Z
LAST-MODIFIED:20230419T114719Z
UID:816-1688457600-1688839200@ccnatacao.com.br
SUMMARY:Campeonato Brasileiro de Inverno Junior e Sênior
DESCRIPTION:A Confederação Brasileira de Desportos Aquáticos – CBDA – e a Federação Baiana de Desportos Aquáticos – PBDA – spromoverá o Campeonato Brasileiro JÚNIOR de Natação de INVERNO\, em disputa do “TROFÉU DR. TANCREDO NEVES”\, de 4 a 8 de Julho de 2023.O local da competição foi alterado pela CBDA em 18 de Abril de 2023 paqra outra piscina em Salvador.Confira o Boletim Oficial. \n\n\no_1gubannol1vvl1hil1miio69sesb
URL:https://ccnatacao.com.br/evento/campeonato-brasileiro-de-inverno-junior-e-senior/
LOCATION:Nova Piscina Olímpica da Bahia\, Av. Mario Leal Ferreira - Engenho Velho de Brotas\, Salvador\, BA\, 40301-110\, Brasil
CATEGORIES:Junior,Senior
ATTACH;FMTTYPE=image/jpeg:https://ccnatacao.com.br/wp-content/uploads/2023/04/bahia-nova-piscina-olimpica.jpg
END:VEVENT
END:VCALENDAR