BEGIN:VCALENDAR
VERSION:2.0
PRODID:-//ccnatacao - ECPv6.15.17//NONSGML v1.0//EN
CALSCALE:GREGORIAN
METHOD:PUBLISH
X-ORIGINAL-URL:https://ccnatacao.com.br
X-WR-CALDESC:Eventos para ccnatacao
REFRESH-INTERVAL;VALUE=DURATION:PT1H
X-Robots-Tag:noindex
X-PUBLISHED-TTL:PT1H
BEGIN:VTIMEZONE
TZID:America/Sao_Paulo
BEGIN:STANDARD
TZOFFSETFROM:-0300
TZOFFSETTO:-0300
TZNAME:-03
DTSTART:20220101T000000
END:STANDARD
END:VTIMEZONE
BEGIN:VEVENT
DTSTART;TZID=America/Sao_Paulo:20230819T090000
DTEND;TZID=America/Sao_Paulo:20230819T190000
DTSTAMP:20260423T122113
CREATED:20230523T222617Z
LAST-MODIFIED:20230712T141819Z
UID:1329-1692435600-1692471600@ccnatacao.com.br
SUMMARY:4ª Etapa Meeting PR/SC - Etapa Florianóplolis
DESCRIPTION:A 4ª Etapa do Meeting Paraná/Santa Catarina de Natação acontecerá no Clube 12 de Agosto\, em Florianópolis no dia 19 de Agosto de 2023. \n\n\n\nMEETING PARANÁ/SANTA CATARINA MASTER DE NATAÇÃO – 4ª ETAPA / CLUBE DOZE DE AGOSTO – TROFÉU “ANDRÉ ROGER HENRI BOUTIQUE”. \n\n\n\nDATA: 19 de agosto de 2023 às 12h00 \n\n\n\nLOCAL: Clube Doze de Agosto – Florianópolis/SC \n\n\n\nA inscrição deverá ser realizada diretamente pelo atleta\, de forma online\, no site: https://www.abmn.org.br/inscricao-on-line/ \n\n\n\nNÃO FAZER PAGAMENTO À ASSOCIAÇÃO MASTER. \n\n\n\nComo benefício da Equipe Master\, o pagamento das inscrições será realizado pelo Clube Curitibano. \n\n\n\nPortanto\, o comprovante da inscrição deverá ser encaminhado para pagamento à Secretaria de Natação\, no e-mail luane.caminha@clubecuritibano.com.br\, até o dia 04/08 (sexta-feira)\, juntamente com a opção de transporte coletivo com a equipe.  \n\n\n\nO transporte e a presença de técnico ficam condicionados a participação de mais de 10 atletas que participem da competição.  \n\n\n\nEnviaremos um e-mail confirmando o recebimento\, e\, de acordo com a quantidade de atletas\, a presença de técnico e o transporte. Caso isso não ocorra\, o atleta deverá entrar em contato com a Secretaria até a data estipulada para inscrição\, 04 agosto (sexta-feira). \n\n\n\nObs.1: Em caso de ausência na competição\, após o pagamento da inscrição\, o Clube reservará o direito de emitir um boleto para que efetuem a devolução do valor pago e não utilizado. \n\n\n\nObs.2: O benefício só é válido para os atletas que estiverem vinculados à Equipe Master em 2023\, com o cadastro em dia junto à Secretaria de Natação\, incluindo toda documentação e atestado médico. \n\n\n\n\nPROG-PROVAS-4-ETAPA-2023-1
URL:https://ccnatacao.com.br/evento/4a-etapa-meeting-pr-sc-florianoplolis/
LOCATION:Clube 12 de Agosto\, Florianópolis\, SC\, Brasil
CATEGORIES:Master
ATTACH;FMTTYPE=image/jpeg:https://ccnatacao.com.br/wp-content/uploads/2023/05/Meeting-4-Floripa.jpeg
ORGANIZER;CN="Associa%C3%A7%C3%A3o Master Parana":MAILTO:MOREL@ONDA.COM.BR
END:VEVENT
END:VCALENDAR