BEGIN:VCALENDAR
VERSION:2.0
PRODID:-//ccnatacao - ECPv6.15.17//NONSGML v1.0//EN
CALSCALE:GREGORIAN
METHOD:PUBLISH
X-WR-CALNAME:ccnatacao
X-ORIGINAL-URL:https://ccnatacao.com.br
X-WR-CALDESC:Eventos para ccnatacao
REFRESH-INTERVAL;VALUE=DURATION:PT1H
X-Robots-Tag:noindex
X-PUBLISHED-TTL:PT1H
BEGIN:VTIMEZONE
TZID:America/Sao_Paulo
BEGIN:STANDARD
TZOFFSETFROM:-0300
TZOFFSETTO:-0300
TZNAME:-03
DTSTART:20220101T000000
END:STANDARD
END:VTIMEZONE
BEGIN:VEVENT
DTSTART;TZID=America/Sao_Paulo:20231209T080000
DTEND;TZID=America/Sao_Paulo:20231210T130000
DTSTAMP:20260422T095502
CREATED:20230710T133402Z
LAST-MODIFIED:20230802T141741Z
UID:1574-1702108800-1702213200@ccnatacao.com.br
SUMMARY:Rei e Rainha do Mar
DESCRIPTION:DATA: 09 e 10 de dezembro de 2023 \n\n\n\nLOCAL: Posto 5 – Copacabana/RJ \n\n\n\nDISTÂNCIAS: Open 500M\, Sprint 1K\, Classic 2\,5K e Challenge 5K \n\n\n\nSegue informações sobre a participação da Equipe Master de Natação:  \n\n\n\n\nA inscrição deverá ser realizada diretamente pelo atleta\, de forma online\, no site: https://www.ticketsports.com.br/e/circuito-rei-e-rainha-do-mar-2023-35381r.com.br/\n\n\n\nPara essa competição o atleta efetua o pagamento\, encaminha a confirmação e o comprovante de pagamento e seus dados bancários via e-mail para Secretaria de Natação (luane.caminha@clubecuritibano.com.br)\, até o dia 06/12\, para receber o reembolso do Clube após a realização do evento.\n\n\n\nO clube fará o reembolso do valor da inscrição referente ao valor do primeiro lote R$ 170\,00.\n\n\n\nCada atleta é responsável por seu transporte e hospedagem\, não havendo transporte coletivo ou subsídio para transporte particular.\n\n\n\nA presença do técnico fica condicionada ao número de atletas inscritos.\n\n\n\nComo já é de conhecimento\, o Clube se responsabiliza pela taxa de inscrição dos atletas nas competições. Desta forma\, em caso de ausência do atleta na competição\, não haverá reembolso de custos.\n\n\n\nO subsídio de inscrição só será aplicado para os atletas que estiverem em dia com a documentação e atestado médico junto à Secretaria de Natação\, e cumprirem os critérios de participação na equipe.\n\n\n\nAtenção a necessidade de atestado médico. A organização só aceitará atestados médicos emitidos dentro do prazo de 180 dias.
URL:https://ccnatacao.com.br/evento/rei-e-rainha-do-mar-2023/
LOCATION:Copacabana – Posto 5\, Av. Atlântica S/N\, Rio de Janeiro\, RJ\, 22070001\, Brasil
CATEGORIES:Águas Abertas,Master,Todas
ATTACH;FMTTYPE=image/jpeg:https://ccnatacao.com.br/wp-content/uploads/2023/07/rei-e-rainha-do-mar.jpg
ORGANIZER;CN="Rei e Rainha do Mar":MAILTO:contato@reierainhadomar.com.br
END:VEVENT
END:VCALENDAR