BEGIN:VCALENDAR
VERSION:2.0
PRODID:-//ccnatacao - ECPv6.15.17//NONSGML v1.0//EN
CALSCALE:GREGORIAN
METHOD:PUBLISH
X-ORIGINAL-URL:https://ccnatacao.com.br
X-WR-CALDESC:Eventos para ccnatacao
REFRESH-INTERVAL;VALUE=DURATION:PT1H
X-Robots-Tag:noindex
X-PUBLISHED-TTL:PT1H
BEGIN:VTIMEZONE
TZID:America/Sao_Paulo
BEGIN:STANDARD
TZOFFSETFROM:-0300
TZOFFSETTO:-0300
TZNAME:-03
DTSTART:20220101T000000
END:STANDARD
END:VTIMEZONE
BEGIN:VEVENT
DTSTART;TZID=America/Sao_Paulo:20231001T070000
DTEND;TZID=America/Sao_Paulo:20231001T130000
DTSTAMP:20260422T130246
CREATED:20230710T125105Z
LAST-MODIFIED:20230905T221316Z
UID:1555-1696143600-1696165200@ccnatacao.com.br
SUMMARY:3a Etapa Circuito FDAP de Águas Abertas
DESCRIPTION:Inscrições disponíveis!! Prazo de inscrição 24/09.\n\n\n\n \n\n\n\n3ª Etapa do Circuito Paranaense de Águas Abertas 2023 \n\n\n\nEstá se aproximando mais uma etapa do Circuito Paranaense de Águas Abertas! \n\n\n\nNesta edição\, o evento se entrelaçará com os Jogos de Aventura e Natureza\, destacando a aguardada etapa Corredor das Águas. Esta jornada é uma realização da Paraná Esporte\, com o valioso apoio da Federação de Desportos Aquáticos do Paraná. \n\n\n\nO evento oferecerá competições nas distâncias de 1500 metros\, 750 metros e 400 metros\, abrangendo várias categorias e tendo capacidade para a participação de até 300 talentosos atletas. \n\n\n\nConfira os horários de início das provas: \n\n\n\n08h30: 1.500 Metros \n\n\n\n10h00: 750 Metros \n\n\n\n11h00: 400 Metros (Kids) \n\n\n\n \n\n\n\nTransporte\n\n\n\nAos que tiverem interesse em transporte ofertado pelo Clube Curitibano\, solicitamos que encaminhem o comprovante de inscrição para o e-mail luane.caminha@clubecuritibano.com.br juntamente com a intenção de transporte impreterivelmente até o dia 18/09\, às 12h. Após esta data\, o transporte fica de inteira responsabilidade do atleta. \n\n\n\nO transporte e a presença do técnico ficam condicionados a participação de mais de 20 atletas que participem da competição e optem pelo transporte coletivo no e-mail. \n\n\n\nO ônibus sairá às 9h da portaria da Petit Carneiro e retornará após o encerramento do evento.  \n\n\n\n*Acompanhantes estão sujeitos à vagas disponíveis no ônibus.  \n\n\n\nAlimentação\n\n\n\nA Paraná Esporte fornecerá almoço no dia 01 de outubro\, para os 100 (cem) primeiros inscritos na travessia\, que participarem do evento. A refeição será disponibilizada em um restaurante credenciado para o evento. \n\n\n\n \n\n\n\nDocumentos \n\n\n\nINSCRIÇÕES clique aqui \n\n\n\nREGULAMENTO clique aqui \n\n\n\nTermo de ciência clique aqui
URL:https://ccnatacao.com.br/evento/3a-etapa-circuito-fdap-de-aguas-abertas/
LOCATION:RJ
CATEGORIES:Águas Abertas,Todas
ATTACH;FMTTYPE=image/jpeg:https://ccnatacao.com.br/wp-content/uploads/2023/07/FDAP-3a-Etapa-Aguas-Abertas.jpg
ORGANIZER;CN="FDAP - Federa%C3%A7%C3%A3o de Desportos Aqu%C3%A1ticos do Paran%C3%A1":MAILTO:fdap@fdap.org.br
END:VEVENT
END:VCALENDAR