BEGIN:VCALENDAR
VERSION:2.0
PRODID:-//ccnatacao - ECPv6.15.17//NONSGML v1.0//EN
CALSCALE:GREGORIAN
METHOD:PUBLISH
X-ORIGINAL-URL:https://ccnatacao.com.br
X-WR-CALDESC:Eventos para ccnatacao
REFRESH-INTERVAL;VALUE=DURATION:PT1H
X-Robots-Tag:noindex
X-PUBLISHED-TTL:PT1H
BEGIN:VTIMEZONE
TZID:America/Sao_Paulo
BEGIN:STANDARD
TZOFFSETFROM:-0300
TZOFFSETTO:-0300
TZNAME:-03
DTSTART:20250101T000000
END:STANDARD
END:VTIMEZONE
BEGIN:VEVENT
DTSTART;TZID=America/Sao_Paulo:20261205T070000
DTEND;TZID=America/Sao_Paulo:20261205T190000
DTSTAMP:20260425T103838
CREATED:20260202T222337Z
LAST-MODIFIED:20260203T110036Z
UID:6983-1796454000-1796497200@ccnatacao.com.br
SUMMARY:Regional Final Pré-Mirim a Petiz
DESCRIPTION:
URL:https://ccnatacao.com.br/evento/regional-final-pre-mirim-a-petiz/
CATEGORIES:Mirim,Petiz
ORGANIZER;CN="FDAP - Federa%C3%A7%C3%A3o de Desportos Aqu%C3%A1ticos do Paran%C3%A1":MAILTO:fdap@fdap.org.br
END:VEVENT
END:VCALENDAR