BEGIN:VCALENDAR
VERSION:2.0
PRODID:-//ccnatacao - ECPv6.15.17//NONSGML v1.0//EN
CALSCALE:GREGORIAN
METHOD:PUBLISH
X-ORIGINAL-URL:https://ccnatacao.com.br
X-WR-CALDESC:Eventos para ccnatacao
REFRESH-INTERVAL;VALUE=DURATION:PT1H
X-Robots-Tag:noindex
X-PUBLISHED-TTL:PT1H
BEGIN:VTIMEZONE
TZID:America/Sao_Paulo
BEGIN:STANDARD
TZOFFSETFROM:-0300
TZOFFSETTO:-0300
TZNAME:-03
DTSTART:20240101T000000
END:STANDARD
END:VTIMEZONE
BEGIN:VEVENT
DTSTART;TZID=America/Sao_Paulo:20250704T070000
DTEND;TZID=America/Sao_Paulo:20250706T140000
DTSTAMP:20260425T115941
CREATED:20250113T100743Z
LAST-MODIFIED:20250702T212757Z
UID:4670-1751612400-1751810400@ccnatacao.com.br
SUMMARY:Campeonato Paranaense de Inverno Pré-Mirim a Petiz
DESCRIPTION:O Campeonato Paranaense Pré-Mirim a Petiz acontece na piscina de 25 metros do Santa Mônica Clube de Campo. \n\n\n\nCOMUNICADO\n\n\n\nCAMPEONATO PARANAENSE DE INVERNO (Pré-Mirim\, Mirim e Petiz) \n\n\n\n📅 Data: 04 a 06/07/2025📍 Local: Santa Mônica Clube de Campo \n\n\n\n🕗 Horários de Chegada: \n\n\n\n\nManhã: 7h00\n\n\n\nTarde: 14h00\n\n\n\n\n⚠️ Mesmo atletas sem provas individuais podem ser convocados para revezamentos.Fiquem atentos às mensagens — a presença é obrigatória se escalado. \n\n\n\n🚫 O clube não oferecerá transporte e alimentação. \n\n\n\n\n\n\n\nOrientações: \n\n\n\n\nUniforme obrigatório: Uniforme novo da Arena\n\n\n\nMateriais: Maiô/sunga (sem mangas\, saias\, zíperes\, etc.)\, óculos\, chinelo\, roupão\, toalha\, meias\n\n\n\nProibido: Pulseiras\, cordões\, relógios\, brincos grandes\n\n\n\nLancheira: Com lanches leves e água\n\n\n\n\n \n\n\n\n📣 Evento aberto ao público. \n\n\n\nPrograma de Provas\n\n\nFukuda-Programa-de-Provas\n\n\nRelação de Atletas e Provas\n\n\n\nLISTA DE INSCRITOSBaixar\n\n\n\nPra informações sobre a datas e horários entrar no link abaixo:https://www.swimtimebrasil.com/evento/natacao/39523
URL:https://ccnatacao.com.br/evento/campeonato-paranaense-de-inverno-pre-mirim-a-petiz/
LOCATION:Santa Mônica Clube de Campo\, Rod. Régis Bittencourt\, Km 6 - Bairro Mauá\, Colombo\, PR\, 83413-663\, Brasil
CATEGORIES:Mirim,Petiz
ATTACH;FMTTYPE=image/jpeg:https://ccnatacao.com.br/wp-content/uploads/2024/02/santa-monica-FDAP.jpg
ORGANIZER;CN="FDAP - Federa%C3%A7%C3%A3o de Desportos Aqu%C3%A1ticos do Paran%C3%A1":MAILTO:fdap@fdap.org.br
END:VEVENT
END:VCALENDAR