BEGIN:VCALENDAR
VERSION:2.0
PRODID:-//ccnatacao - ECPv6.15.17//NONSGML v1.0//EN
CALSCALE:GREGORIAN
METHOD:PUBLISH
X-WR-CALNAME:ccnatacao
X-ORIGINAL-URL:https://ccnatacao.com.br
X-WR-CALDESC:Eventos para ccnatacao
REFRESH-INTERVAL;VALUE=DURATION:PT1H
X-Robots-Tag:noindex
X-PUBLISHED-TTL:PT1H
BEGIN:VTIMEZONE
TZID:America/Sao_Paulo
BEGIN:STANDARD
TZOFFSETFROM:-0300
TZOFFSETTO:-0300
TZNAME:-03
DTSTART:20240101T000000
END:STANDARD
END:VTIMEZONE
BEGIN:VEVENT
DTSTART;TZID=America/Sao_Paulo:20250508T080000
DTEND;TZID=America/Sao_Paulo:20250510T190000
DTSTAMP:20260425T150848
CREATED:20250113T100947Z
LAST-MODIFIED:20250219T211704Z
UID:4672-1746691200-1746903600@ccnatacao.com.br
SUMMARY:Campeonato Sul-Brasileiro Mirim e Petiz - GNU
DESCRIPTION:O Campeonato Sul-Brasileiro Mirim e Petiz de Natação acontece no Grêmio Náutico União\, Porto Alegre\, entre os dias 08 e 10 de Maio de 2025. \n\n\n\nFormulário de Participação\n\n\n\nAos pais das categorias mirim e petiz\, segue link para os pais preencherem o formulário de participação do Campeonato Sul-Brasileiro.Favor preencher até o dia 23 de Fevereiro para garantir sua vaga.
URL:https://ccnatacao.com.br/evento/campeonato-sul-brasileiro-mirim-e-petiz-gnu-2025/
LOCATION:Gremio Náutico União\, Rua Quintino Bocaiuva 500\, Porto Alegre\, RS\, Brasil
CATEGORIES:Mirim,Petiz
ATTACH;FMTTYPE=image/jpeg:https://ccnatacao.com.br/wp-content/uploads/2024/02/GNU-Sul-Brasileiro-FGDA.jpg
ORGANIZER;CN="FGDA - Federa%C3%A7%C3%A3o Ga%C3%BAcha de Desportos Aqu%C3%A1ticos":MAILTO:contato@fgda.com.br
END:VEVENT
END:VCALENDAR