BEGIN:VCALENDAR
VERSION:2.0
PRODID:-//ccnatacao - ECPv6.15.17//NONSGML v1.0//EN
CALSCALE:GREGORIAN
METHOD:PUBLISH
X-ORIGINAL-URL:https://ccnatacao.com.br
X-WR-CALDESC:Eventos para ccnatacao
REFRESH-INTERVAL;VALUE=DURATION:PT1H
X-Robots-Tag:noindex
X-PUBLISHED-TTL:PT1H
BEGIN:VTIMEZONE
TZID:America/Sao_Paulo
BEGIN:STANDARD
TZOFFSETFROM:-0300
TZOFFSETTO:-0300
TZNAME:-03
DTSTART:20250101T000000
END:STANDARD
END:VTIMEZONE
BEGIN:VEVENT
DTSTART;TZID=America/Sao_Paulo:20260301T080000
DTEND;TZID=America/Sao_Paulo:20260301T170000
DTSTAMP:20260420T060940
CREATED:20260121T145356Z
LAST-MODIFIED:20260224T195520Z
UID:6858-1772352000-1772384400@ccnatacao.com.br
SUMMARY:Master - Etapa 1 Circuito Ocean |   Garopaba/SC
DESCRIPTION:A 1ª Etapa do Circuito Ocean acontece em Garopaba – SC no dia 1º de Março de 2026. \n\n\n\nINSCRIÇÕES\n\n\n\nA organização do evento\, por intermédio de Bernardo Wanderley\, abriu uma exceção para inscrever a Equipe do Clube Curitibano\, mesmo após o encerramento das inscrições. Para garantir sua participação\, acesse o site da Blue Tickets até o dia 24 de janeiro\, às 11h\, com o cupom já inserido\, por meio deste link: https://www.blueticket.com.br/evento/39203?c=OC126_CURITIBANO . Com isso\, os valores serão automaticamente zerados\, e o Clube Curitibano realizará o pagamento do grupo. \n\n\n\nA efetivação e o pagamento da inscrição junto à organização do evento\, assim como a contratação do transporte\, serão realizados pelo Clube Curitibano apenas se as informações forem enviadas dentro do prazo estabelecido. Após essa data\, a responsabilidade pela participação e pelo pagamento da inscrição será inteiramente do atleta. \n\n\n\nO comprovante da inscrição deve ser anexado no formulário abaixo até o dia 24 de janeiro (sábado)\, às 11h: \n\n\n\nhttps://forms.gle/ch26aQXKMQTwK5Qt9 \n\n\n\nTRANSPORTE\n\n\n\nO transporte será oferecido pelo Clube Curitibano\, com saída pela portaria do esporte\, localizada na Rua Petit Carneiro\, 970\, às 19:30 h\, na sexta\, 27/02. O retorno será às 15h30 do dia 01/03\, partindo do Hotel Garopaba (R. Aderbal Ramos da Silva\, 303 – Centro\, Garopaba – SC). O horário de retorno pode ser mudado de acordo com o clima. \n\n\n\n \n\n\n\nHOSPEDAGEM\n\n\n\nComo sugestão de acomodação\, recomendamos o Hotel Garopaba\, onde a técnica da equipe ficará hospedada; Os valores dos quartos\, são os seguintes: \n\n\n\nR$ 820\,00 (com ar-condicionado) – duas diárias com café da manhã incluso. \n\n\n\nR$ 640\,00 (com ventilador de teto) – duas diárias com café da manhã incluso. \n\n\n\nTodos os quartos possuem TV\, frigobar\, café da manhã e estacionamento. Ressaltamos que o Hotel Garopaba é apenas uma sugestão de hospedagem. A reserva e o pagamento serão de responsabilidade individual de cada atleta. Os quartos possuem a opção com ar-condicionado ou ventilador de teto de acordo com os valores. \n\n\n\nPara realizar a reserva\, entre em contato com Renato\, pelo whatsapp 48 9986-5146\, e informe que você é atleta da equipe master do Clube Curitibano\, para a identificação da pré reserva.
URL:https://ccnatacao.com.br/evento/circuito-ocean-etapa-1-2026-garopaba-sc/
LOCATION:PRAIA CENTRAL – GAROPABA/SC\, Rua Lagoa Mar\, Garopaba\, Santa Catarina\, Brazil
CATEGORIES:Master
ATTACH;FMTTYPE=image/png:https://ccnatacao.com.br/wp-content/uploads/2026/01/Circuito-Ocean-Garopaba.png
END:VEVENT
BEGIN:VEVENT
DTSTART;TZID=America/Sao_Paulo:20260328T070000
DTEND;TZID=America/Sao_Paulo:20260328T190000
DTSTAMP:20260420T060940
CREATED:20260203T114839Z
LAST-MODIFIED:20260212T135343Z
UID:6987-1774681200-1774724400@ccnatacao.com.br
SUMMARY:Master - 1ª Etapa Meeting PR/SC - Curitiba
DESCRIPTION:A 1ª Etapa do Meeting Morel Bueno de Natação Master\, Troféu Jocy Beckert\, acontece no dia 28 de Março na Escola de Natação Amaral. \n\n\n\n \n\n\n\nPROVAS: \n\n\n\nO aquecimento dos atletas terá início às 12h\, com o início das provas às 13h. Cada atleta poderá participar de até duas provas individuais\, além das provas de revezamento. \n\n\n\nO programa de provas será o seguinte\, em séries femininas e masculinas: \n\n\n\n\n400 m Livre\n\n\n\n50 m Peito\n\n\n\n100 m Costas\n\n\n\n50 m Borboleta\n\n\n\n100 m Livre\n\n\n\n50 m Costas\n\n\n\n100 m Medley\n\n\n\n50 m Livre\n\n\n\n\nApós intervalo de 10 minutos\, será realizada a prova de Revezamento 4 x 50 m Livre  (Masculino/Feminino). \n\n\n\n \n\n\n\nINSCRIÇÕES ATÉ O DIA 17 DE MARÇO! \n\n\n\n\nCLIQUE AQUI PARA FAZER SUA INSCRIÇÃO\n\n\n\n\nApós inscrição\, favor preencher o formulário abaixo: \n\n\n\nhttps://forms.gle/PPzZ96Y9j8QNtWWBA \n\n\n\n \n\n\n\nOs resultados da competição estarão disponíveis no site www.mastersparana.com.br.
URL:https://ccnatacao.com.br/evento/master-1a-etapa-meeting-pr-sc-curitiba/
LOCATION:Escola de Nataçao Amaral\, R. Joaquim da Silva Sampaio\, 303 - Mercês\, 80710-630\, Curitiba - PR\, Brasil
CATEGORIES:Master
ATTACH;FMTTYPE=image/jpeg:https://ccnatacao.com.br/wp-content/uploads/2026/02/Meeting-01-curitiba.jpg
END:VEVENT
END:VCALENDAR