BEGIN:VCALENDAR
VERSION:2.0
PRODID:-//ccnatacao - ECPv6.15.17//NONSGML v1.0//EN
CALSCALE:GREGORIAN
METHOD:PUBLISH
X-ORIGINAL-URL:https://ccnatacao.com.br
X-WR-CALDESC:Eventos para ccnatacao
REFRESH-INTERVAL;VALUE=DURATION:PT1H
X-Robots-Tag:noindex
X-PUBLISHED-TTL:PT1H
BEGIN:VTIMEZONE
TZID:America/Sao_Paulo
BEGIN:STANDARD
TZOFFSETFROM:-0300
TZOFFSETTO:-0300
TZNAME:-03
DTSTART:20240101T000000
END:STANDARD
END:VTIMEZONE
BEGIN:VEVENT
DTSTART;TZID=America/Sao_Paulo:20251206T070000
DTEND;TZID=America/Sao_Paulo:20251206T120000
DTSTAMP:20260422T110217
CREATED:20250220T223927Z
LAST-MODIFIED:20251119T171020Z
UID:5082-1765004400-1765022400@ccnatacao.com.br
SUMMARY:Desafio 100x100 do Clube Curitibano
DESCRIPTION:CONFRATERNIZAÇÃO NATAÇÃO MASTER 2025 \n\n\n\nEVENTO EXCLUSIVO DA EQUIPE MASTER. \n\n\n\nÉ momento de confraternizarmos e celebrarmos nossas vitórias e superações em 2025. Um ano intenso com viagens\, amizades\, provas\, praias\, travessias\, recordes\, Estadual\, Mundial\, ultramaratona… E muitas medalhas e troféus!! Uma equipe que\, junto com o Bruno\, tenho a honra de contribuir e acompanhar na evolução e dedicação esportiva diariamente! Agora é hora de comemorar!!! \n\n\n\nE com isso o tradicional 100×100. \n\n\n\nData: 06 de dezembro de 2025Local: Piscina Olímpica –Horário: A partir das 07h15- Recepção\, aquecimento e foto oficialInício do Desafio: 7:30 \n\n\n\nO desafio 100×100 é um evento destinado exclusivamente à atletas da categoria Master\, portanto\, não incentivamos a participação de outras categorias (Mirim-Sênior).
URL:https://ccnatacao.com.br/evento/desafio-100x100-clube-curitibano/
LOCATION:Clube Curitibano\, Av. Pres. Getúlio Vargas\, 2857\, Curitiba\, PR\, 80240-040\, Brasil
CATEGORIES:Master
ATTACH;FMTTYPE=image/jpeg:https://ccnatacao.com.br/wp-content/uploads/2025/02/desafio-100x100-2025.jpg
ORGANIZER;CN="Clube Curitibano":MAILTO:natacao@clubecuritibano.com.br
END:VEVENT
BEGIN:VEVENT
DTSTART;TZID=America/Sao_Paulo:20251213T070000
DTEND;TZID=America/Sao_Paulo:20251214T133000
DTSTAMP:20260422T110217
CREATED:20250220T223548Z
LAST-MODIFIED:20251002T141439Z
UID:5079-1765609200-1765719000@ccnatacao.com.br
SUMMARY:Rei e Rainha do Mar - Copacabana
DESCRIPTION:A tradicional prova Rei e Rainha do Mar acontece na praia de Copacabana nos dias 13 e 14 de Dezembro de 2025. \n\n\n\nINSCRIÇÕES:Para garantir sua participação\, acesse o site: \n\n\n\nhttps://reierainhadomar.com.br/etapas/Copacabana%202025/ \n\n\n\nUtilize o cupom com 10% CURITIBANORRM.  \n\n\n\nPara essa competição o atleta efetua o pagamento e anexa o comprovante da inscrição no formulário abaixo: \n\n\n\nhttps://forms.gle/f4qVTGgqHBEfDSYr6 \n\n\n\n* O reembolso será realizado pelo Clube referente ao valor somente do primeiro lote e será efetuado após a realização do evento. Ressaltamos que em caso de ausência do atleta na competição\, não haverá reembolso de custos. \n\n\n\n*Inscrições a partir do segundo lote não serão reembolsadas. \n\n\n\n \n\n\n\nMODALIDADES E PROGRAMAÇÃO\n\n\n\nSÁBADO\, 13 DEZEMBRO6h30 | Super Challenge 10K (Individual ou Revezamento) \n\n\n\n7h | Beach Run 2\,5K e 5K \n\n\n\n7h30 | Beach Biathlon Masculino \n\n\n\n7h50 | Beach Biathlon Feminino \n\n\n\n8h30 | Open 500M Masculino \n\n\n\n8h50 | Open 500M Feminino \n\n\n\n9h20 | Kids Run 50M \n\n\n\n9h40 | Kids Run 100M \n\n\n\n10h | Kids Run 300m \n\n\n\n10h | Kids Swim 200m Masculino \n\n\n\n10h20 | Kids Run 600m \n\n\n\n10h20 | Kids Swim 200M Feminino \n\n\n\n10h40 | Kids Swim 400m Masculino \n\n\n\n11h | Kids Swim 400M Feminino \n\n\n\nDOMINGO\, 14 DEZEMBRO7h | Sprint 1K Masculino \n\n\n\n7h30 | Sprint 1K Feminino \n\n\n\n8h | Classic 2K Masculino \n\n\n\n8h30 | Classic 2K Feminino \n\n\n\n9h10 | Challenge 3.5K Masculino \n\n\n\n9h30 | Challenge 3.5K Feminino \n\n\n\nINSCRIÇÕES\n\n\n\nFormas de Pagamento: PIX\, Boleto Bancário e Cartões de CréditoRETIRADA DE KIT \n\n\n\nData: 11\, 12 e 13 de dezembroLocal: Marina da GlóriaHorário: São 6 horários disponíveis para agendamento09h às 10h3011h às 12h3013h às 14h3015h às 16h3017h às 18h3019h às 21h \n\n\n\nIMPORTANTE: O atleta que não retirar o kit no período determinado\, não poderá fazer a prova. Não serão entregues kits no dia do evento e nem após o mesmo. Abaixo\, veja os documentos necessários para apresentar na retirada de kit.
URL:https://ccnatacao.com.br/evento/rei-rainha-do-mar-2025/
LOCATION:Copacabana – Posto 5\, Av. Atlântica S/N\, Rio de Janeiro\, RJ\, 22070001\, Brasil
CATEGORIES:Master
ATTACH;FMTTYPE=image/jpeg:https://ccnatacao.com.br/wp-content/uploads/2025/02/rei-e-rainha-do-mar-2025.jpg
ORGANIZER;CN="Rei e Rainha do Mar":MAILTO:contato@reierainhadomar.com.br
END:VEVENT
END:VCALENDAR