BEGIN:VCALENDAR
VERSION:2.0
PRODID:-//ccnatacao - ECPv6.15.17//NONSGML v1.0//EN
CALSCALE:GREGORIAN
METHOD:PUBLISH
X-ORIGINAL-URL:https://ccnatacao.com.br
X-WR-CALDESC:Eventos para ccnatacao
REFRESH-INTERVAL;VALUE=DURATION:PT1H
X-Robots-Tag:noindex
X-PUBLISHED-TTL:PT1H
BEGIN:VTIMEZONE
TZID:America/Sao_Paulo
BEGIN:STANDARD
TZOFFSETFROM:-0300
TZOFFSETTO:-0300
TZNAME:-03
DTSTART:20240101T000000
END:STANDARD
END:VTIMEZONE
BEGIN:VEVENT
DTSTART;TZID=America/Sao_Paulo:20251030T080000
DTEND;TZID=America/Sao_Paulo:20251102T170000
DTSTAMP:20260422T143946
CREATED:20250220T210047Z
LAST-MODIFIED:20250917T175138Z
UID:5060-1761811200-1762102800@ccnatacao.com.br
SUMMARY:74º Campeonato Brasileiro de Natação Master
DESCRIPTION:A 74ª edição do Campeonato Brasileiro de Natação Master acontece em Fortaleza entre os dias 30 de Outubro e 02 de Novembro. \n\n\n\n\nFAÇA SUA INSCRIÇÃO
URL:https://ccnatacao.com.br/evento/74-brasileiro-natacao-master-fortaleza-2025/
LOCATION:Fortaleza – CE\, Fortaleza\, CE\, Brasil
CATEGORIES:Master
ATTACH;FMTTYPE=image/jpeg:https://ccnatacao.com.br/wp-content/uploads/2025/02/Brasileiro-Master-ABMN-2025.jpg
ORGANIZER;CN="ABMN - Associa%C3%A7ao Brasileira Master de Nata%C3%A7%C3%A3o":MAILTO:abmn@abmn.org.br
END:VEVENT
END:VCALENDAR