BEGIN:VCALENDAR
VERSION:2.0
PRODID:-//ccnatacao - ECPv6.15.17//NONSGML v1.0//EN
CALSCALE:GREGORIAN
METHOD:PUBLISH
X-WR-CALNAME:ccnatacao
X-ORIGINAL-URL:https://ccnatacao.com.br
X-WR-CALDESC:Eventos para ccnatacao
REFRESH-INTERVAL;VALUE=DURATION:PT1H
X-Robots-Tag:noindex
X-PUBLISHED-TTL:PT1H
BEGIN:VTIMEZONE
TZID:America/Sao_Paulo
BEGIN:STANDARD
TZOFFSETFROM:-0300
TZOFFSETTO:-0300
TZNAME:-03
DTSTART:20240101T000000
END:STANDARD
END:VTIMEZONE
BEGIN:VEVENT
DTSTART;TZID=America/Sao_Paulo:20250907T080000
DTEND;TZID=America/Sao_Paulo:20250907T190000
DTSTAMP:20260422T164512
CREATED:20250219T224351Z
LAST-MODIFIED:20250827T200054Z
UID:5003-1757232000-1757271600@ccnatacao.com.br
SUMMARY:Meeting Paraná/Santa Catarina – 4ª etapa – Florianópolis
DESCRIPTION:A 4ª Etapa do Meeting de Natação Master Paraná/Santa Catarina acontece no Clube 12 de Agosto em Florianópolis no dia 07 de Setembro de 2025. \n\n\n\nINSCRIÇÕES \n\n\n\nA inscrição deverá ser realizada diretamente pelo atleta\, de forma online\, no site: https://www.abmn.org.br/inscricao-on-line/ até o dia 26/08/2024. \n\n\n\nNÃO FAZER PAGAMENTO À ASSOCIAÇÃO MASTER. \n\n\n\nComo benefício da Equipe Master\, o pagamento das inscrições será realizado pelo Clube Curitibano. \n\n\n\nPortanto\, o comprovante da inscrição deverá ser encaminhado para pagamento à Secretaria de Natação\, no e-mail atendimento.natacao@clubecuritibano.com.br\, até o dia 26/08 (terça-feira).  \n\n\n\nObs.1: Em caso de ausência na competição\, após o pagamento da inscrição\, o Clube reservará o direito de emitir um boleto para que efetuem a devolução do valor pago e não utilizado. \n\n\n\nObs.2: O benefício só é válido para os atletas que estiverem vinculados à Equipe Master em 2025\, com o cadastro em dia junto à Secretaria de Natação\, incluindo toda documentação e atestado médico. \n\n\n\nHOSPEDAGEM:  \n\n\n\nSLIM SÃO JOSÉ ZIONPeríodo: 06 a 08/09Nº de hóspedes: 01Categoria: Superior Casal \n\n\n\nTarifas por diária: \n\n\n\nSingle: 06.09 R$ 328\,84 + 5% ISS \n\n\n\n             07.09 R$ 216\,69 + 5% ISS \n\n\n\nPolítica da tarifa: Reembolsável \n\n\n\nTotal das diárias com Taxas: R$ 572\,81 \n\n\n\nPeríodo: 06 a 08/09Nº de hóspedes: 02Categoria: Superior Twin \n\n\n\nTarifas por diária: \n\n\n\nDuplo: 06.09 R$ 401\,18 + 5% ISS \n\n\n\n             07.09 R$ 264\,36 + 5% ISS \n\n\n\nPolítica da tarifa: Reembolsável \n\n\n\nTotal das diárias com Taxas: R$ 698\,82   \n\n\n\nPeríodo: 06 a 08/09Nº de hóspedes: 03Categoria: Superior Família – Uma cama box e uma cama de solteiro. \n\n\n\nTarifas por diária: \n\n\n\nTriplo: 06.09 R$ 493\,26 + 5% ISS \n\n\n\n             07.09 R$ 325\,04 + 5% ISS \n\n\n\nPolítica da tarifa: Reembolsável \n\n\n\nTotal das diárias com Taxas: R$ 859\,22    \n\n\n\nPara confirmar a reserva\, por gentileza\, nos informe os dados abaixo de todos os hóspedes: \n\n\n\n\nNome completo:\n\n\n\nCPF:\n\n\n\nE-mail:\n\n\n\nTelefone:\n\n\n\nHorário previsto de chegada:\n\n\n\n\nFormas de pagamento disponíveis: Antecipado\, via depósito bancário\, Pix ou link para cartão de crédito. \n\n\n\nObservações: \n\n\n\nEm caso de não retorno dentro do prazo\, será necessário realizar uma nova consulta. \n\n\n\nPara garantia da reserva\, solicitamos o pagamento da primeira diária ou do valor total da hospedagem. Reservas sem garantia estão sujeitas à disponibilidade no momento do check-in. \n\n\n\nCotação válida por até 24 horas ou enquanto houver disponibilidade. \n\n\n\nENDEREÇO: \n\n\n\nHotel Slim São José Zion \n\n\n\nR. Tiradentes\, 4 – Kobrasol\, São José – SC\, 88102-040 \n\n\n\nReservas: reservas@slavierohoteis.com.br (mencionar que é Hotel Slim São José) \n\n\n\n \n\n\n\n\n\nTRANSPORTE: \n\n\n\nSerá oferecido pelo Clube Curitibano como benefício para a Equipe Master de Natação\, o transporte coletivo terrestre nas seguintes condições: \n\n\n\nEm caso de 15 (quinze) atletas inscritos e que optem pelo transporte (informar no e-mail momento do envio do comprovante)\, será disponibilizado um Micro-ônibus. Ônibus tradicional somente será ofertado se houver mais interessados.  \n\n\n\nEm caso de não comparecimento\, o custo deverá ser reembolsado ao clube. \n\n\n\nSaída: 06/09 às 07h30 da Petit Carneiro \n\n\n\nRetorno: 08/09 às 11h \n\n\n\nAcompanhantes sujeitos à vagas no transporte. \n\n\n\nO subsídio de inscrição e transporte só serão realizados para os atletas que estiverem em dia com o cadastro junto à Secretaria de Natação através do formulário \n\n\n\n\nFAÇA SUA INSCRIÇÃO\n\n\n\nPROG-PROVAS-4-ETAPA-FLORIPA-VF-2025-1
URL:https://ccnatacao.com.br/evento/meeting-parana-santa-catarina-4a-etapa-florianopolis/
LOCATION:Clube 12 de Agosto\, Florianópolis\, SC\, Brasil
CATEGORIES:Master
ATTACH;FMTTYPE=image/jpeg:https://ccnatacao.com.br/wp-content/uploads/2025/02/4-etapa-meeting-floripa-1-e1755123066645.jpg
ORGANIZER;CN="Associa%C3%A7%C3%A3o Master Parana":MAILTO:MOREL@ONDA.COM.BR
END:VEVENT
BEGIN:VEVENT
DTSTART;TZID=America/Sao_Paulo:20250912T080000
DTEND;TZID=America/Sao_Paulo:20250914T130000
DTSTAMP:20260422T164512
CREATED:20250220T194935Z
LAST-MODIFIED:20250813T221250Z
UID:5039-1757664000-1757854800@ccnatacao.com.br
SUMMARY:XXX Copa Brasil de Natação Master - Florianópolis
DESCRIPTION:A 30ª edição da Copa Brasil de Natação Master acontece em Florianópolis entre os dias 12 e 14 de Setembro\, em piscina de 25 metros. \n\n\n\n\nFAÇA SUA INSCRIÇÃO
URL:https://ccnatacao.com.br/evento/xxx-copa-brasil-de-natacao-master-florianopolis/
LOCATION:Clube 12 de Agosto\, Florianópolis\, SC\, Brasil
CATEGORIES:Master
ATTACH;FMTTYPE=image/jpeg:https://ccnatacao.com.br/wp-content/uploads/2024/02/12-de-agosto-Sul-BrasileiroFASC.jpg
ORGANIZER;CN="ABMN - Associa%C3%A7ao Brasileira Master de Nata%C3%A7%C3%A3o":MAILTO:abmn@abmn.org.br
END:VEVENT
BEGIN:VEVENT
DTSTART;TZID=America/Sao_Paulo:20250921T080000
DTEND;TZID=America/Sao_Paulo:20250921T130000
DTSTAMP:20260422T164512
CREATED:20250220T195840Z
LAST-MODIFIED:20250919T141217Z
UID:5043-1758441600-1758459600@ccnatacao.com.br
SUMMARY:XXI Travessia do Ribeiro - Bombinhas
DESCRIPTION:A XXIª Travessia do Ribeiro acontece dia 21 de Setembro de 2025 com Arena montada na Praia Central de Bombinhas (em frente ao Hotel Vila do Farol) na Av. Vereador Manoel dos Santos 1493 com provas de 3KM\, 800m\, 200M Kids e 1\,5KM. \n\n\n\nPROVA DE 3KM \n\n\n\nEntrega de Kit e marcação de atletas das 6h às 6h30 \n\n\n\nInício da caminhada até o praia da largada às 6h30 \n\n\n\nLargada da prova de 3KM prevista para às 7h00 \n\n\n\n\n\n\n\nPROVA DE 800M \n\n\n\nEntrega de Kit e marcação de atletas das 7h30 às 8h00 \n\n\n\nLargada da prova de 800m prevista para às 8h30 \n\n\n\n\n\n\n\nPROVA DE 200M KIDS \n\n\n\nEntrega de Kit e marcação de atletas das 8h30 às 9h00 \n\n\n\nLargada da prova de 200m Kids  prevista para às 9h30 \n\n\n\n\n\n\n\nPROVA DE 1\,5KM \n\n\n\nEntrega de Kit e marcação de atletas das 9h00 às 9h30 \n\n\n\nInício da caminhada até o praia da largada às 9h30 \n\n\n\nLargada da prova de 1\,5km prevista para às 10h00 \n\n\n\n\n\n\n\nPREMIAÇÃO \n\n\n\nPrevista para às 11h15 \n\n\n\nA largada das prova de 3km será feita do canto esquerdo da Praia de Bombas\, onde todos os nadadores inscritos deverão fazer a tradicional caminhada pela praia. A largada das prova de 1\,5km será feita do canto direito da Praia de Bombas\, onde todos os nadadores inscritos deverão fazer a tradicional caminhada pela praia. As largadas das provas de 800m e 200m Kids serão feitas em frente a Arena na Praia Central de Bombinhas. \n\n\n\nCaso algum atleta não possa fazer a caminhada pela praia o mesmo deve informar a organização com antecedência justificando o motivo do pedido. \n\n\n\nEstá autorizado o uso de roupas de neoprene. \n\n\n\nBoias de Segurança/Sinalização são autorizadas \n\n\n\nÉ proibido o uso de flutuadores e propulsores (palmar\, pé de pato ou pulboy) \n\n\n\nTodos os nadadores são obrigados a contornar o percurso da prova estabelecido pela organização. \n\n\n\nA categoria kids aceita atletas de até 10 anos de idade. \n\n\n\nTRANSPORTE\n\n\n\nAlém das inscrições\, é oferecido pelo Clube Curitibano como benefício para a Equipe Master de Natação\, o transporte coletivo terrestre para competições com mais de 20 (vinte) atletas inscritos. \n\n\n\nPrevisão de saída e retorno do ônibus: \n\n\n\nSaída: 19 de setembro – 19h30 (sexta-feira) \n\n\n\nRetorno: 21/09 às 14h30 (domingo) \n\n\n\nAcompanhantes sujeitos à vagas no transporte\, sendo apenas 1 acompanhante por atleta. \n\n\n\nFAVOR PREENCHER FORMULÁRIO ABAIXO PARA QUEM FOR UTILIZAR O TRANSPORTE COM O CLUBE: \n\n\n\nhttps://docs.google.com/forms/d/e/1FAIpQLSeNXalztbdvRDz27EzCiooyCeH3Idfna6ar2qTCRAMN4_hIhQ/viewform?usp=header \n\n\n\nO subsídio de inscrição e transporte só serão realizados para os atletas que estiverem em dia com o cadastro junto à Secretaria de Natação através do numero (41) 9538-0065 \n\n\n\nHOSPEDAGEM \n\n\n\nEm razão da alta procura por hotéis e das vagas limitadas\, gostaríamos de sugerir duas opções de hospedagem: \n\n\n\n1-Vila do Bosque: pra quem esteve em Zimbros\, é a pousada que buscamos os kits. Distância tranquila para o deslocamento individual e caminhando (9 minutos caminhando). Algumas opções tem estrutura com cozinha\, facilitando o café da manhã\, e varanda e alguns dos apartamentos acomoda até 5 pessoas\, com beliche e bicama. As suítes simples podem ser ocupadas pelo casal pelo valor descrito abaixo.A pousada oferece desconto dependendo da data de reserva conforme podem acompanhar no informe abaixo. Para todos os atletas da travessia\, oferecemos late check out cortesia até às 14h\, na baixa temporada. \n\n\n\nConforme informado pela hospedagem: \n\n\n\nSegue abaixo valor total para o período de 19/09/25 a 21/09/25 – 02 diárias: \n\n\n\nEm Suíte Master de 40 m²: *R$ 960\,00 para 01 pessoa. \n\n\n\nEm Apartamento Luxo de 45 m²: *R$ 1.110\,00 para 01 casal\, acomodadas na suíte e em bi-cama na sala. \n\n\n\nEm Duplex Luxo de 90 m²: *R$ 1.340\,00 para até 04 pessoas\, acomodadas em 02 quartos independentes. \n\n\n\nEm Duplex Master de 100 m²: *R$ 1.890\,00 para até 04 pessoas (02 casais)\, acomodadas em 02 suítes independentes. \n\n\n\nhttps://viladobosque.com.br \n\n\n\n \n\n\n\n\n\n\n\n2- Rota do sol: com deslocamento individual e facilitado na distância da travessia\, a pousada oferece os seguintes valores por diária: \n\n\n\nsuíte dupla- R$250\,00 \n\n\n\n tripla- R$350\,00  \n\n\n\n quadruplo – R$450\,00 \n\n\n\nhttps://www.pousadarotadosol.com.br \n\n\n\nPousada Rota do sol\, com checkout 12h30. \n\n\n\nA Pousada faz late checkout com o valor de meia diária por quarto pra comodidade dos atletas. \n\n\n\nCafé da manhã: a partir das 5h30 \n\n\n\nContato: (47) 99986-1026 \n\n\n\nPix da Pousada: 02966889000191 \n\n\n\nA técnica\, Rúbia\, estará hospedada na Rota do Sol. Caso vocês não se interessem por nenhuma das duas opções sugeridas. Escolham pousadas na região da prova\, com deslocamento a pé. O transporte em Bombinhas é restrito e não comporta nosso ônibus circulando pela cidade. Qualquer escolha que exija deslocamento dentro da cidade com automóvel ficará por conta de cada atleta. \n\n\n\nO transporte em Bombinhas é restrito e não comporta nosso ônibus circulando pela cidade. Qualquer escolha\, diferente das indicadas e que exija deslocamento dentro da cidade com automóvel ficará por conta de cada atleta. \n\n\n\nINSCRIÇÕES – ATÉ 18/09 \n\n\n\nMENSAGEM DO ORGANIZADOR: \n\n\n\nAtletas do Clube Curitibano!!!! Para fazer sua inscrição para a Travessia do Ribeiro em Bombinhas é só preencher a ficha de inscrição online pelo link https://forms.gle/XtZxPiRvooreMoCS8 \, na pergunta de anexar o comprovante de pagamento você vai anexar o VOUCHER enviado pela Prof. Rúbia!!!! Após o preenchimento a organização recebe um e-mail de aviso dela preenchida e recebida. Em até 24H você receberá um WhatsApp da organização com o número que você preencheu na ficha confirmando sua inscrição com o link do site para conferir seus dados no startlist. \n\n\n\nVoucher para isenção do pagamento:
URL:https://ccnatacao.com.br/evento/travessia-do-ribeiro-2025-bombinhas/
LOCATION:PRAIA DO RIBEIRO\, Avenida Vereador Manoel dos Santos\, 1493\, Centro\, Bombinhas\, Santa Catarina\, Brazil
CATEGORIES:Master
ATTACH;FMTTYPE=image/png:https://ccnatacao.com.br/wp-content/uploads/2025/02/21-travessia-do-ribeiro-2025.png
END:VEVENT
END:VCALENDAR