BEGIN:VCALENDAR
VERSION:2.0
PRODID:-//ccnatacao - ECPv6.15.17//NONSGML v1.0//EN
CALSCALE:GREGORIAN
METHOD:PUBLISH
X-ORIGINAL-URL:https://ccnatacao.com.br
X-WR-CALDESC:Eventos para ccnatacao
REFRESH-INTERVAL;VALUE=DURATION:PT1H
X-Robots-Tag:noindex
X-PUBLISHED-TTL:PT1H
BEGIN:VTIMEZONE
TZID:America/Sao_Paulo
BEGIN:STANDARD
TZOFFSETFROM:-0300
TZOFFSETTO:-0300
TZNAME:-03
DTSTART:20240101T000000
END:STANDARD
END:VTIMEZONE
BEGIN:VEVENT
DTSTART;TZID=America/Sao_Paulo:20250412T080000
DTEND;TZID=America/Sao_Paulo:20250413T120000
DTSTAMP:20260423T012549
CREATED:20250218T203650Z
LAST-MODIFIED:20250325T222501Z
UID:4949-1744444800-1744545600@ccnatacao.com.br
SUMMARY:Circuito Mares - 2ª etapa - Toque Toque Pequeno
DESCRIPTION:A 2ª Etapa do Cicuito Mares será realizada na Paraia de Caraguatatuba\, fazendo o circuito da Ilha do Toque Toque Pequeno. \n\n\n\n\n\n\n\nConfira o Start List\n\n\nStartlist_Sao-Sebastiao_230332025_compressed
URL:https://ccnatacao.com.br/evento/circuito-mares-2025-etapa-2-sao-sebastiao/
LOCATION:São Sebastião\, Rua Capitão Salinas\, São Sebastião\, SP\, 11629-215\, Brasil
CATEGORIES:Master
ATTACH;FMTTYPE=image/jpeg:https://ccnatacao.com.br/wp-content/uploads/2025/02/circuito-mares-2025.jpg
ORGANIZER;CN="Circuito Mares":MAILTO:contato@circuitomares.com.br
END:VEVENT
END:VCALENDAR