BEGIN:VCALENDAR
VERSION:2.0
PRODID:-//ccnatacao - ECPv6.15.17//NONSGML v1.0//EN
CALSCALE:GREGORIAN
METHOD:PUBLISH
X-WR-CALNAME:ccnatacao
X-ORIGINAL-URL:https://ccnatacao.com.br
X-WR-CALDESC:Eventos para ccnatacao
REFRESH-INTERVAL;VALUE=DURATION:PT1H
X-Robots-Tag:noindex
X-PUBLISHED-TTL:PT1H
BEGIN:VTIMEZONE
TZID:America/Sao_Paulo
BEGIN:STANDARD
TZOFFSETFROM:-0300
TZOFFSETTO:-0300
TZNAME:-03
DTSTART:20230101T000000
END:STANDARD
END:VTIMEZONE
BEGIN:VEVENT
DTSTART;TZID=America/Sao_Paulo:20241005T090000
DTEND;TZID=America/Sao_Paulo:20241005T160000
DTSTAMP:20260423T105057
CREATED:20240731T185815Z
LAST-MODIFIED:20240731T201015Z
UID:4010-1728118800-1728144000@ccnatacao.com.br
SUMMARY:Clínica de Águas Abertas com Samir Barel acontecerá na Sede Barão
DESCRIPTION:O Clube Curitibano irá promover a Clínica de Natação em Águas Abertas com Samir Barel. O evento\, destinado aos atletas master de natação\, ocorrerá no dia 05 de outubro na Sede Barão do Serro Azul.\n\n\n\nAs inscrições para a clínica estarão abertas do dia 1º até o dia 31 de agosto\, por meio do Formulário de Inscrição. O valor de inscrição é de R$350\,00\, e as vagas são limitadas a 30 participantes. A programação do evento inclui uma sessão teórica entre 9h e 11h30\, e uma sessão prática dos fundamentos em águas abertas à tarde\, entre 13h30 e 16h\, que ocorrerá na piscina olímpica do Parque Aquático da Sede Barão. \n\n\n\nSobre o palestrante\n\n\n\nSamir Barel iniciou sua trajetória na natação aos 4 anos e\, na adolescência\, integrou a Seleção Paulista de Natação\, conquistando títulos e recordes brasileiros. Em 2007\, migrou para as águas abertas\, completando a travessia Hernandarias-Paraná (88 km) e tornando-se um dos primeiros brasileiros a conquistar a Tríplice Coroa das Águas Abertas\, que inclui a Volta à Ilha de Manhattan\, o Canal da Catalina e o Canal da Mancha. Além de ultramaratonista aquático\, Barel é treinador e empresário. \n\n\n\nPara mais informações\, os interessados podem entrar em contato com a secretaria de Esportes Aquáticos do Clube Curitibano pelo telefone (41) 3014-1951. \n\n\n\nSERVIÇO\n\n\n\nClínica de Natação em Águas Abertas com Samir Barel \n\n\n\nData: 05 de outubro \n\n\n\nLocal: Clube Curitibano – Sede Barão do Serro Azul – Av. Presidente Getúlio Vargas\, 2857 – Água Verde – Curitiba/PR \n\n\n\nPeríodo de inscrições: 1º a 31 de agosto \n\n\n\nValor: R$ 350\,00 (limitado a 30 participantes) \n\n\n\nContato: Secretaria de Esportes Aquáticos – (41) 3014-1951 \n\n\n\n\nFORMULÁRIO DE INSCRIÇÃO
URL:https://ccnatacao.com.br/evento/clinica-de-aguas-abertas-com-samir-barel-acontecera-na-sede-barao/
CATEGORIES:Águas Abertas,Master
ATTACH;FMTTYPE=image/png:https://ccnatacao.com.br/wp-content/uploads/2024/07/Nota-_.png
END:VEVENT
BEGIN:VEVENT
DTSTART;TZID=America/Sao_Paulo:20241013T043000
DTEND;TZID=America/Sao_Paulo:20241013T150000
DTSTAMP:20260423T105057
CREATED:20240910T140614Z
LAST-MODIFIED:20240910T141713Z
UID:4190-1728793800-1728831600@ccnatacao.com.br
SUMMARY:CIRCUITO OCEAN | ETAPA PR - EXTRA | PRAIA MANSA - CAIOBÁ
DESCRIPTION:INSCRIÇÕES: \n\n\n\nValores de Inscrição – Lote Regular*:– Natação: R$ 168\,80– Natação 200m: R$ 84\,40– Aquathlon Individual: R$ 208\,80– Aquathlon Duplas: R$ 238\,80– Corrida: 98\,80– Corrida Kids: 49\,40*Atletas +60 Anos e PCD – 50% descontoCombos de Inscrição:– Natação 3K + 1\,5K: 253\,80– Natação + Aquathlon Ind.: R$ 293\,80– Natação + Corrida: R$ 218\,80Importante ressaltar que o Clube se compromete com o pagamento de somente uma inscrição. Em caso de aquisição de combo\, o Clube reservará o direito de emitir um boleto com a diferença no valor. \n\n\n\nPara efetuar a sua inscrição\, acesse o site da Blue Tickets até o dia 26 de Setembro às 23h59 e coloque o cupom OCPR24_CURITIBANO \n\n\n\nhttps://www.blueticket.com.br/evento/34963 \n\n\n\nKit do Atleta:Compra Opcional \n\n\n\nKit Básico: R$ 38\,80Camiseta Poliamida \n\n\n\nKit Premium*: R$ 58\,80Camiseta Poliamida + Squeeze \n\n\n\nPara aquisição do KIT\, basta selecioná-lo juntamente com a inscrição\, já com o cupom aplicado. \n\n\n\nAo fazê-lo\, os valores serão automaticamente zerados. Após a conclusão da inscrição\, solicitamos que envie o comprovante para o e-mail: atendimento.natacao@clubecuritibano.com.br \n\n\n\nA efetivação e o pagamento da inscrição junto à organização do evento somente serão realizados pela Secretaria de Natação se recebidas dentro do prazo estabelecido (26/09/2024 às 23h59). Após esta data\, a participação e o pagamento da inscrição ficam de inteira responsabilidade do atleta. \n\n\n\nTRANSPORTE: \n\n\n\nAlém das inscrições\, é oferecido pelo Clube Curitibano como benefício para a Equipe Master de Natação\, o transporte coletivo terrestre para competições com mais de 20 (vinte) atletas inscritos e que optem pelo transporte (informar no e-mail momento do envio do comprovante). Da mesma forma\, em caso de não comparecimento\, o custo deverá ser reembolsado ao clube. \n\n\n\nSaída: 13/10 às  04h30- Portaria Petit Carneiro \n\n\n\nRetorno: 13/10 às 15h \n\n\n\nAcompanhantes sujeitos à vagas no transporte. \n\n\n\nO subsídio de inscrição e transporte só serão realizados para os atletas que estiverem em dia com o cadastro junto à Secretaria de Natação através do formulário \n\n\n\nPDA Esportes \n\n\n\n+55 48 99151 6534 \n\n\n\nVer site do Organizador \n\n\n\nfalecom@pdaesportes.com.br
URL:https://ccnatacao.com.br/evento/circuito-ocean-etapa-extra/
CATEGORIES:Master
ATTACH;FMTTYPE=image/jpeg:https://ccnatacao.com.br/wp-content/uploads/2024/02/Praia-Central-Guaratuba-FDAP.jpg
END:VEVENT
BEGIN:VEVENT
DTSTART;TZID=America/Sao_Paulo:20241027T080000
DTEND;TZID=America/Sao_Paulo:20241027T133000
DTSTAMP:20260423T105057
CREATED:20240214T094843Z
LAST-MODIFIED:20241019T161626Z
UID:3073-1730016000-1730035800@ccnatacao.com.br
SUMMARY:Etapa Capivari - Circuito de Maratonas Aquáticas Correr e Nadar - ABMN
DESCRIPTION:• Essa etapa faz parte do calendário do Circuito Brasileiro Masters de Águas Abertas (ABMN)• Calendário ABMN da temporada 2024\, clique aqui • O ranking da ABMN é exclusivo para a modalidade de águas abertas\, para nadadores filiados e apenas para os eventos chancelados pela ABMN\, mais informações clique aqui \n\n\n\nINSCRIÇÃO\n\n\n\nAs inscrições serão realizadas pelo Clube Curitibano. Portanto\, os interessados deverão preencher o formulário de inscrição abaixo impreterivelmente até dia 20/10/2024\, às 23h59. \n\n\n\n\nFORMULÁRIO DE INSCRIÇÃO\n\n\n\n\n \n\n\n\nPROGRAMAÇÃO\n\n\n\n07:00: Concentração– Entrega de chip para 800m encerra as 7:25– Entrega de chip para 10k 5k encerra as 7:45– Entrega de chip para 2.5K encerra as 08:45– Entrega de chip para 1.5k encerra as 10:15– Entrega de chip para 200m encerra as 10:30“Briefing” 15′ (minutos) antes de cada largada07:35: Chamada para a largada 800m07:45: Largada 800m07:45: Chamada para a largada 10k08:00: Largada 10k08:45: Chamada para a largada 5k e 2.5K09:00: Largada 5k e 2.5K10:15: Chamada para a largada 1.5k10:30: Largada 1.5k11:15: Chamada para a largada 200m11:30: Largada 200m – essa largada pode ser antecipada em 30min dependendo da chegada das outras provas12:45: Premiação – início com o 800m e as demais na sequencia \n\n\n\nObs.: Não precisa chegar as 7hs se sua largada acontece mais tarde \n\n\n\nPREMIAÇÃO – troféu: \n\n\n\n• Geral = 05 primeiros colocados masculino e feminino 10k 5k 2.5k 1.5k 800m 200m• Categoria = 05 primeiros colocados masculino e feminino 10k• Categoria = 03 primeiros colocados masculino e feminino 5k 2.5k 1.5k 800m 200m• Medalha = para todos os inscritos \n\n\n\n \n\n\n\nTRANSPORTE\n\n\n\nDevido a falta de quórum\, não será ofertado transporte pelo Clube Curitibano. \n\n\n\nO subsídio de inscrição e transporte só serão realizados para os atletas que estiverem em dia com o cadastro junto à Secretaria de Natação através do formulário
URL:https://ccnatacao.com.br/evento/correr-e-nadar-capivari/
LOCATION:Capivari\, https://maps.app.goo.gl/2VHnk64RiXM67ivb9\, Curitiba\, PR\, Brasil
CATEGORIES:Águas Abertas,Master
ATTACH;FMTTYPE=image/jpeg:https://ccnatacao.com.br/wp-content/uploads/2024/02/Capivari-Correr-e-Nadar.jpg
ORGANIZER;CN="Correr e Nadar":MAILTO:correrenadar@correrenadar.com.br
END:VEVENT
END:VCALENDAR