BEGIN:VCALENDAR
VERSION:2.0
PRODID:-//ccnatacao - ECPv6.15.17//NONSGML v1.0//EN
CALSCALE:GREGORIAN
METHOD:PUBLISH
X-WR-CALNAME:ccnatacao
X-ORIGINAL-URL:https://ccnatacao.com.br
X-WR-CALDESC:Eventos para ccnatacao
REFRESH-INTERVAL;VALUE=DURATION:PT1H
X-Robots-Tag:noindex
X-PUBLISHED-TTL:PT1H
BEGIN:VTIMEZONE
TZID:America/Sao_Paulo
BEGIN:STANDARD
TZOFFSETFROM:-0300
TZOFFSETTO:-0300
TZNAME:-03
DTSTART:20230101T000000
END:STANDARD
END:VTIMEZONE
BEGIN:VEVENT
DTSTART;TZID=America/Sao_Paulo:20240914T000000
DTEND;TZID=America/Sao_Paulo:20240914T170000
DTSTAMP:20260423T124302
CREATED:20240213T213534Z
LAST-MODIFIED:20240821T220052Z
UID:3015-1726272000-1726333200@ccnatacao.com.br
SUMMARY:4ª Etapa do Meeting Paranaense Master
DESCRIPTION:A 4ª Etapa do Meeting Paranaense de Natação Master será realizado na cidade de Florianópolis\, na piscina do Clube 12 de Agosto. \n\n\n\nINSCRIÇÕES \n\n\n\nA inscrição deverá ser realizada diretamente pelo atleta\, de forma online\, no site: https://www.abmn.org.br/inscricao-on-line/ até o dia 03/09/2024. \n\n\n\nNÃO FAZER PAGAMENTO À ASSOCIAÇÃO MASTER. \n\n\n\nComo benefício da Equipe Master\, o pagamento das inscrições será realizado pelo Clube Curitibano. \n\n\n\nPortanto\, o comprovante da inscrição deverá ser encaminhado para pagamento à Secretaria de Natação\, no e-mail atendimento.natacao@clubecuritibano.com.br\, até o dia 03/09 (terça-feira).  \n\n\n\nObs.1: Em caso de ausência na competição\, após o pagamento da inscrição\, o Clube reservará o direito de emitir um boleto para que efetuem a devolução do valor pago e não utilizado. \n\n\n\nObs.2: O benefício só é válido para os atletas que estiverem vinculados à Equipe Master em 2024\, com o cadastro em dia junto à Secretaria de Natação\, incluindo toda documentação e atestado médico. \n\n\n\nHOSPEDAGEM: \n\n\n\nTri Hotel \n\n\n\nAv. Gov. Ivo Silveira\, 3861 – Capoeiras\, Florianópolis – SC\, 88085-001 \n\n\n\nAPTOS STANDARD: \n\n\n\n\nApto individual: R$ 169\,00 a diária\n\n\n\nApto Casal ou twin(2 camas solteiro): R$ 209\,00 a diária\n\n\n\nApto triplo(3 camas solteiro) ou casal+1: R$ 279\,00 a diária\n\n\n\nApto quádruplo (4 camas solteiro) ou casal+2: R$ 349\,00 a diária\n\n\n\n\n \n\n\n\nTRANSPORTE: \n\n\n\nSerá oferecido pelo Clube Curitibano como benefício para a Equipe Master de Natação\, o transporte coletivo terrestre nas seguintes condições: \n\n\n\nEm caso de 15 (quinze) atletas inscritos e que optem pelo transporte (informar no e-mail momento do envio do comprovante)\, será disponibilizado um Micro-ônibus. Ônibus tradicional somente será ofertado se houver mais interessados.  \n\n\n\nEm caso de não comparecimento\, o custo deverá ser reembolsado ao clube. \n\n\n\nSaída: 14/09 às 5h da Petit Carneiro \n\n\n\nRetorno: 15/09 às 14h \n\n\n\nAcompanhantes sujeitos à vagas no transporte. \n\n\n\nO subsídio de inscrição e transporte só serão realizados para os atletas que estiverem em dia com o cadastro junto à Secretaria de Natação através do formulário \n\n\n\nPrograma de Provas\n\n\nPROG-PROVAS-4-ETAPA-FLORIPA-2024-2
URL:https://ccnatacao.com.br/evento/meeting-paranaense-etapa-4-florianopolis/
LOCATION:Clube 12 de Agosto\, Florianópolis\, SC\, Brasil
CATEGORIES:Master
ATTACH;FMTTYPE=image/jpeg:https://ccnatacao.com.br/wp-content/uploads/2024/02/12-de-agosto.jpg
ORGANIZER;CN="Associa%C3%A7%C3%A3o Master Parana":MAILTO:MOREL@ONDA.COM.BR
END:VEVENT
BEGIN:VEVENT
DTSTART;TZID=America/Sao_Paulo:20240928T080000
DTEND;TZID=America/Sao_Paulo:20240929T130000
DTSTAMP:20260423T124302
CREATED:20240213T224148Z
LAST-MODIFIED:20240816T182201Z
UID:3043-1727510400-1727614800@ccnatacao.com.br
SUMMARY:Circuito Mares - 3ª Etapa Polinésia - Ilhabela
DESCRIPTION:A Etapa do Circuito Mares – Polinésia – de Ilhabela será realizada na Praia do Engenho D`Água nos dias 28 e 29 de Setembro. \n\n\n\nCIRCUITO MARES\n\n\n\nDATA: 28 e 29 de setembro de 2024\n\n\n\nLOCAL: Ilhabela/SP\n\n\n\nDISTANCIAS: \n\n\n\nChallenge • 5kmMarathon • 2\,5kmShort • 1kmStart • 500m \n\n\n\nINSCRIÇÕES\n\n\n\nAs inscrições deverão ser realizadas até o dia 24 de julho (quarta-feira) às 18h\, com as seguintes informações\, para o e-mail atendimento.natacao@clubecuritibano.com.br:\n\n\n\nNome:Data de Nascimento:E-mail:Sexo:Celular:CPF:Prova:Tamanho Camiseta: \n\n\n\nO Clube subsidiará o pagamento referente à Prova Natação com Kit\, no valor de R$ 185\,00. Ao optar pelo combo\, ou por outra prova\, o Clube se reserva o direito de emitir uma cobrança adicional correspondente à diferença de valor. \n\n\n\nA efetivação e o pagamento da inscrição junto à organização do evento somente serão realizados pela Secretaria de Natação se recebidas dentro do prazo estabelecido (24/07/2024 às 18h). Após esta data\, a participação e o pagamento da inscrição ficam de inteira responsabilidade do atleta. \n\n\n\nSALIENTAMOS NÃO FAZER A INSCRIÇÃO DIRETAMENTE NO SITE\, QUEM REALIZAR ASSUMEINTEIRA RESPONSABILIDADE E PAGAMENTO. \n\n\n\nEm caso de ausência\, o Clube também reservará o direito de emitir um boleto para que o associado efetue a devolução do valor pago e não utilizado. \n\n\n\nREVEZAMENTO\n\n\n\nInteressados em participar do DESAFIO MARES – Revezamento 4 x 500m Misto\, devem se pronunciar diretamente com a Técnica Rúbia Zimermann\, na data acima mencionada. \n\n\n\nTRANSPORTE\n\n\n\nAlém das inscrições\, é oferecido pelo Clube Curitibano como benefício para a Equipe Master de Natação\, o transporte coletivo terrestre para competições com mais de 20 (vinte) atletas inscritos. \n\n\n\nPrevisão de saída e retorno do ônibus: \n\n\n\nSaída: 27/09\, na portaria da Petit Carneiro. \n\n\n\nRetorno: 29/09 após o término do evento. \n\n\n\nAcompanhantes sujeitos à vagas no transporte. \n\n\n\nO subsídio de inscrição e transporte só serão realizados para os atletas que estiverem em dia com o cadastro junto à Secretaria de Natação através do formulário
URL:https://ccnatacao.com.br/evento/circuito-mares-ilhabela/
LOCATION:Ilhabela – Praia do Engenho D`Água\, Ilhabela\, SP\, 11635000\, Brasil
CATEGORIES:Águas Abertas,Master
ATTACH;FMTTYPE=image/jpeg:https://ccnatacao.com.br/wp-content/uploads/2024/02/circuito-mares-ilhabela-ana-marcela.jpg
ORGANIZER;CN="Circuito Mares":MAILTO:contato@circuitomares.com.br
END:VEVENT
END:VCALENDAR