BEGIN:VCALENDAR
VERSION:2.0
PRODID:-//ccnatacao - ECPv6.15.17//NONSGML v1.0//EN
CALSCALE:GREGORIAN
METHOD:PUBLISH
X-WR-CALNAME:ccnatacao
X-ORIGINAL-URL:https://ccnatacao.com.br
X-WR-CALDESC:Eventos para ccnatacao
REFRESH-INTERVAL;VALUE=DURATION:PT1H
X-Robots-Tag:noindex
X-PUBLISHED-TTL:PT1H
BEGIN:VTIMEZONE
TZID:America/Sao_Paulo
BEGIN:STANDARD
TZOFFSETFROM:-0300
TZOFFSETTO:-0300
TZNAME:-03
DTSTART:20230101T000000
END:STANDARD
END:VTIMEZONE
BEGIN:VEVENT
DTSTART;TZID=America/Sao_Paulo:20240825T080000
DTEND;TZID=America/Sao_Paulo:20240825T190000
DTSTAMP:20260423T142634
CREATED:20240212T211005Z
LAST-MODIFIED:20240725T132259Z
UID:2988-1724572800-1724612400@ccnatacao.com.br
SUMMARY: 4º Campeonato Estadual PR/SC Master de Natação 
DESCRIPTION:O 4º Campeonato Estadual Master da Associação Master Paraná acontecerá na piscina olímpica do Clube Curitibano no dia 25 de Agosto. \n\n\n\nA inscrição deverá ser realizada diretamente pelo atleta\, de forma online\, no site: https://mastersparana.com.br/associacao/ até o dia 09/08/2024. \n\n\n\nNÃO FAZER PAGAMENTO À ASSOCIAÇÃO MASTER. \n\n\n\nComo benefício da Equipe Master\, o pagamento das inscrições será realizado pelo Clube Curitibano. Portanto\, o comprovante da inscrição deverá ser encaminhado para pagamento à Secretaria de Natação\, no e-mail atendimento.natacao@clubecuritibano.com.br\, até o dia 09/08 (sexta-feira). \n\n\n\nObs.1: Em caso de ausência na competição\, após o pagamento da inscrição\, o Clube reservará o direito de emitir um boleto para que efetuem a devolução do valor pago e não utilizado. \n\n\n\nObs.2: O benefício só é válido para os atletas que estiverem vinculados à Equipe Master em 2024\, com o cadastro em dia junto à Secretaria de Natação\, incluindo toda documentação e atestado médico. \n\n\n\nSegue boletim informativo da Associação Master Paraná. \n\n\nREGUL-4-ESTADUAL-PR-SC-2024\n\n\nPrograma de Provas\n\n\nPROG-PROVAS-4-ESTADUAL-2024-OSCAR
URL:https://ccnatacao.com.br/evento/4o-campeonato-estadual-pr-sc-master-de-natacao/
LOCATION:Clube Curitibano\, Av. Pres. Getúlio Vargas\, 2857\, Curitiba\, PR\, 80240-040\, Brasil
CATEGORIES:Master
ATTACH;FMTTYPE=image/jpeg:https://ccnatacao.com.br/wp-content/uploads/2024/02/Campeonato-Estadual-Master-2024.jpg
END:VEVENT
END:VCALENDAR