BEGIN:VCALENDAR
VERSION:2.0
PRODID:-//ccnatacao - ECPv6.15.17//NONSGML v1.0//EN
CALSCALE:GREGORIAN
METHOD:PUBLISH
X-WR-CALNAME:ccnatacao
X-ORIGINAL-URL:https://ccnatacao.com.br
X-WR-CALDESC:Eventos para ccnatacao
REFRESH-INTERVAL;VALUE=DURATION:PT1H
X-Robots-Tag:noindex
X-PUBLISHED-TTL:PT1H
BEGIN:VTIMEZONE
TZID:America/Sao_Paulo
BEGIN:STANDARD
TZOFFSETFROM:-0300
TZOFFSETTO:-0300
TZNAME:-03
DTSTART:20230101T000000
END:STANDARD
END:VTIMEZONE
BEGIN:VEVENT
DTSTART;TZID=America/Sao_Paulo:20240406T080000
DTEND;TZID=America/Sao_Paulo:20240407T170000
DTSTAMP:20260423T212043
CREATED:20240210T232732Z
LAST-MODIFIED:20240315T221904Z
UID:2885-1712390400-1712509200@ccnatacao.com.br
SUMMARY:2ª Etapa Circuito Ocean -  Jurerê
DESCRIPTION:A 2ª Etapa do Circuito Ocean da Águas Abertas da PDA Esportes será realizado na Praia de Jurerê\, em Florianópolis. \n\n\n\nInscrições até 24/03Valores de Inscrição – Lote Regular*:– Natação: R$ 168\,80– Natação 200m: R$ 84\,40– Aquathlon Individual: R$ 208\,80- Aquathlon Duplas: R$ 238\,80– Corrida: 98\,80– Corrida Kids: 49\,40*Atletas +60 Anos e PCD – 50% descontoCombos de Inscrição:– Natação 3K + 1\,5K: 253\,80– Natação + Aquathlon Ind.: R$ 293\,80– Natação + Corrida: R$ 218\,80\n\n\n\nImportante ressaltar que o Clube se compromete com o pagamento de somente uma inscrição. Em caso de aquisição de combo\, o Clube reservará o direito de emitir um boleto com a diferença no valor. \n\n\n\n \n\n\n\nINSCRIÇÕES: \n\n\n\nPara efetuar a sua inscrição\, acesse o site da Blue Tickets até o dia 24/03/2024 às 23h59 e coloque o cupom OC224_CURITIBANO \n\n\n\nKit do Atleta:Compra Opcional \n\n\n\nKit Básico: R$ 38\,80Camiseta Poliamida \n\n\n\nKit Premium*: R$ 58\,80Camiseta Poliamida + Squeeze \n\n\n\nPara aquisição do KIT\, basta selecioná-lo juntamente com a inscrição\, já com o cupom aplicado. \n\n\n\nAo fazê-lo\, os valores serão automaticamente zerados. Após a conclusão da inscrição\, solicitamos que envie o comprovante para o e-mail: atendimento.natacao@clubecuritibano.com.br \n\n\n\nA efetivação e o pagamento da inscrição junto à organização do evento somente serão realizados pela Secretaria de Natação se recebidas dentro do prazo estabelecido (24/03/2024 às 23h59). Após esta data\, a participação e o pagamento da inscrição ficam de inteira responsabilidade do atleta. \n\n\n\nHOSPEDAGEM: \n\n\n\nPousada Kindermann \n\n\n\nRua dos Chernes\, 208\, Jurere\, Florianópolis SC\, 88053-545\, Brasil \n\n\n\n\nApartamento de 1 Dormitório valor de R$185\,00 a diaria até 2 pessoas\n\n\n\nApartamento de 1 Dormitório cama de casal + solteiro para 3 pessoas: R$220\,00\n\n\n\nApartamento de 2 Dormitórios para até 5 pessoas: R$320\,00\n\n\n\n\nCheck-in a partir das 14:00 \n\n\n\nCheck-out até às 11:00\, com exceção de 2 quartos que ficarão para revezamento dos atletas\, conforme acordado com a Equipe\, com acréscimo de meia diária até às 16h. \n\n\n\n“Temos wi-fi\, ar condicionado\, tv\, estacionamento rotativo gratuito\, cadeiras de praia e guarda-sol para empréstimo. Não oferecemos café da manhã. Os apartamentos são completos com cozinha e todos os utensílios básicos. Oferecemos a roupa de cama e banho porém não oferecemos serviço de camareira\, caso queira troca de enxoval ou limpeza do apartamento será cobrado o serviço a parte. Toalhas de banho disponibilizamos apenas para os apartamentos\, não disponibilizamos para praia.” \n\n\n\nTRANSPORTE: \n\n\n\nAlém das inscrições\, é oferecido pelo Clube Curitibano como benefício para a Equipe Master de Natação\, o transporte coletivo terrestre para competições com mais de 20 (vinte) atletas inscritos e que optem pelo transporte (informar no e-mail momento do envio do comprovante). Da mesma forma\, em caso de não comparecimento\, o custo deverá ser reembolsado ao clube. \n\n\n\nSaída: 05/04 às 19h da Petit Carneiro \n\n\n\nRetorno: 07/04 às 16h \n\n\n\nAcompanhantes sujeitos à vagas no transporte. \n\n\n\nO subsídio de inscrição e transporte só serão realizados para os atletas que estiverem em dia com o cadastro junto à Secretaria de Natação através do formulário
URL:https://ccnatacao.com.br/evento/circuito-ocean-2a-etapa-jurere/
LOCATION:Praia de Jurerê\, Jurerê Internacional\, Florianópolis\, Santa Catarina\, 88053-400\, Brasil
CATEGORIES:Master
ATTACH;FMTTYPE=image/jpeg:https://ccnatacao.com.br/wp-content/uploads/2024/02/Praia-Jurere-circuito-ocean.jpg
END:VEVENT
BEGIN:VEVENT
DTSTART;TZID=America/Sao_Paulo:20240427T080000
DTEND;TZID=America/Sao_Paulo:20240427T180000
DTSTAMP:20260423T212043
CREATED:20240211T153411Z
LAST-MODIFIED:20240509T193445Z
UID:2906-1714204800-1714240800@ccnatacao.com.br
SUMMARY:2ª Etapa Meeting Paranaense - Londrina
DESCRIPTION:A 2ª Etapa do Meeting Parnaense de Natação Master foi realizada na piscina do Londrina Country Clube no dia 27 de Abril. \n\n\n\nConfira os Resultados – baixe o PDF\n\n\nresultados-2-etapa-londrina-1\n\n\n \n\n\n\nINSCRIÇÕES \n\n\n\nA inscrição deverá ser realizada diretamente pelo atleta\, de forma online\, no site: https://www.abmn.org.br/inscricao-on-line/ até o dia 16/04/2024. \n\n\n\nNÃO FAZER PAGAMENTO À ASSOCIAÇÃO MASTER. \n\n\n\nComo benefício da Equipe Master\, o pagamento das inscrições será realizado pelo Clube Curitibano. \n\n\n\nPortanto\, o comprovante da inscrição deverá ser encaminhado para pagamento à Secretaria de Natação\, no e-mail atendimento.natacao@clubecuritibano.com.br\, até o dia 16/04 (terça-feira).  \n\n\n\nObs.1: Em caso de ausência na competição\, após o pagamento da inscrição\, o Clube reservará o direito de emitir um boleto para que efetuem a devolução do valor pago e não utilizado. \n\n\n\nObs.2: O benefício só é válido para os atletas que estiverem vinculados à Equipe Master em 2024\, com o cadastro em dia junto à Secretaria de Natação\, incluindo toda documentação e atestado médico. \n\n\n\nHOSPEDAGEM: \n\n\n\nCedro Hotel \n\n\n\nAv. Juscelino Kubitscheck\, 200 – Centro\, Londrina – PR\, 86020-000 \n\n\n\nTarifário Especial \n\n\n\n\nQuarto Single R$ 179\,00\n\n\n\nQuarto Duplo: R$ 229\,00\n\n\n\nQuarto Triplo: R$ 269\,00\n\n\n\n\n \n\n\n\nTRANSPORTE: \n\n\n\nSerá oferecido pelo Clube Curitibano como benefício para a Equipe Master de Natação\, o transporte coletivo terrestre nas seguintes condições: \n\n\n\nEm caso de 15 (quinze) atletas inscritos e que optem pelo transporte (informar no e-mail momento do envio do comprovante)\, será disponibilizado um Micro-ônibus. Ônibus tradicional somente será ofertado se houver mais interessados.  \n\n\n\nEm caso de não comparecimento\, o custo deverá ser reembolsado ao clube. \n\n\n\nSaída: 26/04 às 19h da Petit Carneiro \n\n\n\nRetorno: 27/04 às 14h \n\n\n\nAcompanhantes sujeitos à vagas no transporte. \n\n\n\nO subsídio de inscrição e transporte só serão realizados para os atletas que estiverem em dia com o cadastro junto à Secretaria de Natação através do formulário \n\n\n\n \n\n\n\nPrograma de Provas\n\n\nPROG-PROVAS-2-ETAPA-LOND-2024-1
URL:https://ccnatacao.com.br/evento/meeting-paranaense-londrina-2024/
LOCATION:Londrina Country Club\, R. Fernando de Noronha\, 977\, Londrina\, PR\, 86060-410\, Brasil
CATEGORIES:Master
ATTACH;FMTTYPE=image/jpeg:https://ccnatacao.com.br/wp-content/uploads/2024/02/Meeting-2-Londrina-2024.jpeg
END:VEVENT
END:VCALENDAR