BEGIN:VCALENDAR
VERSION:2.0
PRODID:-//ccnatacao - ECPv6.15.17//NONSGML v1.0//EN
CALSCALE:GREGORIAN
METHOD:PUBLISH
X-WR-CALNAME:ccnatacao
X-ORIGINAL-URL:https://ccnatacao.com.br
X-WR-CALDESC:Eventos para ccnatacao
REFRESH-INTERVAL;VALUE=DURATION:PT1H
X-Robots-Tag:noindex
X-PUBLISHED-TTL:PT1H
BEGIN:VTIMEZONE
TZID:America/Sao_Paulo
BEGIN:STANDARD
TZOFFSETFROM:-0300
TZOFFSETTO:-0300
TZNAME:-03
DTSTART:20220101T000000
END:STANDARD
END:VTIMEZONE
BEGIN:VEVENT
DTSTART;TZID=America/Sao_Paulo:20231111T080000
DTEND;TZID=America/Sao_Paulo:20231112T170000
DTSTAMP:20260424T060803
CREATED:20231014T133624Z
LAST-MODIFIED:20231020T144549Z
UID:2332-1699689600-1699808400@ccnatacao.com.br
SUMMARY:4ª Etapa Circuito Ocean - Balneário Piçarras/SC
DESCRIPTION:CIRCUITO OCEAN – NATAÇÃO EM ÁGUAS ABERTAS – 4ª ETAPA\n\n\n\nDATA: 11 e 12 de novembro de 2023\n\n\n\nLOCAL: Balneário Piçarras/SC\n\n\n\nDISTANCIAS: Rev.4x200m\, 750m\, 1.500m\, 3.000m.\n\n\n\nINSCRIÇÕES: \n\n\n\nPara efetuar a sua inscrição\, acesse o site da Blue Tickets e utilize o cupom OC423_CURITIBANOS \n\n\n\nAo fazê-lo\, o valor da inscrição será automaticamente zerado. Após a conclusão da inscrição\, solicitamos que gentilmente envie o comprovante para o seguinte endereço de e-mail: luane.caminha@clubecuritibano.com.br. \n\n\n\nA efetivação e o pagamento da inscrição junto à organização do evento somente serão realizados pela Secretaria de Natação se recebidas dentro do prazo estabelecido (25/10/2023 às 14h). Após esta data\, a participação e o pagamento da inscrição ficam de inteira responsabilidade do atleta. \n\n\n\nHOSPEDAGEM: \n\n\n\nOrçamento para 01 ou 02 pessoas – Hotel Manguinho – a diária com café da manhã e estacionamento incluso:Vista Mar: R$309\,00Vista Montanha: R$289\,00Deluxe (2° andar): R$ 229\,00 Econômico (Térreo):​ R$ 229\,00 \n\n\n\nContato: 47 – 99272-0999 \n\n\n\nTRANSPORTE: \n\n\n\nAlém das inscrições\, é oferecido pelo Clube Curitibano como benefício para a Equipe Master de Natação\, o transporte coletivo terrestre para competições com mais de dez atletas inscritos. Da mesma forma\, em caso de não comparecimento\, o custo deverá ser reembolsado ao clube. \n\n\n\nPrevisão de saída e retorno do ônibus: \n\n\n\nSaída: 11/11 às 09h\, na portaria da Petit Carneiro. \n\n\n\nRetorno: 12/10 às 16h. \n\n\n\nAcompanhantes sujeitos à vagas no transporte. \n\n\n\nO subsídio de inscrição e transporte só serão realizados para os atletas que estiverem em dia com o cadastro junto à Secretaria de Natação através do formulário
URL:https://ccnatacao.com.br/evento/4a-etapa-circuito-ocean-master-picarras-sc/
CATEGORIES:Master
ATTACH;FMTTYPE=image/png:https://ccnatacao.com.br/wp-content/uploads/2023/10/capturar1.png
ORGANIZER;CN="PDA Esportes":MAILTO:falecom@pdaesportes.com.br
END:VEVENT
BEGIN:VEVENT
DTSTART;TZID=America/Sao_Paulo:20231123T080000
DTEND;TZID=America/Sao_Paulo:20231126T170000
DTSTAMP:20260424T060803
CREATED:20230919T014404Z
LAST-MODIFIED:20231101T182254Z
UID:2197-1700726400-1701018000@ccnatacao.com.br
SUMMARY:70º Campeonato Brasileiro Master de Natação - Praia Clube
DESCRIPTION:70º CAMPEONATO BRASILEIRO MASTERS DE NATAÇÃO\n\n\n\n\nModalidade: NATAÇÃO\n\n\n\nEscopo: BRASILEIRO\n\n\n\nOrganização: ASSOCIAÇÃO BRASILEIRA DE MASTERS DE NATAÇÃO\n\n\n\nData: 23 Nov a 26 Nov 2023\n\n\n\nData limite para inscrições on-line (provas individuais): 8 Nov 2023\n\n\n\nData limite para inscrições on-line (revezamentos): 13 Nov 2023\n\n\n\nLocal do evento: PRAIA CLUBE DE UBERLÂNDIAPRAÇA PRIMO CROSARA\, 505 – COPACABANA UBERLÂNDIA/MG – 38411-076 – BRA\n\n\n\nPiscina: 50 METROS (10 raias)\n\n\n\nPara mais informações acesse o site: https://www.abmn.org.br/calendario-nacional/?evento=1314\n\n\n\nA inscrição deverá ser realizada diretamente pelo atleta\, de forma online\, no site: https://www.abmn.org.br/inscricao-on-line/\n\n\n\nPara essa competição o atleta efetua o pagamento\, encaminha a confirmação e o comprovante de pagamento via e-mail para Secretaria de Natação (luane.caminha@clubecuritibano.com.br)\, até o dia 08/11\, para receber o reembolso do Clube após a realização do evento.\n\n\n\nCada atleta é responsável por seu transporte e hospedagem\, não havendo transporte coletivo ou subsídio para transporte particular.\n\n\n\nEsta etapa terá a presença de técnico somente se atingido o número mínimo de 10 atletas participantes.\n\n\n\nComo já é de conhecimento\, o Clube se responsabiliza pela taxa de inscrição dos atletas nas competições. Desta forma\, em caso de ausência do atleta na competição\, não haverá reembolso de custos.\n\n\n\nO subsídio de inscrição só será aplicado para os atletas que estiverem vinculados à Equipe Master em 2023\, com o cadastro em dia junto à Secretaria de Natação\, incluindo toda documentação e atestado médico\, e cumprindo com os critérios estipulados em Regulamento.\n\n\n\n\n\n\n\n\nInformações disponíveis \n\n\n\nInformaçãoAtualizado emREGULAMENTO GERAL DE COMPETIÇÕES 202312/01/2023 10:49REGULAMENTO ANUAL DE COMPETIÇÕES 202306/05/2023 08:50REGULAMENTO GERAL DO CIRCUITO BRASIL MASTERS DE NATAÇÃO 202312/01/2023 10:54\n\n\n\nPROGRAMA DE PROVAS\n\n\n\n1ª ETAPA\, 23/11/2023 (Quinta)AQUECIMENTO: INÍCIO ÀS 07:30\, TÉRMINO ÀS 08:20 \n\n\n\nNÚMEROPROVA1ª PROVA400 MEDLEY FEM2ª PROVA400 MEDLEY MASC3ª PROVA100 LIVRE MASC4ª PROVA100 LIVRE FEM5ª PROVA200 COSTAS FEM6ª PROVA200 COSTAS MASC7ª PROVA4X50 LIVRE MISTO8ª PROVA1500 LIVRE FEM9ª PROVA1500 LIVRE MASC\n\n\n\n2ª ETAPA\, 24/11/2023 (Sexta)AQUECIMENTO: INÍCIO ÀS 07:30\, TÉRMINO ÀS 08:20 \n\n\n\nNÚMEROPROVA10ª PROVA200 MEDLEY FEM11ª PROVA50 LIVRE MASC12ª PROVA50 LIVRE FEM13ª PROVA200 PEITO MASC14ª PROVA200 PEITO FEM15ª PROVA400 LIVRE MASC16ª PROVA100 BORBOLETA FEM17ª PROVA100 BORBOLETA MASC18ª PROVA4X50 MEDLEY FEM19ª PROVA4X50 MEDLEY MASC20ª PROVA4X200 LIVRE MISTO\n\n\n\n3ª ETAPA\, 25/11/2023 (Sábado)AQUECIMENTO: INÍCIO ÀS 08:00\, TÉRMINO ÀS 08:50 \n\n\n\nNÚMEROPROVA21ª PROVA200 MEDLEY MASC22ª PROVA50 COSTAS FEM23ª PROVA50 COSTAS MASC24ª PROVA200 BORBOLETA FEM25ª PROVA200 BORBOLETA MASC26ª PROVA100 PEITO FEM27ª PROVA100 PEITO MASC28ª PROVA400 LIVRE FEM29ª PROVA4X50 MEDLEY MISTO30ª PROVA4X100 LIVRE MASC31ª PROVA4X100 LIVRE FEM\n\n\n\n4ª ETAPA\, 26/11/2023 (Domingo)AQUECIMENTO: INÍCIO ÀS 08:00\, TÉRMINO ÀS 08:50 \n\n\n\nNÚMEROPROVA32ª PROVA200 LIVRE MASC33ª PROVA200 LIVRE FEM34ª PROVA50 PEITO MASC35ª PROVA50 PEITO FEM36ª PROVA50 BORBOLETA MASC37ª PROVA50 BORBOLETA FEM38ª PROVA100 COSTAS MASC39ª PROVA100 COSTAS FEM40ª PROVA4X50 LIVRE FEM41ª PROVA4X50 LIVRE MASC42ª PROVA4X100 MEDLEY MISTO
URL:https://ccnatacao.com.br/evento/70o-campeanato-brasileiro-master-de-natacao-praia-clube/
LOCATION:Praia Clube – Uberlândia\, Praça Primo Crosara\, 505 - Copacabana\, Uberlândia\, MG\, Brasil
CATEGORIES:Master
ATTACH;FMTTYPE=image/jpeg:https://ccnatacao.com.br/wp-content/uploads/2023/09/piscina-praia-clube-uberlandia.jpg
ORGANIZER;CN="ABMN - Associa%C3%A7ao Brasileira Master de Nata%C3%A7%C3%A3o":MAILTO:abmn@abmn.org.br
END:VEVENT
END:VCALENDAR