BEGIN:VCALENDAR
VERSION:2.0
PRODID:-//ccnatacao - ECPv6.15.17//NONSGML v1.0//EN
CALSCALE:GREGORIAN
METHOD:PUBLISH
X-WR-CALNAME:ccnatacao
X-ORIGINAL-URL:https://ccnatacao.com.br
X-WR-CALDESC:Eventos para ccnatacao
REFRESH-INTERVAL;VALUE=DURATION:PT1H
X-Robots-Tag:noindex
X-PUBLISHED-TTL:PT1H
BEGIN:VTIMEZONE
TZID:America/Sao_Paulo
BEGIN:STANDARD
TZOFFSETFROM:-0300
TZOFFSETTO:-0300
TZNAME:-03
DTSTART:20220101T000000
END:STANDARD
END:VTIMEZONE
BEGIN:VEVENT
DTSTART;TZID=America/Sao_Paulo:20230917T080000
DTEND;TZID=America/Sao_Paulo:20230917T170000
DTSTAMP:20260424T090721
CREATED:20230710T005910Z
LAST-MODIFIED:20230910T002032Z
UID:1527-1694937600-1694970000@ccnatacao.com.br
SUMMARY:3º Campeonato Paranaense Master de Natação
DESCRIPTION:DATA: 17 de setembro de 2023 às 07h30 \n\n\n\nLOCAL: Clube Curitibano / Curitiba – PR \n\n\n\nBalizamento\n\n\nBALIZAMENTO-Paranaense-Master-23\n \n\n\n\nNÃO FAZER PAGAMENTO À ASSOCIAÇÃO MASTER. \n\n\n\nComo benefício da Equipe Master\, o pagamento das inscrições será realizado pelo Clube Curitibano. Portanto\, o comprovante da inscrição deverá ser encaminhado para pagamento à Secretaria de Natação\, no e-mail luane.caminha@clubecuritibano.com.br\, até o dia 08/09 (sexta-feira). \n\n\n\nEnviaremos um e-mail confirmando o recebimento. Caso isso não ocorra\, o atleta deverá entrar em contato com a Secretaria até a data estipulada para inscrição\, 08 setembro (sexta-feira). \n\n\n\nObs.1: Em caso de ausência na competição\, após o pagamento da inscrição\, o Clube reservará o direito de emitir um boleto para que efetuem a devolução do valor pago e não utilizado. \n\n\n\nObs.2: O benefício só é válido para os atletas que estiverem vinculados à Equipe Master em 2023\, com o cadastro em dia junto à Secretaria de Natação\, incluindo toda documentação e atestado médico. \n\n\n\nSegue boletim informativo da Associação Master Paraná. \n\n\nPROG-PROVAS-3-ESTADUAL-2023-1\n \n\n\nREGUL-3-ESTADUAL-MASTERS-2023-1\n \n\n\n\nA inscrição deverá ser realizada diretamente pelo atleta. \n\n\n\n\nCLIQUE AQUI PARA REALIZAR A INSCRIÇÃO
URL:https://ccnatacao.com.br/evento/4o-campeonato-paranaense-master-de-natacao/
LOCATION:Clube Curitibano\, Av. Pres. Getúlio Vargas\, 2857\, Curitiba\, PR\, 80240-040\, Brasil
CATEGORIES:Master
ATTACH;FMTTYPE=image/jpeg:https://ccnatacao.com.br/wp-content/uploads/2023/07/BANNER-estadual.jpg
ORGANIZER;CN="Associa%C3%A7%C3%A3o Master Parana":MAILTO:MOREL@ONDA.COM.BR
END:VEVENT
END:VCALENDAR