BEGIN:VCALENDAR
VERSION:2.0
PRODID:-//ccnatacao - ECPv6.15.17//NONSGML v1.0//EN
CALSCALE:GREGORIAN
METHOD:PUBLISH
X-ORIGINAL-URL:https://ccnatacao.com.br
X-WR-CALDESC:Eventos para ccnatacao
REFRESH-INTERVAL;VALUE=DURATION:PT1H
X-Robots-Tag:noindex
X-PUBLISHED-TTL:PT1H
BEGIN:VTIMEZONE
TZID:America/Sao_Paulo
BEGIN:STANDARD
TZOFFSETFROM:-0300
TZOFFSETTO:-0300
TZNAME:-03
DTSTART:20220101T000000
END:STANDARD
END:VTIMEZONE
BEGIN:VEVENT
DTSTART;TZID=America/Sao_Paulo:20230630T080000
DTEND;TZID=America/Sao_Paulo:20230702T123000
DTSTAMP:20260424T123544
CREATED:20230406T112603Z
LAST-MODIFIED:20230613T120431Z
UID:809-1688112000-1688301000@ccnatacao.com.br
SUMMARY:X Terra Caragua
DESCRIPTION:Xterra – Swim Storm \n\n\n\nDATA: 01 de julho de 2023 \n\n\n\nLOCAL: Caraguatatuba – SP \n\n\n\nFORMATO: Desafio de natação em mar aberto em 3 baterias: \n\n\n\nBateria 1: 1\,5km (tempo limite – 60min) \n\n\n\nBateria 2: 1\,0km (tempo limite – 45min) \n\n\n\nBateria 3: 500m (tempo limite – 30min) \n\n\n\nO intervalo entre uma bateria e a subsequente será de 15 minutos após o último atleta completar a bateria anterior. Será feita uma nova largada a cada bateria com todos os atletas alinhados no pórtico Swim Storm. Cada atleta terá 3 tempos (correspondente a cada bateria) que serão somados para fins de classificação geral e categoria. Aquele atleta que não completar alguma bateria será automaticamente desclassificado da prova. \n\n\n\nSeguem informações referentes ao evento: \n\n\n\nInscrição: \n\n\n\nA inscrição deverá ser realizada diretamente pelo atleta\, de forma online\, através do site: https://site.ticketsports.com.br/Inscricao/categoria.aspx?__idEvento=35218&lang=ptbr    \n\n\n\nCupom com 20% de desconto: Caragua_Marcinho_20Para essa competição o atleta efetua o pagamento e nos encaminha o e-mail com a confirmação\, até o dia 30/06/2023. Após a realização do evento a Secretaria de Natação fará o reembolso do valor pago. \n\n\n\nEm caso de ausência na competição\, o atleta não terá direito ao reembolso da inscrição. \n\n\n\nHOSPEDAGEM: \n\n\n\nHOTEL: POUSADA PORTO DO RIO PRAI \n\n\n\nEndereço: R. Pedro de Araújo Lima\, 179 – Porto Novo\, Caraguatatuba – SP\, 11667-200. \n\n\n\nValor das duas diárias do quarto duplo R$ 119\,00 por pessoa \, incluindo café da manhã no sábado a partir das 05h30 para a competição. \n\n\n\nContato para a reserva (12)97405-1210 – Falar com Simone. \n\n\n\nA pré-reserva ficará disponível até segunda-feira dia 19/06/2023. \n\n\n\nTRANSPORTE: \n\n\n\nO transporte será através de ônibus fretado e é oferecido pelo Clube Curitibano como benefício para a Equipe Master de Natação. \n\n\n\nPrevisão de saída dia 30/06 (sexta-feira) às 13h30\, com retorno dia 02/07 (domingo) às 09h00. \n\n\n\nOs benefícios só são válidos para os atletas que estiverem vinculados à Equipe Master em 2023\, com o cadastro em dia junto à Secretaria de Natação\, incluindo toda documentação e atestado médico.
URL:https://ccnatacao.com.br/evento/x-terra-caragua/
LOCATION:X Terra Caraguatatuba\, Caraguatatuba\, SP\, 11669-000\, Brasil
CATEGORIES:Águas Abertas,Master
ATTACH;FMTTYPE=image/jpeg:https://ccnatacao.com.br/wp-content/uploads/2023/04/x-terra-caraguatatuba.jpg
ORGANIZER;CN="X Terra":MAILTO:atendimento@xterrabrasil.com.br
END:VEVENT
BEGIN:VEVENT
DTSTART;TZID=America/Sao_Paulo:20230716T090000
DTEND;TZID=America/Sao_Paulo:20230716T130000
DTSTAMP:20260424T123544
CREATED:20230406T122636Z
LAST-MODIFIED:20230705T151640Z
UID:828-1689498000-1689512400@ccnatacao.com.br
SUMMARY:2ª Etapa Circuito FDAP de Águas Abertas - Guaratuba
DESCRIPTION:A Secretaria do Esporte do Paraná\, em parceria com a Federação de Desportos Aquáticos do Paraná e Correr e Nadar Eventos Esportivos\, organizará o Festival de Inverno de Guaratuba\, parte dos Jogos de Aventura & Natureza. \n\n\n\n\n\n\n\nO evento contará com provas de 1500 metros\, 750 metros e 400 metros\, distribuídas em diversas categorias\, podendo comportar um total de até 300 atletas. Os horários de largada das provas são os seguintes: \n\n\n\n\n09h00: 1.500 Metros\n\n\n\n10h30: 750 Metros\n\n\n\n11h30: 400 Metros (Kids)\n\n\n\n\nOs resultados do evento também serão contabilizados como parte da 2ª Etapa do Circuito Paranaense de Águas Abertas da FDAP. Para se inscrever\, basta acessar o formulário abaixo e preenchê-lo com os dados solicitados. É importante lembrar que as inscrições se encerram em 10/07/2023. \n\n\n\nAtenção: Os resultados do atleta somente serão contabilizados como parte do Circuito Paranaense de Águas Abertas caso ele esteja atualmente federado por um clube/equipe paranaense na modalidade de Natação ou Águas Abertas. Caso o atleta seja federado somente na modalidade de natação\, é necessário solicitar a ativação do cadastro de Águas Abertas. \n\n\n\nINSCRIÇÕES (idade mínima de 09 (nove) anos):  \n\n\n\nAs inscrições são realizadas diretamente no site da FDAP\, até o dia 10/07\, por meio do seguinte formulário: clique aqui. \n\n\n\nFica condicionado para participação: 1kg de alimento não perecível e 1 peça para a Campanha do Agasalho que deverão ser levados ao evento. \n\n\n\nTRANSPORTE: \n\n\n\nAos que tiverem interesse em transporte por meio do Clube Curitibano\, solicitamos que encaminhem o comprovante de inscrição para o e-mail maria.vasconcelos@clubecuritibano.com.br impreterivelmente até o dia 11/07. Após esta data\, o transporte fica de inteira responsabilidade do atleta. \n\n\n\nO transporte e a presença do técnico ficam condicionados a participação de mais de 20 atletas que participem da competição e optem pelo transporte coletivo no e-mail. \n\n\n\nO ônibus sairá às 5h da portaria da Petit Carneiro e retornará após o encerramento do evento.  \n\n\n\n*Acompanhantes estão sujeitos à vagas disponíveis no ônibus.  \n\n\nRegulamento-Especifico
URL:https://ccnatacao.com.br/evento/2a-etapa-circuito-fdap-de-aguas-abertas/
LOCATION:Guaratuba – PR\, Praia Central\, Guaratuba\, PR\, 93280000\, Brasil
CATEGORIES:Águas Abertas,Master
ATTACH;FMTTYPE=image/jpeg:https://ccnatacao.com.br/wp-content/uploads/2023/04/maratonas-aquaticas.jpg
ORGANIZER;CN="FDAP - Federa%C3%A7%C3%A3o de Desportos Aqu%C3%A1ticos do Paran%C3%A1":MAILTO:fdap@fdap.org.br
END:VEVENT
END:VCALENDAR