BEGIN:VCALENDAR
VERSION:2.0
PRODID:-//ccnatacao - ECPv6.15.17//NONSGML v1.0//EN
CALSCALE:GREGORIAN
METHOD:PUBLISH
X-ORIGINAL-URL:https://ccnatacao.com.br
X-WR-CALDESC:Eventos para ccnatacao
REFRESH-INTERVAL;VALUE=DURATION:PT1H
X-Robots-Tag:noindex
X-PUBLISHED-TTL:PT1H
BEGIN:VTIMEZONE
TZID:America/Sao_Paulo
BEGIN:STANDARD
TZOFFSETFROM:-0300
TZOFFSETTO:-0300
TZNAME:-03
DTSTART:20220101T000000
END:STANDARD
END:VTIMEZONE
BEGIN:VEVENT
DTSTART;TZID=America/Sao_Paulo:20230415T080000
DTEND;TZID=America/Sao_Paulo:20230415T170000
DTSTAMP:20260425T094913
CREATED:20230327T004046Z
LAST-MODIFIED:20230418T234618Z
UID:402-1681545600-1681578000@ccnatacao.com.br
SUMMARY:2a Etapa Meeting PR/SC - Londrina
DESCRIPTION:resultados-londrina-2023Baixar\n\n\nTroféu Nilo Joji Morishita. \n2ª ETAPA = 15 DE ABRIL DE 2023 – SÁBADO  \nDATA LIMITE PARA INSCRIÇÕES: 05 DE ABRIL DE 2023  \nMÁXIMO DE 2 PROVAS INDIVIDUAIS + REVEZAMENTOS  \nLOCAL:- COUNTRY CLUBE DE LONDRINA – PISC. 25 M. – FONE (43) 3327-4741  \nRUA FERNANDO DE NORONHA\, 977 – CENTRO – 86.060-410 – LONDRINA / PR  \nINSCRIÇÃO – ATRAVÉS SITE  \nWWW.MASTERSPARANA.COM.BR OU WWW.ABMN.ORG.BR  \nPAGAMENTO:- BCO. ITAU = AG. 3723 = C/C 03484-3 = ASSOC. MASTERS PR.  \nPIX – CNPJ :- 81.915.084/0001-95  \nENVIAR RECIBO DO DEPOSITO PARA COMPROVANTE@MASTERSPARANA.COM.BR.  \nOUTRAS INF. (47) 3345-1032
URL:https://ccnatacao.com.br/evento/2a-etapa-meeting-pr-sc/
LOCATION:Londrina Country Club\, R. Fernando de Noronha\, 977\, Londrina\, PR\, 86060-410\, Brasil
CATEGORIES:Master
ATTACH;FMTTYPE=image/jpeg:https://ccnatacao.com.br/wp-content/uploads/2023/03/Londrina-Country-piscina-e1680645708788.jpeg
ORGANIZER;CN="Associa%C3%A7%C3%A3o Master Parana":MAILTO:MOREL@ONDA.COM.BR
END:VEVENT
BEGIN:VEVENT
DTSTART;TZID=America/Sao_Paulo:20230416T080000
DTEND;TZID=America/Sao_Paulo:20230416T170000
DTSTAMP:20260425T094913
CREATED:20230327T005131Z
LAST-MODIFIED:20230416T180607Z
UID:406-1681632000-1681664400@ccnatacao.com.br
SUMMARY:Circuito Correr e Nadar - Etapa Ilha do Mel
DESCRIPTION:Confira os resultados:\n\n\n\nIlha do Mel 16/Abr 2.5k 1.5k 600m Kids 200m – 12ª Edição\n\n\n:: Natação Masculino 2.5K\n\n\nCol.\nCategoria\nTempo\nPto\nAtleta\nEquipe\n\n\n1\n20 – 24 anos\n00:29:27\n30\nJulio Cesar Birkner\nLira Tênis Clube / Treino Travessias\n\n\n2\n40 – 44 anos\n00:30:52\n26\nBernardo De Castro Wanderley\nClube Curitibano\n\n\n3\n50 – 54 anos\n00:31:08\n24\nMarco Rodrigo Saber\nClube Curitibano\n\n\n4\n45 – 49 anos\n00:31:49\n22\nJoão Carlos Sorgi\nClube Curitibano\n\n\n5\n60 – 64 anos\n00:32:35\n20\nOscar Sérgio Mafra Magalhães Monteiro\nClube Curitibano\n\n\n6\n35 – 39 anos\n00:32:52\n18\nFilipe Fernandes Baptista\nClube Curitibano\n\n\n7\n40 – 44 anos\n00:34:23\n16\nGiuliano Asinelli\nAcademia Gustavo Borges\n\n\n8\n55 – 59 anos\n00:34:25\n14\nSergio Chiesa\nClube Curitibano / Bpm Assessoria\n\n\n9\n55 – 59 anos\n00:34:36\n12\nLeopoldino S. De Abreu Bisneto\nClube Curitibano\n\n\n10\n25 – 29 anos\n00:34:43\n10\nVictor Feitosa Lourenco\nAcademia Gustavo Borges\n\n\n11\n60 – 64 anos\n00:34:51\n8\nJose Ricardo Correa Portela\nClube Curitibano\n\n\n12\n60 – 64 anos\n00:34:56\n6\nMário Jorge da Costa Monteiro\nClube Curitibano\n\n\n13\n60 – 64 anos\n00:37:16\n4\nSérgio Montenegro\nClube Curitibano\n\n\n14\n45 – 49 anos\n00:37:23\n2\nRodrigo Taborda Ribas\nClube Curitibano\n\n\n15\n40 – 44 anos\n00:37:28\n1\nMarcelo Victor R de Morais\nAcademia Gustavo Borges\n\n\n16\n50 – 54 anos\n00:37:32\n1\nAdemar de Mesquita Barbosa\nMesquita\n\n\n17\n55 – 59 anos\n00:37:40\n1\nPaulo D Assumpcao Zaniol\nClube Curitibano\n\n\n18\n45 – 49 anos\n00:38:28\n1\nAnaxandre Mitsuo Ise\nAcademia Olímpica\n\n\n19\n55 – 59 anos\n00:38:36\n1\nMarcos José Mannalá\nBenefit Araucária\n\n\n20\n35 – 39 anos\n00:38:45\n1\nGiovani Miguel Milanezi\nArenna Carvalho\n\n\n21\n40 – 44 anos\n00:38:49\n1\nPaulo Henrique Lopes\nAcademia Gustavo Borges\n\n\n22\n40 – 44 anos\n00:39:06\n1\nRodrigo Pereira Araujo\nMts Performance\n\n\n23\n25 – 29 anos\n00:39:54\n1\nKaique Ayran Antoniacomi\nNado Livre\n\n\n24\n13 – 15 anos\n00:40:00\n6\nRiccieri Rodrigues Muzolon\nAcademia Gustavo Borges\n\n\n25\n45 – 49 anos\n00:40:16\n1\nJosé Silvio Gori Filho\nAlexandre Kirilos Águas Abertas\n\n\n26\n35 – 39 anos\n00:40:20\n1\nRicardo Mathias Lamers\nSwimex\n\n\n27\n30 – 34 anos\n00:41:47\n6\nAlberto Inckot Mikosz\nBenefit Araucária\n\n\n28\n45 – 49 anos\n00:41:51\n6\nMauricio Cardoso Segundo\nCabral Natação\n\n\n29\n50 – 54 anos\n00:43:15\n1\nMarcos Vinicius da Rocha\nAcademia Gustavo Borges\n\n\n30\n40 – 44 anos\n00:44:37\n1\nSergio Roberto Chaves Junior\nAsufepar\n\n\n31\n50 – 54 anos\n00:45:56\n1\nPedro Paulo Frello\nSanta Swimmers\n\n\n32\n40 – 44 anos\n00:46:25\n1\nRafael Baptista Gama\nUniversidade Positivo\n\n\n33\n25 – 29 anos\n00:46:56\n1\nBruno Reway de Deus\nAcademia Gustavo Borges\n\n\n34\n40 – 44 anos\n00:47:16\n1\nDenison Hermogenes Ferreira\nTriax\n\n\n35\n65 – 69 anos\n00:47:56\n1\nAlfredo Berros\nAcademia Gustavo Borges\n\n\n36\n16 – 19 anos\n00:48:05\n1\nHenrique Valerio\nCarpe Diem\n\n\n37\n50 – 54 anos\n00:48:13\n6\nFabio Bordin Coelho\nNado Livre\n\n\n38\n35 – 39 anos\n00:48:23\n1\nJoao Gilberto Muraro\nAcademia Gustavo Borges\n\n\n39\n35 – 39 anos\n00:48:34\n1\nRafael Felice Fan Chen\nAcademia Gustavo Borges\n\n\n40\n60 – 64 anos\n00:52:06\n6\nDouglas Jose Andrade\nAcademia Gustavo Borges\n\n\n41\n40 – 44 anos\n00:58:11\n1\nCarlos Eduardo Cecy\nAcademia Gustavo Borges\n\n\n:: Natação Masculino 1.5K\n\n\nCol.\nCategoria\nTempo\nPto\nAtleta\nEquipe\n\n\n1\n45 – 49 anos\n00:20:35\n30\nGustavo Obroslak Saldo\nClube Curitibano\n\n\n2\n20 – 24 anos\n00:21:27\n26\nThiago Marcelino Ribeiro Alves\nAcademia Olímpica\n\n\n3\n13 – 15 anos\n00:21:31\n24\nPietro Lobo Mussoi\nArenna Carvalho\n\n\n4\n40 – 44 anos\n00:21:37\n22\nGuilherme Hamati\nClube Curitibano\n\n\n5\n16 – 19 anos\n00:22:31\n20\nGuilherme Matos Brum de Oliveira\nMorgenau\n\n\n6\n13 – 15 anos\n00:23:45\n18\nFelipe Alves Gonçalves\nArenna Carvalho\n\n\n7\n65 – 69 anos\n00:23:53\n16\nCarlos Andre Guimaraes Pangracio\nClube Curitibano\n\n\n8\n45 – 49 anos\n00:24:01\n19\nOdirlei Garcia Do Nascimento\nCírculo Militar Do Paraná\n\n\n9\n35 – 39 anos\n00:24:05\n12\nDiego Litza\nNado Livre\n\n\n10\n45 – 49 anos\n00:25:45\n10\nWilson Isfer Filho\nClube Curitibano\n\n\n11\n50 – 54 anos\n00:25:52\n8\nMarcio Luis Marucco\nClube Curitibano\n\n\n12\n16 – 19 anos\n00:26:14\n6\nHenrique da Costa Ricardo Gonçalves\nArenna Carvalho\n\n\n13\n50 – 54 anos\n00:26:42\n4\nPaulo Schibeloske\nSwimex\n\n\n14\n30 – 34 anos\n00:26:49\n2\nMairon dos Santos Ribas\nOlímpica\n\n\n15\n35 – 39 anos\n00:26:54\n1\nBreno Dourado Pessoni\nAcademia Olímpica\n\n\n16\n40 – 44 anos\n00:26:59\n1\nFabricio Gomes\nWlopes Team\n\n\n17\n45 – 49 anos\n00:27:07\n1\nAndre de Almeida Pinheiro\nClube Curitibano\n\n\n18\n40 – 44 anos\n00:27:50\n6\nTulio Dalla Pria\nPria\n\n\n19\n55 – 59 anos\n00:28:00\n1\nPaulo Sergio Marthaus\nAcademia Gustavo Borges\n\n\n20\n13 – 15 anos\n00:29:08\n1\nFelipe Maziero\nAcademia Gustavo Borges\n\n\n21\n45 – 49 anos\n00:29:28\n1\nThiago Sillas\nSillas\n\n\n22\n50 – 54 anos\n00:29:48\n1\nEduardo Pereira de Oliveira Mello\nAlexandre Kirilos Águas Abertas\n\n\n23\n35 – 39 anos\n00:31:00\n1\nFabrício Martins Vilarinho\nArenna Carvalho\n\n\n24\n65 – 69 anos\n00:31:09\n1\nRoberto Carlos Theodoro Becher\nBraçada a Braçada – Natação Guaratuba\n\n\n25\n55 – 59 anos\n00:31:11\n6\nRobson Esteves Martins\nAcademia Gustavo Borges\n\n\n26\n25 – 29 anos\n00:32:04\n1\nMateus Felipe Catarino\nCírculo Militar Do Paraná\n\n\n27\n20 – 24 anos\n00:32:07\n6\nMatheus S. Ferraz de A. Lima\nTriax\n\n\n28\n45 – 49 anos\n00:32:45\n1\nJosé Augusto Bleggi De Leão Filho\nClube Curitibano\n\n\n29\n70 – 74 anos\n00:32:50\n1\nLuís Augusto Santos\nArel Londrina\n\n\n30\n30 – 34 anos\n00:34:18\n1\nAndré Felipe Jacomini\nAcademia Gustavo Borges\n\n\n31\n45 – 49 anos\n00:34:26\n1\nDarius Godoy\nAcademia Gustavo Borges\n\n\n32\n60 – 64 anos\n00:34:28\n1\nPaulo Roberto Mohr\nClube Curitibano\n\n\n33\n75+\n00:35:34\n1\nVladimir Passos De Freitas\nClube Curitibano\n\n\n34\n35 – 39 anos\n00:35:40\n1\nJoas Schmidt Mickus\nSeven\n\n\n35\n45 – 49 anos\n00:38:16\n1\nRonal Klostermann Junior\nFamilia Utida\n\n\n36\n13 – 15 anos\n00:40:29\n6\nJoão Gabriel Pechnicki da Rosa\nAmigas de Batom Pelos Mares_Nemo\n\n\n:: Natação Masculino 600m\n\n\nCol.\nCategoria\nTempo\nPto\nAtleta\nEquipe\n\n\n1\n13 – 15 anos\n00:11:56\n30\nGustavo de Oliveira dos Santos\nAcademia H2O\n\n\n2\n50 – 54 anos\n00:12:02\n26\nMarcelo Tocolini\nClube Curitibano\n\n\n3\n60 – 64 anos\n00:12:34\n24\nLuiz Alberto De Paulo Lenz Cesar\nClube Curitibano\n\n\n4\n13 – 15 anos\n00:13:12\n22\nLukas Jose Maria Pedro\nArenna Carvalho\n\n\n5\n55 – 59 anos\n00:13:17\n20\nPaulo Sérgio Toledo Martins\n \n\n\n6\n40 – 44 anos\n00:13:26\n18\nLeandro Carvalho Vieira\nArenna Carvalho\n\n\n7\n45 – 49 anos\n00:14:16\n16\nJean Rangel de Lima\nAcademia H2O\n\n\n8\n50 – 54 anos\n00:14:26\n14\nMarcos Moises Weigert\nTriax\n\n\n9\n13 – 15 anos\n00:15:18\n12\nPedro Henrique Wrublewski Machado\nAcademia Gustavo Borges\n\n\n10\n11 – 12 anos\n00:15:21\n10\nMarcos Vinicius Mikrut da Rocha Loures Demchuk\nAcademia Gustavo Borges\n\n\n11\n40 – 44 anos\n00:15:40\n8\nJesse Barbosa Pedro\nArenna Carvalho\n\n\n12\n25 – 29 anos\n00:16:41\n6\nGuilherme De Prá\nAcademia Gustavo Borges\n\n\n13\n25 – 29 anos\n00:16:48\n4\nMarco Aurelio Santini Monteiro\n.\n\n\n14\n35 – 39 anos\n00:16:52\n2\nRafael Rodrigues\nTriax\n\n\n15\n50 – 54 anos\n00:17:34\n1\nDivonzir Correa da Maia\nClube Curitibano\n\n\n16\n30 – 34 anos\n00:17:50\n6\nAlan Peterson Carvalho Silva\nTriax\n\n\n17\n40 – 44 anos\n00:20:21\n1\nRodrigo Ronald da Silva\nArenna Carvalho\n\n\n18\n65 – 69 anos\n00:20:28\n1\nRyoji Ota\nChacara Colonia Cacatu\n\n\n:: Natação Masculino Kids 200m\n\n\nCol.\nCategoria\nTempo\nPto\nAtleta\nEquipe\n\n\n1\n09 – 10 anos\n00:08:24\n30\nLeonardo Pizaia Ise\nAcademia Olímpica\n\n\n2\n11 – 12 anos\n00:09:04\n31\nTiago Araujo Schlotag\nTriax\n\n\n:: Natação Feminino 2.5K\n\n\nCol.\nCategoria\nTempo\nPto\nAtleta\nEquipe\n\n\n1\n35 – 39 anos\n00:34:07\n30\nAna Thereza de Pauli Jorge\nClube Curitibano\n\n\n2\n16 – 19 anos\n00:36:10\n26\nJulia Sáber\nClube Curitibano\n\n\n3\n45 – 49 anos\n00:38:32\n24\nCarolina Basgal\nClube Curitibano\n\n\n4\n45 – 49 anos\n00:39:12\n22\nFernanda Schaefer Rivabem\nConfraria Do Hamburguer\n\n\n5\n40 – 44 anos\n00:41:40\n20\nTatyana Kelly Schepanski Muller\nAcademia Gustavo Borges\n\n\n6\n13 – 15 anos\n00:41:42\n18\nSophia Donato de Moraes\nPrefeitura de Maringá\n\n\n7\n13 – 15 anos\n00:42:18\n16\nNathalia Cristine Pedrozo da Silva\nBenefit Araucária / Alexandre Kirilos Águas Abertas\n\n\n8\n40 – 44 anos\n00:42:25\n14\nAmanda Peloia\nNado Livre\n\n\n9\n50 – 54 anos\n00:42:38\n12\nAlessandra Andréa Fattori Dias de Souza\nCardume Mirella Salomon\n\n\n10\n50 – 54 anos\n00:42:44\n15\nMarcia Cristina Nambu Nishidate\nAmaral\n\n\n11\n11 – 12 anos\n00:42:47\n8\nIsis de Miranda Pinto\nLion\n\n\n12\n35 – 39 anos\n00:45:14\n6\nCaroline Salmon Frehse\nAcademia Gustavo Borges\n\n\n13\n45 – 49 anos\n00:45:19\n4\nClaudia Scavazza\nClube Curitibano\n\n\n14\n45 – 49 anos\n00:48:00\n2\nElizandra Moletta Mikosz\nRtt Assessoria\n\n\n15\n45 – 49 anos\n00:48:10\n1\nClotilde Valente\nSanta Swimmers\n\n\n16\n45 – 49 anos\n00:49:27\n1\nAndria Dickow Sato\nSwimex\n\n\n17\n40 – 44 anos\n00:49:43\n1\nMariel Muraro\nSwimex\n\n\n18\n40 – 44 anos\n00:50:54\n1\nNair Rubia Nascimento Baptista\nCírculo Militar Do Paraná\n\n\n19\n30 – 34 anos\n00:52:15\n1\nAna Paula Schibebein\nAspp – Associação dos Servidores Públicos Do Paraná\n\n\n20\n50 – 54 anos\n00:52:32\n1\nFlavia Satiko Utida\nAcademia Olímpica\n\n\n21\n45 – 49 anos\n00:52:51\n1\nElisa Gehlen\nSwimex\n\n\n22\n60 – 64 anos\n00:55:25\n1\nIvana Malczewski\nAmaral Triathlon\n\n\n23\n40 – 44 anos\n00:56:17\n6\nSelma Regina Felipe\nPrefeitura de Maringá\n\n\n24\n55 – 59 anos\n01:00:19\n1\nNair Xavier Malheiro\nSanta Swimmers\n\n\n25\n30 – 34 anos\n01:00:21\n1\nMayara Daiane de Palma\nSanta Swimmers\n\n\n26\n45 – 49 anos\n01:01:21\n6\nCristiane Machado Trannin\nAcademia Bonja / Acredicoop\n\n\n27\n40 – 44 anos\n01:03:56\n6\nCarolina Egas de Carvalho\nPrefeitura de Maringá\n\n\n28\n50 – 54 anos\n01:13:44\n1\nMônica Vítola De Souza\nSanta Swimmers\n\n\n:: Natação Feminino 1.5K\n\n\nCol.\nCategoria\nTempo\nPto\nAtleta\nEquipe\n\n\n1\n45 – 49 anos\n00:24:08\n30\nJuliana Seixas Piloto\nClube Curitibano\n\n\n2\n13 – 15 anos\n00:24:21\n26\nNicolle Akemi Wajima\nArenna Carvalho\n\n\n3\n20 – 24 anos\n00:25:18\n24\nLoane Ady Chiaretto Tigrinho\nTriax\n\n\n4\n13 – 15 anos\n00:25:36\n22\nGabriela Marcelino de Souza\nArenna Carvalho\n\n\n5\n55 – 59 anos\n00:26:40\n20\nMaria Cristina G S Sigwalt\nClube Curitibano\n\n\n6\n16 – 19 anos\n00:28:02\n18\nLyessa Caroline Correia Fernandes\nArenna Carvalho\n\n\n7\n35 – 39 anos\n00:28:11\n16\nLuana Carolina dos Santos\nAcademia Gustavo Borges\n\n\n8\n45 – 49 anos\n00:28:15\n14\nMaria Luciana dos Reis Ramos\nBalman Performance / Izabella Sabino\n\n\n9\n16 – 19 anos\n00:28:34\n12\nIsabela Sáber\nClube Curitibano\n\n\n10\n30 – 34 anos\n00:28:53\n10\nMonah Dias\nPositivo\n\n\n11\n13 – 15 anos\n00:29:43\n8\nLeticia Tieko Pizaia Ise\nAcademia Olímpica\n\n\n12\n30 – 34 anos\n00:30:37\n6\nPriscila Pivovar\nTriax\n\n\n13\n55 – 59 anos\n00:31:49\n4\nVanessa Braga Costa\nClube Curitibano\n\n\n14\n40 – 44 anos\n00:31:53\n2\nPatricia Zgoda\nNado Livre\n\n\n15\n65 – 69 anos\n00:32:10\n1\nSonia Mara Stall\nNado Livre\n\n\n16\n30 – 34 anos\n00:32:30\n1\nMarina Schneppendahl\nSchneppendahl\n\n\n17\n45 – 49 anos\n00:34:25\n6\nViviane Ferreira de Carvalho Cociello\nAmigas de Batom Pelos Mares\n\n\n18\n60 – 64 anos\n00:34:49\n1\nLaura Misue Matsuda\nPrefeitura de Maringá\n\n\n19\n60 – 64 anos\n00:34:54\n1\nAna Regina Gardini\nGus São Roque\n\n\n20\n30 – 34 anos\n00:35:40\n6\nJéssica Karlla dos Anjos\nAcquamundi\n\n\n21\n50 – 54 anos\n00:37:47\n1\nVanessa Nascimento\nSup Penha\n\n\n22\n40 – 44 anos\n00:38:16\n1\nCassia Cristina de Lira\nAmigas de Batom Pelos Mares\n\n\n23\n50 – 54 anos\n00:38:36\n1\nMayli Colla\nBalman Performance / Izabella Sabino\n\n\n24\n35 – 39 anos\n00:39:21\n1\nStella Maris de Queiroz Bello\nBalman Performance / Izabella Sabino\n\n\n25\n45 – 49 anos\n00:39:35\n1\nClaudia Pechnicki\nAmigas de Batom Pelos Mares\n\n\n26\n60 – 64 anos\n00:39:40\n1\nRosineti Domingos Salin\nPrefeitura de Maringá\n\n\n27\n70 – 74 anos\n00:40:18\n1\nMaria A Parecida G Paiva Affonso\nPrefeitura de Maringá\n\n\n28\n30 – 34 anos\n00:40:50\n1\nAna Lucia Muraro\nTriax\n\n\n29\n65 – 69 anos\n00:41:05\n1\nIvânia Beghini Avila Gomes\nPreferência de Maringa\n\n\n30\n40 – 44 anos\n00:42:07\n1\nMarina Kelniar H Ferreira\nTriax\n\n\n31\n75+\n00:49:14\n1\nMaricelma Knopfholz\nClube Curitibano\n\n\n:: Natação Feminino 600m\n\n\nCol.\nCategoria\nTempo\nPto\nAtleta\nEquipe\n\n\n1\n20 – 24 anos\n00:12:25\n30\nCatherine Vitória Conte Picinini\nTriax\n\n\n2\n35 – 39 anos\n00:13:16\n26\nBianca Bley Cherem\nClube Curitibano\n\n\n3\n13 – 15 anos\n00:13:23\n29\nMaria Cardim Martins\nAcademia Gustavo Borges\n\n\n4\n13 – 15 anos\n00:13:45\n22\nGiovanna Luzia Maciel Costa Melo\nIndiana\n\n\n5\n11 – 12 anos\n00:14:08\n20\nLaura Carneiro Cândido da Silva\nAcademia Gustavo Borges\n\n\n6\n16 – 19 anos\n00:14:12\n18\nIsabella Neves Vianna\nAcademia Gustavo Borges\n\n\n7\n45 – 49 anos\n00:14:55\n16\nAndrea Gisele Arns\nArns\n\n\n8\n16 – 19 anos\n00:15:00\n14\nAna Sofia Navarro da Silva\nAcademia Gustavo Borges\n\n\n9\n35 – 39 anos\n00:16:30\n12\nFernanda Bettz Bailo\nBailo\n\n\n10\n50 – 54 anos\n00:16:35\n10\nDaniela Carneiro Cândido da Silva\nAcademia Gustavo Borges\n\n\n11\n50 – 54 anos\n00:17:55\n8\nLilian Messias Sampaio Brito\nBody Center Academia\n\n\n12\n35 – 39 anos\n00:18:14\n6\nMichelly Rosa da Silva Queiroz\nGus\n\n\n13\n45 – 49 anos\n00:19:22\n4\nLorise Carignano de Oliveira\nAcademia Gustavo Borges\n\n\n14\n55 – 59 anos\n00:20:00\n2\nSimone Alice da Silva Cristo\nNado Livre\n\n\n15\n35 – 39 anos\n00:20:38\n1\nMaira Petit de Oliveira\nTriax\n\n\n16\n40 – 44 anos\n00:20:41\n1\nAna Paula de Toni Córdova\nCórdova\n\n\n17\n50 – 54 anos\n00:21:58\n1\nThatianna Baptista\nAcademia Gustavo Borges\n\n\n18\n35 – 39 anos\n00:23:26\n1\nFrancine da Rosa Souza\nGus- São Roque – Grêmio União Sãoroquense\n\n\n19\n45 – 49 anos\n00:24:04\n1\nMaria Aparecida Amorim de Oliveira\nAcademia H2O\n\n\n20\n45 – 49 anos\n00:24:25\n1\nMarisa Aparecida Dias\nAcademia H2O\n\n\n21\n75+\n00:24:41\n1\nIrene Sommer Bittencourt\nClube Curitibano\n\n\n:: Natação Feminino Kids 200m\n\n\nCol.\nCategoria\nTempo\nPto\nAtleta\nEquipe\n\n\n1\n11 – 12 anos\n00:08:58\n30\nGabriela Navarro da Silva\nAcademia Gustavo Borges\n\n\nPCD\n\n\nÁguas Abertas no PR\n\n\nIlha do Mel 16/Abr 2.5k 1.5k 600m Kids 200m – 12ª Edição\n\n\n:: Natação Masculino 1.5K\n\n\nCol.\nCategoria\nTempo\nPto\nAtleta\nEquipe\n\n\n1\n30 – 34 anos\n00:39:46\n30\nAnderson Rossa de Moura (Ppne)\nSeven\n\n\n\nATENÇÃO Informações sobre o transporte\n– ônibus sairá do Clube (portaria Petit) as 4h45 de domingo. A previsão de chegada em Pontal\, no terminal de embarque\, e as 6h45 . \n– o ônibus sairá de Pontal em direção a Curitiba as 18h00!! É importante que todos se organizem para a saída da ilha em direção a Pontal em tempo para estar no ônibus até às 18h. \n– o estacionamento do clube estará disponível para os associados a partir das 4h30 \nProgramação\n\nIMPORTANTE: O evento acontece na praia de Nova Brasília e não em Encantadas\, quem vai no bate e volta domingo no 2500m e 1500m\, é necessário embarcar as 7hs rumo ao trapiche de Nova Brasilia\, senão perde a largada\, vide locais de encontro para a largada de cada distancia na programação abaixo\, quem esta na ilha seguir o mesmo caminho. \nENTREGA DO KIT: \n\nKit 2.5K no local de largada junto do Farol das 08:15 as 08:45\nKit 1.5K\, no local de largada a caminho do Farol das 08:45 as 09:15\nKit 600m e 200m no local de chegada da prova das 08:00 as 09:00\n\nLARGADAS: \n\n09:00: Largada 2.5K masculino junto do Farol\n09:01: Largada 2.5K feminino junto do Farol\n09:25: Largada 1.5K masculino junto da boia cone no caminho para o Farol\n09:26: Largada 1.5K e feminino junto da boia cone no caminho para o Farol\n09:15: Caminhada para a largada do 600m. Os atletas devem estar atentos aos avisos do staff em terra sobre a largada\n09:45: Largada 600m.\n10:00: Caminhada para a largada do 200m. Os atletas devem estar atentos aos avisos do staff em terra sobre a largada\n10:30: Largada Kids 200m – largada flex\, pode adiantar em 1.5hs pois depende da prova de 2.5K (pais\, coordenadores e técnicos podem entrar na água\, mas não podem conduzir\, puxar e arrastar as crianças dentro da água\, sendo este motivo para desclassificação). Não é permitido nadar com boia inflável de braço. Colete é permitido\n12:45: Premiação da etapa na Pousada Por do Sol\nObs.: se o atleta não puder ficar para a premiação pelo motivo que for\, o troféu estará disponível para retirada em Curitiba\, e se for de fora da cidade enviaremos por sedex a cobrar\, em hipótese alguma será feito a antecipação da entrega do troféu.\n\nPREMIAÇÃO: \n\nTroféu para os 5 primeiros no geral masculino e feminino 2.5K 1.5K 600m Kids 200m\nTroféu para os 3 primeiros por categoria masculino e feminino 2.5K 1.5K 600m Kids 200m\nTroféu para os 5 primeiros por categoria PCD masculino e feminino 2.5K 1.5K 600m\nMedalha para todos os inscritos
URL:https://ccnatacao.com.br/evento/circuito-correr-e-nadar-etapa-ilha-do-mel/
LOCATION:Ilha do Mel\, Ilha do Mel\, PR\, Brasil
CATEGORIES:Master,Todas
ATTACH;FMTTYPE=image/jpeg:https://ccnatacao.com.br/wp-content/uploads/2023/03/ilha-do-mel-1.jpg
ORGANIZER;CN="Correr e Nadar":MAILTO:correrenadar@correrenadar.com.br
END:VEVENT
BEGIN:VEVENT
DTSTART;TZID=America/Sao_Paulo:20230427T080000
DTEND;TZID=America/Sao_Paulo:20230430T170000
DTSTAMP:20260425T094913
CREATED:20230327T012210Z
LAST-MODIFIED:20230426T131818Z
UID:417-1682582400-1682874000@ccnatacao.com.br
SUMMARY:69º Campeonato Brasileiro Master de Natação
DESCRIPTION:Confira o Balizamento completo\nA Equipe Master de Natação do Clube Curitibano participará do 69º Campeonato Brasileiro Master de Natação com 4 atletas: \n\nOscar Monteiro\nGustavo Saldo\nMarco Rodrigo Sáber\nLuca Braga Machado\n\nSeguem demais informações: \nDATA: 27 a 30 de abril de 2023 \nLOCAL:  FLUMINENSE FOOTBALL CLUB \nRUA ÁLVARO CHAVES 41 – LARANJEIRAS \nRIO DE JANEIRO/RJ – 22231-220 – BRA \nA inscrição deverá ser realizada diretamente pelo atleta\, de forma online\, no site: https://www.abmn.org.br/inscricao-on-line/ \n\nPara essa competição o atleta efetua o pagamento\, encaminha a confirmação e o comprovante de pagamento via e-mail para Secretaria de Natação (luane.caminha@clubecuritibano.com.br)\, até o dia 12/04\, para receber o reembolso do Clube após a realização do evento.\nCada atleta é responsável por seu transporte e hospedagem\, não havendo transporte coletivo ou subsídio para transporte particular.\nEsta etapa terá a presença de técnico somente se atingido o número mínimo de 10 atletas participantes.\nComo já é de conhecimento\, o Clube se responsabiliza pela taxa de inscrição dos atletas nas competições. Desta forma\, em caso de ausência do atleta na competição\, não haverá reembolso de custos.\nO subsídio de inscrição só será aplicado para os atletas que estiverem vinculados à Equipe Master em 2023\, com o cadastro em dia junto à Secretaria de Natação\, incluindo toda documentação e atestado médico\, e cumprindo com os critérios estipulados em Regulamento.\n\n Para mais informações\, acesse o link: https://www.abmn.org.br/calendario-nacional/?evento=1310 \n\nData: 27 Abr a 30 Abr 2023\nData limite para inscrições on-line (provas individuais): 12 Abr 2023\nData limite para inscrições on-line (revezamentos): 17 Abr 2023\nLocal do evento: FLUMINENSE FOOTBALL CLUBRUA ÁLVARO CHAVES 41 – LARANJEIRASRIO DE JANEIRO/RJ – 22231-220 – BRA\nPiscina: 50 METROS (8 raias)\nObservações adicionais:\nCamiseta do evento disponível para venda!\nTamanhos disponíveis: Pequena\, Média\, Grande e Extra-Grande \nPara adquirir a camiseta\, entre na página Inscrição Online e escolha o tamanho. Caso já tenha feito a inscrição\, você pode simplesmente editar a inscrição e adicionar a camiseta. Para aqueles que só querem comprar a camiseta\, sem participar da competição\, use a página de Inscrição Online para Não Atletas.
URL:https://ccnatacao.com.br/evento/69o-campeonato-brasileiro-master/
LOCATION:Fluminense Football Club\, Rua Álvaro Chaves 41\,\, Rio de Janeiro\, Rio de Janeiro\, 22231-220\, Brasil
CATEGORIES:Master
ATTACH;FMTTYPE=image/jpeg:https://ccnatacao.com.br/wp-content/uploads/2023/03/fluminense-piscina.jpg
ORGANIZER;CN="ABMN - Associa%C3%A7ao Brasileira Master de Nata%C3%A7%C3%A3o":MAILTO:abmn@abmn.org.br
END:VEVENT
END:VCALENDAR