BEGIN:VCALENDAR
VERSION:2.0
PRODID:-//ccnatacao - ECPv6.15.17//NONSGML v1.0//EN
CALSCALE:GREGORIAN
METHOD:PUBLISH
X-WR-CALNAME:ccnatacao
X-ORIGINAL-URL:https://ccnatacao.com.br
X-WR-CALDESC:Eventos para ccnatacao
REFRESH-INTERVAL;VALUE=DURATION:PT1H
X-Robots-Tag:noindex
X-PUBLISHED-TTL:PT1H
BEGIN:VTIMEZONE
TZID:America/Sao_Paulo
BEGIN:STANDARD
TZOFFSETFROM:-0300
TZOFFSETTO:-0300
TZNAME:-03
DTSTART:20250101T000000
END:STANDARD
END:VTIMEZONE
BEGIN:VEVENT
DTSTART;TZID=America/Sao_Paulo:20261029T080000
DTEND;TZID=America/Sao_Paulo:20261101T220000
DTSTAMP:20260421T071218
CREATED:20251231T220009Z
LAST-MODIFIED:20260203T142730Z
UID:6808-1793260800-1793570400@ccnatacao.com.br
SUMMARY:Jogos da Juventude COB - 2026
DESCRIPTION:Os Jogos da Juventude do Comitê Olímpico Brasileiro acontece entre os dias 29 a 31 de Outubro em Foz do Iguaçu – PR. A prova de Águas Abertas será no dia 01 de Novembro.
URL:https://ccnatacao.com.br/evento/jogos-da-juventude-cob-2026/
LOCATION:Foz do Iguaçu\, Foz do Iguaçu\, PR\, Brazil
CATEGORIES:Juvenil
ORGANIZER;CN="COB - Comit%C3%AA Ol%C3%ADmpico Brasileiro":MAILTO:cob@cob.org.br
END:VEVENT
BEGIN:VEVENT
DTSTART;TZID=America/Sao_Paulo:20261123T080000
DTEND;TZID=America/Sao_Paulo:20261129T200000
DTSTAMP:20260421T071218
CREATED:20251222T202730Z
LAST-MODIFIED:20260202T205250Z
UID:6736-1795420800-1795982400@ccnatacao.com.br
SUMMARY:CBI Juvenil de Verão de Natação - 2026
DESCRIPTION:O Campeonato Brasileiro Interclubes (CBI) Juvenil de Verão de Natação – 2026 da CBDA acontece entre os dias 23 e 29 de Novembro de 2026\, ainda sem local definido.
URL:https://ccnatacao.com.br/evento/campeonato-brasileiro-juvenil-de-verao-de-natacao-2026/
CATEGORIES:Juvenil
ATTACH;FMTTYPE=image/jpeg:https://ccnatacao.com.br/wp-content/uploads/2025/12/5.jpg
END:VEVENT
END:VCALENDAR