BEGIN:VCALENDAR
VERSION:2.0
PRODID:-//ccnatacao - ECPv6.15.17//NONSGML v1.0//EN
CALSCALE:GREGORIAN
METHOD:PUBLISH
X-WR-CALNAME:ccnatacao
X-ORIGINAL-URL:https://ccnatacao.com.br
X-WR-CALDESC:Eventos para ccnatacao
REFRESH-INTERVAL;VALUE=DURATION:PT1H
X-Robots-Tag:noindex
X-PUBLISHED-TTL:PT1H
BEGIN:VTIMEZONE
TZID:America/Sao_Paulo
BEGIN:STANDARD
TZOFFSETFROM:-0300
TZOFFSETTO:-0300
TZNAME:-03
DTSTART:20240101T000000
END:STANDARD
END:VTIMEZONE
BEGIN:VEVENT
DTSTART;TZID=America/Sao_Paulo:20251014T080000
DTEND;TZID=America/Sao_Paulo:20251016T190000
DTSTAMP:20260423T054929
CREATED:20250113T104507Z
LAST-MODIFIED:20250827T115300Z
UID:4701-1760428800-1760641200@ccnatacao.com.br
SUMMARY:Troféu Chico Piscina
DESCRIPTION:
URL:https://ccnatacao.com.br/evento/trofeu-chico-piscina/
LOCATION:Associação Esportiva Mocoquense\, Praça Bárbara Eufrausina de Lima\, nº 10\, Mococa\, SP\, 13730-380\, Brasil
CATEGORIES:Juvenil
ATTACH;FMTTYPE=image/jpeg:https://ccnatacao.com.br/wp-content/uploads/2024/02/chico-piscina-cbda.jpg
END:VEVENT
BEGIN:VEVENT
DTSTART;TZID=America/Sao_Paulo:20251024T080000
DTEND;TZID=America/Sao_Paulo:20251026T000000
DTSTAMP:20260423T054929
CREATED:20250113T103536Z
LAST-MODIFIED:20251017T130430Z
UID:4697-1761292800-1761436800@ccnatacao.com.br
SUMMARY:Nata-Sessions - Novas Experiências na Segunda Edição
DESCRIPTION:A 2ª edição do Nata Session vai trazer muitas novidades.Start List – baixe o PDF \n\n\nRegulamento-Especifico-Paranaense-Mirim-Petiz
URL:https://ccnatacao.com.br/evento/nata-sessions-cc-minas-paineiras/
LOCATION:Clube Curitibano\, Av. Pres. Getúlio Vargas\, 2857\, Curitiba\, PR\, 80240-040\, Brasil
CATEGORIES:Infantil,Juvenil
ATTACH;FMTTYPE=image/png:https://ccnatacao.com.br/wp-content/uploads/2025/01/Captura-de-Tela-2025-08-27-as-08.55.22.png
ORGANIZER;CN="Clube Curitibano":MAILTO:natacao@clubecuritibano.com.br
END:VEVENT
END:VCALENDAR