BEGIN:VCALENDAR
VERSION:2.0
PRODID:-//ccnatacao - ECPv6.15.17//NONSGML v1.0//EN
CALSCALE:GREGORIAN
METHOD:PUBLISH
X-ORIGINAL-URL:https://ccnatacao.com.br
X-WR-CALDESC:Eventos para ccnatacao
REFRESH-INTERVAL;VALUE=DURATION:PT1H
X-Robots-Tag:noindex
X-PUBLISHED-TTL:PT1H
BEGIN:VTIMEZONE
TZID:America/Sao_Paulo
BEGIN:STANDARD
TZOFFSETFROM:-0300
TZOFFSETTO:-0300
TZNAME:-03
DTSTART:20220101T000000
END:STANDARD
END:VTIMEZONE
BEGIN:VEVENT
DTSTART;TZID=America/Sao_Paulo:20230517T080000
DTEND;TZID=America/Sao_Paulo:20230520T183000
DTSTAMP:20260419T191257
CREATED:20230405T222919Z
LAST-MODIFIED:20230518T115821Z
UID:776-1684310400-1684607400@ccnatacao.com.br
SUMMARY:Campeonato Sul-Brasileiro Infantil e Juvenil
DESCRIPTION:Sul-Brasileiro Infantil e Juvenil \n\n\n\nBalizamento e Resultados\n\n\n\nTabela de Índices CDBA – 50M \n\n\no_1g4bpc065u9p1sreur61dovc1pb\n \n\n\n\nInformações do evento.
URL:https://ccnatacao.com.br/evento/sul-brasileiro-infantil-juvenil/
LOCATION:Gremio Náutico União\, Rua Quintino Bocaiuva 500\, Porto Alegre\, RS\, Brasil
CATEGORIES:Infantil,Juvenil
ATTACH;FMTTYPE=image/jpeg:https://ccnatacao.com.br/wp-content/uploads/2023/04/GNU-2.jpg
END:VEVENT
END:VCALENDAR