BEGIN:VCALENDAR
VERSION:2.0
PRODID:-//ccnatacao - ECPv6.15.17//NONSGML v1.0//EN
CALSCALE:GREGORIAN
METHOD:PUBLISH
X-ORIGINAL-URL:https://ccnatacao.com.br
X-WR-CALDESC:Eventos para ccnatacao
REFRESH-INTERVAL;VALUE=DURATION:PT1H
X-Robots-Tag:noindex
X-PUBLISHED-TTL:PT1H
BEGIN:VTIMEZONE
TZID:America/Sao_Paulo
BEGIN:STANDARD
TZOFFSETFROM:-0300
TZOFFSETTO:-0300
TZNAME:-03
DTSTART:20250101T000000
END:STANDARD
END:VTIMEZONE
BEGIN:VEVENT
DTSTART;TZID=America/Sao_Paulo:20261206T070000
DTEND;TZID=America/Sao_Paulo:20261206T190000
DTSTAMP:20260420T172721
CREATED:20260202T222531Z
LAST-MODIFIED:20260202T222533Z
UID:6985-1796540400-1796583600@ccnatacao.com.br
SUMMARY:Regional Final Infantil a Sênior
DESCRIPTION:
URL:https://ccnatacao.com.br/evento/regional-final-infantil-a-senior/
CATEGORIES:Infantil,Junior,Juvenil,Senior
ORGANIZER;CN="FDAP - Federa%C3%A7%C3%A3o de Desportos Aqu%C3%A1ticos do Paran%C3%A1":MAILTO:fdap@fdap.org.br
END:VEVENT
BEGIN:VEVENT
DTSTART;TZID=America/Sao_Paulo:20261207T080000
DTEND;TZID=America/Sao_Paulo:20261213T200000
DTSTAMP:20260420T172721
CREATED:20251222T202539Z
LAST-MODIFIED:20260202T205207Z
UID:6734-1796630400-1797192000@ccnatacao.com.br
SUMMARY:CBI Infantil de Verão de Natação - 2026
DESCRIPTION:O Campeonato Brasileiro Interclubes (CBI) Infantil de Verão de Natação – 2026 da CBDA acontece entre os dias 07 e 13 de Dezembro de 2026\, ainda sem local definido.
URL:https://ccnatacao.com.br/evento/campeonato-brasileiro-infantil-de-verao-de-natacao-2026/
CATEGORIES:Infantil
ATTACH;FMTTYPE=image/jpeg:https://ccnatacao.com.br/wp-content/uploads/2025/12/4.jpg
END:VEVENT
END:VCALENDAR