BEGIN:VCALENDAR
VERSION:2.0
PRODID:-//ccnatacao - ECPv6.15.17//NONSGML v1.0//EN
CALSCALE:GREGORIAN
METHOD:PUBLISH
X-ORIGINAL-URL:https://ccnatacao.com.br
X-WR-CALDESC:Eventos para ccnatacao
REFRESH-INTERVAL;VALUE=DURATION:PT1H
X-Robots-Tag:noindex
X-PUBLISHED-TTL:PT1H
BEGIN:VTIMEZONE
TZID:America/Sao_Paulo
BEGIN:STANDARD
TZOFFSETFROM:-0300
TZOFFSETTO:-0300
TZNAME:-03
DTSTART:20240101T000000
END:STANDARD
END:VTIMEZONE
BEGIN:VEVENT
DTSTART;TZID=America/Sao_Paulo:20251125T080000
DTEND;TZID=America/Sao_Paulo:20251129T190000
DTSTAMP:20260422T105446
CREATED:20250107T200841Z
LAST-MODIFIED:20251126T204835Z
UID:4605-1764057600-1764442800@ccnatacao.com.br
SUMMARY:Campeonato Brasileiro Infantil de Verão - Rio de Janeiro
DESCRIPTION:📅 25 a 29 de novembro de 2025📍 Parque Aquático Júlio de Lamare – Rio de Janeiro/RJ \n\n\n\nO Campeonato Brasileiro Interclubes Infantil de Natação de Verão – Troféu Maurício Bekenn é uma das competições mais tradicionais da natação nacional de base.Organizado pela Confederação Brasileira de Desportos Aquáticos (CBDA)\, com o fomento do Comitê Brasileiro de Clubes (CBC)\, o evento reúne os principais atletas das categorias Infantil 1 e Infantil 2\, promovendo o desenvolvimento técnico e o intercâmbio entre clubes de todo o país. \n\n\n\nSerão cinco dias de competição\, com provas eliminatórias realizadas no período da manhã e finais no período da tarde. As provas de 800m e 1500m livre e os revezamentos terão final direta. \n\n\n\n\n\n\n\n📋 Categorias Participantes\n\n\n\n\nInfantil 1: Nascidos em 2012\n\n\n\nInfantil 2: Nascidos em 2011\n\n\n\n\nCada atleta poderá competir em até duas provas individuais por etapa\, respeitando o limite máximo de nove provas no total da competição. \n\n\n\n\n\n\n\n🏅 Sistema de Premiação\n\n\n\n\nMedalhas para os três primeiros colocados em cada prova individual e de revezamento.\n\n\n\nTroféu Maurício Bekenn para a equipe campeã geral.\n\n\n\nTroféus também para os 2º\, 3º\, 4º e 5º lugares no somatório geral\, além de premiações específicas por categoria (Infantil 1 e Infantil 2).\n\n\n\nEntrega dos troféus Melhor Índice Técnico e Troféu Eficiência aos atletas com os melhores desempenhos individuais em provas olímpicas.\n\n\n\n\n\n\n\n\n📅 Programação Geral\n\n\n\nO campeonato será disputado em cinco etapas: \n\n\n\n\n1ª Etapa – 25/11 (manhã): Eliminatórias iniciais\n\n\n\n2ª Etapa – 25/11 (tarde): Finais\n\n\n\n3ª Etapa – 26/11 (manhã): Eliminatórias\n\n\n\n4ª Etapa – 27/11 (tarde): Finais\n\n\n\n5ª Etapa – 28 e 29/11: Provas longas e revezamentos\n\n\n\n\nO Congresso Técnico será realizado na véspera do evento\, com data e horário a serem confirmados pela CBDA. \n\n\n\n\n\n\n\n🏊 Programa Oficial de Provas\n\n\n\n\n\n\n\n\n\n\nbalizamento-infantil-verao-2025\n\n\n📖 Inscrições\n\n\n\n\nAs inscrições devem ser realizadas pelo sistema online da CBDA (SGE) até 15 dias antes do início da competição.\n\n\n\nApenas atletas com índices válidos e cadastro ativo na temporada poderão participar.\n\n\n\nClubes integrados ao CBC devem seguir o prazo de 30 dias antes do evento para inscrição via SGE.\n\n\n\n\n\n\n\n\n⚠️ Informações Importantes\n\n\n\n\nO uso do uniforme oficial com selo CBC é obrigatório durante viagem\, premiações e cerimônias oficiais.\n\n\n\nCada atleta deve apresentar documento de identificação original e estar regularmente federado.\n\n\n\nDespesas de transporte\, hospedagem e alimentação são de responsabilidade dos clubes participantes.\n\n\n\nOs casos omissos serão resolvidos pela Diretoria Técnica da CBDA durante o Congresso Técnico.
URL:https://ccnatacao.com.br/evento/campeonato-brasileiro-infantil-de-verao/
LOCATION:Parque Aquático Julio de Lamare\, Av. Maracanã\, 12 - Maracanã\, Rio de Janeiro\, RJ\, (11) 2027-1111\, Brazil
CATEGORIES:Infantil
ATTACH;FMTTYPE=image/jpeg:https://ccnatacao.com.br/wp-content/uploads/2025/01/Julio-de-Lamare.jpeg
END:VEVENT
END:VCALENDAR