BEGIN:VCALENDAR
VERSION:2.0
PRODID:-//ccnatacao - ECPv6.15.17//NONSGML v1.0//EN
CALSCALE:GREGORIAN
METHOD:PUBLISH
X-ORIGINAL-URL:https://ccnatacao.com.br
X-WR-CALDESC:Eventos para ccnatacao
REFRESH-INTERVAL;VALUE=DURATION:PT1H
X-Robots-Tag:noindex
X-PUBLISHED-TTL:PT1H
BEGIN:VTIMEZONE
TZID:America/Sao_Paulo
BEGIN:STANDARD
TZOFFSETFROM:-0300
TZOFFSETTO:-0300
TZNAME:-03
DTSTART:20240101T000000
END:STANDARD
END:VTIMEZONE
BEGIN:VEVENT
DTSTART;TZID=America/Sao_Paulo:20250808T080000
DTEND;TZID=America/Sao_Paulo:20250809T190000
DTSTAMP:20260422T160521
CREATED:20250113T101756Z
LAST-MODIFIED:20250617T194437Z
UID:4683-1754640000-1754766000@ccnatacao.com.br
SUMMARY:Jogos Escolares do Paraná - 12 a  14 anos - Toledo
DESCRIPTION:
URL:https://ccnatacao.com.br/evento/jogos-escolares-do-parana-13-a-14-anos/
LOCATION:Toledo – Piscina Municipal Claus Fuchs\, R. Guanabara\, 1040 - Jardim La Salle\, Toledo\, PR\, 85903-040\, Brasil
CATEGORIES:Infantil
ORGANIZER;CN="FDAP - Federa%C3%A7%C3%A3o de Desportos Aqu%C3%A1ticos do Paran%C3%A1":MAILTO:fdap@fdap.org.br
END:VEVENT
BEGIN:VEVENT
DTSTART;TZID=America/Sao_Paulo:20250822T073000
DTEND;TZID=America/Sao_Paulo:20250824T200000
DTSTAMP:20260422T160521
CREATED:20250113T102607Z
LAST-MODIFIED:20250826T180721Z
UID:4689-1755847800-1756065600@ccnatacao.com.br
SUMMARY:Campeonato Paranaense de Verão Infantil a Sênior - Clube Curitibano
DESCRIPTION:Campeonato Paranaense de Verão Infantil a Sênior – FDAP – CC\n\n\n\n📍 Clube Curitibano – Curitiba/PR📅 22 a 24 de agosto de 2025 \n\n\n\nO Clube Curitibano será sede\, entre os dias 22 e 24 de agosto\, do Campeonato Paranaense de Verão – Categorias Infantil a Sênior\, evento promovido pela Federação de Desportos Aquáticos do Paraná (FDAP). A competição também servirá como seletiva oficial para formação da Seleção Paranaense que disputará o Troféu Chico Piscina 2025. \n\n\n\n\n\n\n\n📍 Local do Evento\n\n\n\nClube Curitibano – Sede Barão do Serro Azul📌 Entrada pela Av. República Argentina\, 561 – Água Verde\, Curitiba/PR \n\n\n\n\n\n\n\n🗓️ Datas e Etapas da Competição\n\n\n\nSexta-feira – 22/08/2025 \n\n\n\n\n🕗 1ª Etapa (manhã)• Aquecimento: 07h30 (fem) / 08h00 (masc)• Início das provas: 08h45\n\n\n\n🕓 2ª Etapa (tarde)• Aquecimento: 14h30 (fem) / 15h00 (masc)• Início das provas: 15h55\n\n\n\n\nSábado – 23/08/2025 \n\n\n\n\n🕗 3ª Etapa (manhã)• Início das provas: 08h45\n\n\n\n🕓 4ª Etapa (tarde)• Início das provas: 15h45\n\n\n\n\nDomingo – 24/08/2025 \n\n\n\n\n🕗 5ª Etapa (manhã)• Início das provas: 08h45\n\n\n\n\n\n\n\n\n🏊‍♂️ Categorias Participantes\n\n\n\n\nInfantil 1 e 2\n\n\n\nJuvenil 1 e 2\n\n\n\nJúnior 1 e 2\n\n\n\nSênior\n\n\n\n\n\n\n\n\n📘 Formato da Competição\n\n\n\n\nFinal direta para todas as provas\n\n\n\nProvas individuais e de revezamento\n\n\n\nProvas longas (800m/1500m) com índice mínimo de participação\n\n\n\nBalizamento e resultados por subclasses oficiais\n\n\n\nRevezamentos poderão contar com equipes A e B\n\n\n\nO evento também serve como seletiva para o Troféu Chico Piscina\n\n\n\n\n\n\n\n\n🏅 Premiação\n\n\n\n\nMedalhas para os três primeiros colocados por subclasse (provas individuais e revezamentos)\n\n\n\nTroféus por categoria (Infantil\, Juvenil\, Júnior e Sênior): 1º ao 3º lugar\n\n\n\nTroféu Geral: 1º ao 5º lugar\n\n\n\nTroféu de Melhor Índice Técnico por subclasse (masc/fem) e para o técnico responsável\n\n\n\nBônus de 10 pontos por recorde batido\n\n\n\nUso do uniforme completo do clube é obrigatório na premiação\n\n\n\n\nQuadro de medalhas\n\n\n\nQuadro de medalhas Campeonato Paranaense Infantil a SêniorBaixar\n\n\n\n\n\n\n\n⚠️ Informações Importantes\n\n\n\n\nA confirmação ou desistência de atletas nas provas longas deve ser feita com no mínimo 20 minutos de antecedência\, sob pena de multa\n\n\n\nDurante o aquecimento:\n\n\n\nRaias 0 e 1: saídas e tiros de velocidade\n\n\n\nRaia 9: tiros de ritmo\n\n\n\nProibido uso de materiais (nadadeiras\, palmares\, etc.)\n\n\n\n\nRelação de Atletas e Provas/Resultados\n\n\n\nResultados Paranaense Infantil a SêniorBaixar\n\n\n\nREGULAMENTO ESPECÍFICO\n\n\n\nRegulamento Específico – CAMPEONATO PARANAENSE DE VERÃO INFANTIL A SENIORBaixar
URL:https://ccnatacao.com.br/evento/campeonato-paranaense-de-verao-infantil-a-senior/
LOCATION:Clube Curitibano\, Av. Pres. Getúlio Vargas\, 2857\, Curitiba\, PR\, 80240-040\, Brasil
CATEGORIES:Infantil,Senior
ATTACH;FMTTYPE=image/jpeg:https://ccnatacao.com.br/wp-content/uploads/2024/06/piscina-Clube-Curitibano-5.jpg
ORGANIZER;CN="FDAP - Federa%C3%A7%C3%A3o de Desportos Aqu%C3%A1ticos do Paran%C3%A1":MAILTO:fdap@fdap.org.br
END:VEVENT
END:VCALENDAR