BEGIN:VCALENDAR
VERSION:2.0
PRODID:-//ccnatacao - ECPv6.15.17//NONSGML v1.0//EN
CALSCALE:GREGORIAN
METHOD:PUBLISH
X-WR-CALNAME:ccnatacao
X-ORIGINAL-URL:https://ccnatacao.com.br
X-WR-CALDESC:Eventos para ccnatacao
REFRESH-INTERVAL;VALUE=DURATION:PT1H
X-Robots-Tag:noindex
X-PUBLISHED-TTL:PT1H
BEGIN:VTIMEZONE
TZID:America/Sao_Paulo
BEGIN:STANDARD
TZOFFSETFROM:-0300
TZOFFSETTO:-0300
TZNAME:-03
DTSTART:20240101T000000
END:STANDARD
END:VTIMEZONE
BEGIN:VEVENT
DTSTART;TZID=America/Sao_Paulo:20250726T070000
DTEND;TZID=America/Sao_Paulo:20250726T190000
DTSTAMP:20260422T174654
CREATED:20250113T102007Z
LAST-MODIFIED:20250801T211702Z
UID:4685-1753513200-1753556400@ccnatacao.com.br
SUMMARY:Torneio Regional da 1ª Região - Infantil a Sênior
DESCRIPTION:Parque Aquáticio do Clube Curitibano\n\n\n\nNo dia 26 de julho\, o Clube Curitibano será sede do Torneio Regional da 1ª Região – Categorias Infantil a Sênior\, promovido pela Federação de Desportos Aquáticos do Paraná (FDAP). A competição reunirá nadadores de diversos clubes da região sul do estado e integra o calendário oficial da temporada 2025 da entidade. \n\n\n\n📍 Local do Evento\n\n\n\nClube Curitibano – Sede Barão do Serro Azul📌 Entrada pela Avenida República Argentina\, 561\, Água Verde. Curitiba/PR\, 80240-210 \n\n\n\n🗓️ Data da Competição\n\n\n\n\nSábado – 26 de julho de 2025Os horários oficiais de aquecimento e início das provas serão divulgados pela FDAP na programação técnica.\n\n\n\n\n\n\n\n\n⏱️ PROGRAMAÇÃO\n\n\n\n\n\n\n\n1ª Etapa – Manhã (26/07): \n\n\n\n\n🔹 Aquecimento Feminino: 07h30 às 08h00\n\n\n\n🔹 Aquecimento Masculino: 08h00 às 08h30\n\n\n\n🔸 Início das Provas: 08h40\n\n\n\n\n2ª Etapa – Tarde (26/07): \n\n\n\n\n🔹 Aquecimento Feminino: 14h30 às 15h00\n\n\n\n🔹 Aquecimento Masculino: 15h00 às 15h30\n\n\n\n🔸 Início das Provas: 15h40\n\n\n\n\n\n\n\n\n🧢 CATEGORIAS PARTICIPANTES\n\n\n\n\nInfantil I e II\n\n\n\nJuvenil I e II\n\n\n\nJúnior I e II\n\n\n\nSênior\n\n\n\n\n\n\n\n\n🏁 FORMATO DA COMPETIÇÃO\n\n\n\n\n📌 Balizamento: Absoluto\n\n\n\n📌 Resultados: Por subclasse oficial\n\n\n\n📌 Fase única: Final direta\n\n\n\n📌 Máximo de 5 provas por atleta / até 3 por etapa\n\n\n\n\n\n\n\n\n🏅 PREMIAÇÃO\n\n\n\n\nSerão premiados os 3 primeiros colocados por subclasse nas provas individuais e de revezamento.\n\n\n\n\n\n\n\n\n🔒 INFORMAÇÕES IMPORTANTES\n\n\n\n\nÉ obrigatório o uso do uniforme completo do Clube Curitibano durante toda a competição e\, especialmente\, nas cerimônias de premiação.\n\n\n\nAtletas devem comparecer com documento oficial com foto.\n\n\n\nA equipe técnica informará os horários exatos de chegada\, aquecimento e preparação de cada atleta no dia do evento.\n\n\n\nDurante o aquecimento\, o uso de equipamentos como palmares e nadadeiras não será permitido\, conforme regulamento.\n\n\n\n\n\n\n\n\nRelação de Atletas e Provas/Resultados\n\n\n\nResultados – Regional infantil a seniorBaixar\n\n\n\nRegulamento Oficial\n\n\n\nRegulamento EspecíficoBaixar
URL:https://ccnatacao.com.br/evento/torneio-regional-infantil-a-senior-2/
CATEGORIES:Infantil,Senior
ATTACH;FMTTYPE=image/jpeg:https://ccnatacao.com.br/wp-content/uploads/2025/01/piscina-clube-curitibano-25.jpg
ORGANIZER;CN="FDAP - Federa%C3%A7%C3%A3o de Desportos Aqu%C3%A1ticos do Paran%C3%A1":MAILTO:fdap@fdap.org.br
END:VEVENT
END:VCALENDAR