BEGIN:VCALENDAR
VERSION:2.0
PRODID:-//ccnatacao - ECPv6.15.17//NONSGML v1.0//EN
CALSCALE:GREGORIAN
METHOD:PUBLISH
X-WR-CALNAME:ccnatacao
X-ORIGINAL-URL:https://ccnatacao.com.br
X-WR-CALDESC:Eventos para ccnatacao
REFRESH-INTERVAL;VALUE=DURATION:PT1H
X-Robots-Tag:noindex
X-PUBLISHED-TTL:PT1H
BEGIN:VTIMEZONE
TZID:America/Sao_Paulo
BEGIN:STANDARD
TZOFFSETFROM:-0300
TZOFFSETTO:-0300
TZNAME:-03
DTSTART:20240101T000000
END:STANDARD
END:VTIMEZONE
BEGIN:VEVENT
DTSTART;TZID=America/Sao_Paulo:20250411T080000
DTEND;TZID=America/Sao_Paulo:20250412T190000
DTSTAMP:20260422T223750
CREATED:20250113T100341Z
LAST-MODIFIED:20250218T115212Z
UID:4666-1744358400-1744484400@ccnatacao.com.br
SUMMARY:Campeonato Paranaense de Inverno Infantil/Sênior - Santa Mônica
DESCRIPTION:
URL:https://ccnatacao.com.br/evento/campeonato-paranaense-de-inverno-infantil-senior/
LOCATION:Santa Mônica Clube de Campo\, Rod. Régis Bittencourt\, Km 6 - Bairro Mauá\, Colombo\, PR\, 83413-663\, Brasil
CATEGORIES:Infantil,Senior
ATTACH;FMTTYPE=image/webp:https://ccnatacao.com.br/wp-content/uploads/2025/01/piscina-santa-monica-.webp
ORGANIZER;CN="FDAP - Federa%C3%A7%C3%A3o de Desportos Aqu%C3%A1ticos do Paran%C3%A1":MAILTO:fdap@fdap.org.br
END:VEVENT
END:VCALENDAR