BEGIN:VCALENDAR
VERSION:2.0
PRODID:-//ccnatacao - ECPv6.15.17//NONSGML v1.0//EN
CALSCALE:GREGORIAN
METHOD:PUBLISH
X-WR-CALNAME:ccnatacao
X-ORIGINAL-URL:https://ccnatacao.com.br
X-WR-CALDESC:Eventos para ccnatacao
REFRESH-INTERVAL;VALUE=DURATION:PT1H
X-Robots-Tag:noindex
X-PUBLISHED-TTL:PT1H
BEGIN:VTIMEZONE
TZID:America/Sao_Paulo
BEGIN:STANDARD
TZOFFSETFROM:-0300
TZOFFSETTO:-0300
TZNAME:-03
DTSTART:20230101T000000
END:STANDARD
END:VTIMEZONE
BEGIN:VEVENT
DTSTART;TZID=America/Sao_Paulo:20241110T080000
DTEND;TZID=America/Sao_Paulo:20241110T120000
DTSTAMP:20260423T071542
CREATED:20240301T210841Z
LAST-MODIFIED:20240301T210844Z
UID:3200-1731225600-1731240000@ccnatacao.com.br
SUMMARY:Festival E+E=10
DESCRIPTION:O Festival E+E=10 promovido pela SMELJ da Prefeitura Municipal de Curitiba será realizado no Parque Aquático do Clube Curitibano.
URL:https://ccnatacao.com.br/evento/ee10-2024/
LOCATION:Clube Curitibano\, Av. Pres. Getúlio Vargas\, 2857\, Curitiba\, PR\, 80240-040\, Brasil
CATEGORIES:Infantil
ATTACH;FMTTYPE=image/jpeg:https://ccnatacao.com.br/wp-content/uploads/2024/03/EE10.jpg
END:VEVENT
BEGIN:VEVENT
DTSTART;TZID=America/Sao_Paulo:20241112T080000
DTEND;TZID=America/Sao_Paulo:20241116T190000
DTSTAMP:20260423T071542
CREATED:20240213T203417Z
LAST-MODIFIED:20240213T203711Z
UID:2999-1731398400-1731783600@ccnatacao.com.br
SUMMARY:Campeonato Brasileiro Infantil - Vitória - Troféu Maurício Bekenn 
DESCRIPTION:O Campeonato Brasileiro Infantil da CBDA – Troféu Maurício Bekenn – acontecerá no Complexo Aquático Do Clube Álvares Cabral.
URL:https://ccnatacao.com.br/evento/brasileiro-infantil-vitoria-2024/
LOCATION:Clube Náutico e Recreativo Álvares Cabral\, Av. Mal. Mascarenhas de Moraes\, 2100 - Bento Ferreira\, Vitória\, ES\, 29050-625\, Brasil
CATEGORIES:CBI,Infantil
ATTACH;FMTTYPE=image/jpeg:https://ccnatacao.com.br/wp-content/uploads/2024/02/vitoria-alvares-cabral-bras-infantil-cbda.jpg
END:VEVENT
END:VCALENDAR