BEGIN:VCALENDAR
VERSION:2.0
PRODID:-//ccnatacao - ECPv6.15.17//NONSGML v1.0//EN
CALSCALE:GREGORIAN
METHOD:PUBLISH
X-ORIGINAL-URL:https://ccnatacao.com.br
X-WR-CALDESC:Eventos para ccnatacao
REFRESH-INTERVAL;VALUE=DURATION:PT1H
X-Robots-Tag:noindex
X-PUBLISHED-TTL:PT1H
BEGIN:VTIMEZONE
TZID:America/Sao_Paulo
BEGIN:STANDARD
TZOFFSETFROM:-0300
TZOFFSETTO:-0300
TZNAME:-03
DTSTART:20230101T000000
END:STANDARD
END:VTIMEZONE
BEGIN:VEVENT
DTSTART;TZID=America/Sao_Paulo:20240919T080000
DTEND;TZID=America/Sao_Paulo:20240921T170000
DTSTAMP:20260423T103107
CREATED:20240213T212609Z
LAST-MODIFIED:20240716T111350Z
UID:3012-1726732800-1726938000@ccnatacao.com.br
SUMMARY:Campeonato Paranaense Infantil a Sênior - Troféu Paraná
DESCRIPTION:O Campeonato Paranaense Infantil a Sênior – Troféu Paraná da FDAP\, será na piscina olímpica do Clube Curitibano entre os dias 19 e 21 de Setembro.
URL:https://ccnatacao.com.br/evento/paranaense-infantil-senior-trofeu-parana-2024/
LOCATION:Clube Curitibano\, Av. Pres. Getúlio Vargas\, 2857\, Curitiba\, PR\, 80240-040\, Brasil
CATEGORIES:Infantil,Senior
ATTACH;FMTTYPE=image/jpeg:https://ccnatacao.com.br/wp-content/uploads/2024/02/piscina-Clube-Curitibano-6-FDAP.jpg
ORGANIZER;CN="FDAP - Federa%C3%A7%C3%A3o de Desportos Aqu%C3%A1ticos do Paran%C3%A1":MAILTO:fdap@fdap.org.br
END:VEVENT
BEGIN:VEVENT
DTSTART;TZID=America/Sao_Paulo:20240928T080000
DTEND;TZID=America/Sao_Paulo:20240929T180000
DTSTAMP:20260423T103107
CREATED:20240716T124029Z
LAST-MODIFIED:20240910T144756Z
UID:3926-1727510400-1727632800@ccnatacao.com.br
SUMMARY:Nata Sessions - Minas/Paineiras/Curitibano
DESCRIPTION:A primeira edição do Nata Sessions acontecerá no Clube Curitibano nos dias 28 e 29 de Setembro e contará com a presença do Minas Tênis Clube e Paineiras. A competição abrange as categoria Petiz e Infantil.
URL:https://ccnatacao.com.br/evento/nata-sessions-2024/
CATEGORIES:Infantil,Mirim,Petiz
ATTACH;FMTTYPE=image/jpeg:https://ccnatacao.com.br/wp-content/uploads/2024/07/Nata-Sessions-2024.jpg
ORGANIZER;CN="Clube Curitibano":MAILTO:natacao@clubecuritibano.com.br
END:VEVENT
END:VCALENDAR