BEGIN:VCALENDAR
VERSION:2.0
PRODID:-//ccnatacao - ECPv6.15.17//NONSGML v1.0//EN
CALSCALE:GREGORIAN
METHOD:PUBLISH
X-ORIGINAL-URL:https://ccnatacao.com.br
X-WR-CALDESC:Eventos para ccnatacao
REFRESH-INTERVAL;VALUE=DURATION:PT1H
X-Robots-Tag:noindex
X-PUBLISHED-TTL:PT1H
BEGIN:VTIMEZONE
TZID:America/Sao_Paulo
BEGIN:STANDARD
TZOFFSETFROM:-0300
TZOFFSETTO:-0300
TZNAME:-03
DTSTART:20230101T000000
END:STANDARD
END:VTIMEZONE
BEGIN:VEVENT
DTSTART;TZID=America/Sao_Paulo:20240302T070000
DTEND;TZID=America/Sao_Paulo:20240303T180000
DTSTAMP:20260423T195538
CREATED:20240210T215432Z
LAST-MODIFIED:20240301T222240Z
UID:2858-1709362800-1709488800@ccnatacao.com.br
SUMMARY:Torneio Regional Infantil a Sênior - FDAP
DESCRIPTION:O 1º Torneio Regional da 1ª Região Infantil a Sênior da FDAP será realizado em piscina curta no Parque Aquático do Clube Curitibano.
URL:https://ccnatacao.com.br/evento/regional-infantil-senior-fdap-202/
LOCATION:Clube Curitibano\, Av. Pres. Getúlio Vargas\, 2857\, Curitiba\, PR\, 80240-040\, Brasil
CATEGORIES:Infantil,Senior
ATTACH;FMTTYPE=image/jpeg:https://ccnatacao.com.br/wp-content/uploads/2024/02/Piscina-Clube-Curitibano-1-FDAP.jpg
ORGANIZER;CN="FDAP - Federa%C3%A7%C3%A3o de Desportos Aqu%C3%A1ticos do Paran%C3%A1":MAILTO:fdap@fdap.org.br
END:VEVENT
BEGIN:VEVENT
DTSTART;TZID=America/Sao_Paulo:20240323T080000
DTEND;TZID=America/Sao_Paulo:20240323T170000
DTSTAMP:20260423T195538
CREATED:20240210T225917Z
LAST-MODIFIED:20240324T182608Z
UID:2879-1711180800-1711213200@ccnatacao.com.br
SUMMARY:Regional Infantil a Sênior - FDAP
DESCRIPTION:O Torneio Regional Infantil a Sênior em piscina longa da FDAP foi realizado na piscina do Clube Curitibano no dia 23 de Março. \n\n\n\nClique aqui para ver os resultados\n\n\n\nInformações do Evento\n\n\nFDAP-918e424782f395e70ec56beb55a97fa8
URL:https://ccnatacao.com.br/evento/regional-infantil-senior-2024/
LOCATION:Clube Curitibano\, Av. Pres. Getúlio Vargas\, 2857\, Curitiba\, PR\, 80240-040\, Brasil
CATEGORIES:Infantil,Senior
ATTACH;FMTTYPE=image/jpeg:https://ccnatacao.com.br/wp-content/uploads/2024/02/piscina-Clube-Curitibano-3-FDAP.jpg
ORGANIZER;CN="FDAP - Federa%C3%A7%C3%A3o de Desportos Aqu%C3%A1ticos do Paran%C3%A1":MAILTO:fdap@fdap.org.br
END:VEVENT
END:VCALENDAR