BEGIN:VCALENDAR
VERSION:2.0
PRODID:-//ccnatacao - ECPv6.15.17//NONSGML v1.0//EN
CALSCALE:GREGORIAN
METHOD:PUBLISH
X-ORIGINAL-URL:https://ccnatacao.com.br
X-WR-CALDESC:Eventos para ccnatacao
REFRESH-INTERVAL;VALUE=DURATION:PT1H
X-Robots-Tag:noindex
X-PUBLISHED-TTL:PT1H
BEGIN:VTIMEZONE
TZID:America/Sao_Paulo
BEGIN:STANDARD
TZOFFSETFROM:-0300
TZOFFSETTO:-0300
TZNAME:-03
DTSTART:20220101T000000
END:STANDARD
END:VTIMEZONE
BEGIN:VEVENT
DTSTART;TZID=America/Sao_Paulo:20231201T080000
DTEND;TZID=America/Sao_Paulo:20231203T130000
DTSTAMP:20260424T004851
CREATED:20230710T131007Z
LAST-MODIFIED:20231130T001617Z
UID:1566-1701417600-1701608400@ccnatacao.com.br
SUMMARY:Torneio SuperParanaense Pré-Mirim a Sênior
DESCRIPTION:O Torneio Super-Paranaense Pré-Mirim a Sênior será realizado em Foz do Iguaçu de 01 a 03 de Dezembro de 2023. \n\n\n\nBalizamento\n\n\nBalizamentos-Finais-Completo\n \n\n\nCAMPEONATO-SUPER-PARANAENSE-DE-NATACAO
URL:https://ccnatacao.com.br/evento/super-paranaense-23/
LOCATION:Ginásio Costa Cavalcante – Foz do Iguaçu\, R. Lisboa - Jardim Alice I\, Foz do Iguaçu\, PR\, 5858-050\, Brasil
CATEGORIES:Infantil,Mirim,Petiz,Pré-Mirim
ATTACH;FMTTYPE=image/jpeg:https://ccnatacao.com.br/wp-content/uploads/2023/07/Super-Paranaense-FDAP.jpg
ORGANIZER;CN="FDAP - Federa%C3%A7%C3%A3o de Desportos Aqu%C3%A1ticos do Paran%C3%A1":MAILTO:fdap@fdap.org.br
END:VEVENT
END:VCALENDAR