BEGIN:VCALENDAR
VERSION:2.0
PRODID:-//ccnatacao - ECPv6.15.17//NONSGML v1.0//EN
CALSCALE:GREGORIAN
METHOD:PUBLISH
X-WR-CALNAME:ccnatacao
X-ORIGINAL-URL:https://ccnatacao.com.br
X-WR-CALDESC:Eventos para ccnatacao
REFRESH-INTERVAL;VALUE=DURATION:PT1H
X-Robots-Tag:noindex
X-PUBLISHED-TTL:PT1H
BEGIN:VTIMEZONE
TZID:America/Sao_Paulo
BEGIN:STANDARD
TZOFFSETFROM:-0300
TZOFFSETTO:-0300
TZNAME:-03
DTSTART:20220101T000000
END:STANDARD
END:VTIMEZONE
BEGIN:VEVENT
DTSTART;TZID=America/Sao_Paulo:20230613T080000
DTEND;TZID=America/Sao_Paulo:20230617T180000
DTSTAMP:20260424T104945
CREATED:20230406T004036Z
LAST-MODIFIED:20230620T213519Z
UID:795-1686643200-1687024800@ccnatacao.com.br
SUMMARY:Campeonato Brasileiro Infantil de Inverno
DESCRIPTION:A Confederação Brasileira de Desportos Aquáticos – CBDA – e a Federações Aquáticas Paulista promoveu o Campeonato Brasileiro INFANTIL de Natação de INVERNO\, em disputa do “TROFÉU RUBEN DINARD DE ARAÚJO”\, em Bauru na Arena ABDA\, entre os dias 12 e 17 de junho. \n\n\n\nAo todo\, 27 jovens atletas representaram as cores do Curitibano e alcançaram a 15ª posição no quadro geral\, totalizando 339 pontos\, de 108 Clubes participantes. \n\n\n\nOs destaques ficaram para: \n\n\n\n\nJoshua Capraro\, medalhista de ouro nos 50m livre;\n\n\n\nLaura Zaroni\, medalha de bronze nos 200m peito;\n\n\n\nBruno Vargas\, Leo Fernandes\, Ricardo Hamerschmidt e Joshua Capraro\, medalhistas de bronze no revezamento 4x 100m livre masculino.\n\n\n\n\nO Clube Curitibano parabeniza os 27 jovens atletas e sua comissão técnica na participação do Campeonato Brasileiro Interclubes Infantil de Inverno. \n\n\n\n\n\n\n\n\n\n \n\n\n\nO programa de provas deste Campeonato\, será disputado em 05 (cinco) dias\, 05 (cinco) etapas\, divulgadas no calendário oficial\, com as provas realizadas em suas respectivas datas\, eliminatórias realizadas pela manhã e finais no período da tarde\, com a exceção das provas de revezamentos – masculino\, feminino e misto\, e as provas de 800 e 1500 metros Livre que terão final direta. \n\n\n\nPROGRAMA DE PROVAS
URL:https://ccnatacao.com.br/evento/campeonato-brasileiro-infantil-de-inverno/
LOCATION:Arena ABDA\, R. Fábio Geraldo\, 2-12 - Jardim Solange\, Bauru\, SP\, 17054-686\, Brasil
CATEGORIES:Infantil
ATTACH;FMTTYPE=image/jpeg:https://ccnatacao.com.br/wp-content/uploads/2023/04/Rubens-Dinard-2023.jpg
END:VEVENT
END:VCALENDAR