BEGIN:VCALENDAR
VERSION:2.0
PRODID:-//ccnatacao - ECPv6.15.17//NONSGML v1.0//EN
CALSCALE:GREGORIAN
METHOD:PUBLISH
X-WR-CALNAME:ccnatacao
X-ORIGINAL-URL:https://ccnatacao.com.br
X-WR-CALDESC:Eventos para ccnatacao
REFRESH-INTERVAL;VALUE=DURATION:PT1H
X-Robots-Tag:noindex
X-PUBLISHED-TTL:PT1H
BEGIN:VTIMEZONE
TZID:America/Sao_Paulo
BEGIN:STANDARD
TZOFFSETFROM:-0300
TZOFFSETTO:-0300
TZNAME:-03
DTSTART:20220101T000000
END:STANDARD
END:VTIMEZONE
BEGIN:VEVENT
DTSTART;TZID=America/Sao_Paulo:20230428T080000
DTEND;TZID=America/Sao_Paulo:20230430T170000
DTSTAMP:20260424T141544
CREATED:20230327T011059Z
LAST-MODIFIED:20230430T173908Z
UID:413-1682668800-1682874000@ccnatacao.com.br
SUMMARY:Campeonato Paranaense - Infantil\, Juvenil\, Júnior e Sênior - Troféu Luciano Cabrini
DESCRIPTION: \n\n\n\nResultados\n\n\n\n\n \n\n\n\n\nhttps://www.swimtimebrasil.com/evento/natacao/37078 \n\n\n\nConfira as fotos da premiação de Índice Técnico:  \n\n\n\nMelhor Índice Técnico Feminino Infantil I – Mariana Stoberl\n\n\n\nMelhor Índice Técnico Feminino Infantil II – Pietra Ruschel Carvalho\n\n\n\nMelhor Índice Técnico Feminino Juvenil I – Valentina Albuquerque\n\n\n\nMelhor Índice Técnico Feminino Sênior – Giulia Salesi Chicon\n\n\n\nMelhor Índice Técnico Masculino Infantil II – Joshua Gomide Capraro\n\n\n\n \n\n\n\n\nMelhor Índice Técnico Masculino Juvenil II – Caio Rocha\n\n\n\n\n\n\n\nMelhor Índice Técnico Masculino Júnior I – Cauê Glück                                                                                                                                             \n\n\n\n\n\n\n\n\n                \n\n\n\n\n                             \n\n\n\n\n                           \n\n\n\n        \n\n\n\n \n\n\n\n\n\n\no_1gp5m722b195vm5ms1oi5dij0l\n\n\n\nBalizamento\n\n\nBalizamentos Finais (Completo)\n\n\n\nTroféu Luciano Cabrini.\n\n\n\n• Local do Evento: Clube Curitibano – Curitiba – PR | Entrada pela Rua República Argentina\, 561 \n\n\n\n• Website da Sede: www.clubecuritibano.com.br \n\n\n\nFormato do Evento \n\n\n\n• Formato de Balizamento: Infantil; Juvenil a Senior \n\n\n\n• Formato de Resultados: Subclasses Oficiais. \n\n\n\n• Formato das Fases: Final Direta. \n\n\nCamp Paranaense Inv-Inf-Sen-regulam-2023-R1-110423
URL:https://ccnatacao.com.br/evento/campeonato-paranaense-infantil-a-senior/
LOCATION:Clube Curitibano\, Av. Pres. Getúlio Vargas\, 2857\, Curitiba\, PR\, 80240-040\, Brasil
CATEGORIES:Infantil,Junior,Juvenil,Senior
ATTACH;FMTTYPE=image/jpeg:https://ccnatacao.com.br/wp-content/uploads/2023/03/Clube-Curitibano-Agua-Verde.jpeg
ORGANIZER;CN="FDAP - Federa%C3%A7%C3%A3o de Desportos Aqu%C3%A1ticos do Paran%C3%A1":MAILTO:fdap@fdap.org.br
END:VEVENT
END:VCALENDAR